{"text_format":"1","workbook":"xlsx","n_sheets":15,"sheets":["League News","More Stats","Riketorians","Arcane Sanctuary","Highlanders","Damn Yankees","District 5","Grumpy Old Men","Just Chillin","Slappers","Shawnee Tribe","Ravens","Boxscores","Weekly Calc","Total Calc"],"not_rendered":{"charts":0,"images":0,"macros":1,"external_links":0,"defined_names":0,"comments":0,"pivot_tables":0},"unopened":[],"bounds":{"document_bytes":16777216,"sheet_cells":100000,"rows_first":2000,"rows_last":500,"rows_between":2000,"halvings":0,"cell_chars":16384,"cell_head_chars":4096},"cells_cut":0,"cells_raw":0,"read":"whole","date_system":"1900"}

{"sheet":"League News","index":0,"n_rows":40,"n_cols":20,"rows_kept":40,"cut":false,"hidden":false,"merged":[[36,0,36,5],[39,0,39,5],[18,16,18,17],[40,6,40,13],[19,16,19,17],[37,14,37,19],[35,14,35,19],[38,14,38,19],[35,6,35,13],[39,6,39,13],[38,6,38,13],[36,6,36,13],[43,6,43,13],[43,0,43,5],[35,0,35,5],[41,14,41,19],[37,6,37,13],[42,14,42,19],[39,14,39,19],[36,14,36,19],[40,14,40,19],[42,6,42,13],[41,6,41,13],[38,0,38,5],[42,0,42,5],[40,0,40,5],[37,0,37,5],[41,0,41,5]]}
[]
[null,"Team Standings",null,null,null,null,null,null,"Scoring This Week",null,null,null,"Team Fees",null,null,"Box Scores Week 14"]
["Prince of Wales Conference"]
[null,"W","L","T","Pts","CP",null,"BPF","BPA","Streak",null,"Moves","Paid","Owed",null,"Just Chillin",28,16,18,62]
["Highlanders",{"$f":"Highlanders!B57","v":9},{"$f":"Highlanders!C57","v":5},{"$f":"Highlanders!D57","v":0},{"$f":"Highlanders!E57","v":18},{"$f":"Highlanders!F57","v":906},null,{"$f":"Highlanders!G57","v":796},{"$f":"Highlanders!H57","v":748},{"$f":"Highlanders!I57","v":"Lost  2"},null,5,100,17,null,"Shawnee Tribe",25,11,15,51]
["Just Chillin",{"$f":"'Just Chillin'!B57","v":8},{"$f":"'Just Chillin'!C57","v":6},{"$f":"'Just Chillin'!D57","v":0},{"$f":"'Just Chillin'!E57","v":16},{"$f":"'Just Chillin'!F57","v":959},null,{"$f":"'Just Chillin'!G57","v":849},{"$f":"'Just Chillin'!H57","v":722},{"$f":"'Just Chillin'!I57","v":"Won  3"},null,12,100,11]
["Riketorians",{"$f":"Riketorians!B57","v":6},{"$f":"Riketorians!C57","v":7},{"$f":"Riketorians!D57","v":1},{"$f":"Riketorians!E57","v":13},{"$f":"Riketorians!F57","v":807},null,{"$f":"Riketorians!G57","v":726},{"$f":"Riketorians!H57","v":755},{"$f":"Riketorians!I57","v":"Won  2"},null,20,100,0,null,"Damn Yankees",33,12,13,58]
["Shawnee Tribe",{"$f":"'Shawnee Tribe'!B57","v":5},{"$f":"'Shawnee Tribe'!C57","v":8},{"$f":"'Shawnee Tribe'!D57","v":1},{"$f":"'Shawnee Tribe'!E57","v":11},{"$f":"'Shawnee Tribe'!F57","v":766},null,{"$f":"'Shawnee Tribe'!G57","v":704},{"$f":"'Shawnee Tribe'!H57","v":778},{"$f":"'Shawnee Tribe'!I57","v":"Lost  2"},null,15,0,124,null,"District 5",36,7,16,59]
["Damn Yankees",{"$f":"'Damn Yankees'!B57","v":3},{"$f":"'Damn Yankees'!C57","v":10},{"$f":"'Damn Yankees'!D57","v":1},{"$f":"'Damn Yankees'!E57","v":7},{"$f":"'Damn Yankees'!F57","v":786},null,{"$f":"'Damn Yankees'!G57","v":700},{"$f":"'Damn Yankees'!H57","v":777},{"$f":"'Damn Yankees'!I57","v":"Lost  5"},null,4,140,7]
[null,null,null,null,null,null,null,null,null,null,null,null,null,null,null,"Riketorians",39,12,13,64]
["Campbell Conference",null,null,null,null,null,null,null,null,null,null,null,null,null,null,"Highlanders",38,14,5,57]
[null,"W","L","T","Pts","CP",null,"BPF","BPA","Streak",null,"Moves","Paid","Owed"]
["Grumpy Old Men",{"$f":"'Grumpy Old Men'!B57","v":10},{"$f":"'Grumpy Old Men'!C57","v":4},{"$f":"'Grumpy Old Men'!D57","v":0},{"$f":"'Grumpy Old Men'!E57","v":20},{"$f":"'Grumpy Old Men'!F57","v":903},null,{"$f":"'Grumpy Old Men'!G57","v":809},{"$f":"'Grumpy Old Men'!H57","v":766},{"$f":"'Grumpy Old Men'!I57","v":"Won  4"},null,18,0,105,null,"Arcane Sanctuary",19,9,2,30]
["District 5",{"$f":"'District 5'!B57","v":9},{"$f":"'District 5'!C57","v":5},{"$f":"'District 5'!D57","v":0},{"$f":"'District 5'!E57","v":18},{"$f":"'District 5'!F57","v":885},null,{"$f":"'District 5'!G57","v":787},{"$f":"'District 5'!H57","v":776},{"$f":"'District 5'!I57","v":"Won 1"},null,17,100,4,null,"Grumpy Old Men",43,9,7,59]
["Ravens",{"$f":"Ravens!B57","v":8},{"$f":"Ravens!C57","v":6},{"$f":"Ravens!D57","v":0},{"$f":"Ravens!E57","v":16},{"$f":"Ravens!F57","v":919},null,{"$f":"Ravens!G57","v":809},{"$f":"Ravens!H57","v":811},{"$f":"Ravens!I57","v":"Lost 1"},null,5,120,0]
["Slappers",{"$f":"Slappers!B57","v":7},{"$f":"Slappers!C57","v":5},{"$f":"Slappers!D57","v":2},{"$f":"Slappers!E57","v":16},{"$f":"Slappers!F57","v":900},null,{"$f":"Slappers!G57","v":819},{"$f":"Slappers!H57","v":768},{"$f":"Slappers!I57","v":"Won  2"},null,5,100,11,null,"Slappers",34,11,15,60]
["Arcane Sanctuary",{"$f":"'Arcane Sanctuary'!B57","v":2},{"$f":"'Arcane Sanctuary'!C57","v":11},{"$f":"'Arcane Sanctuary'!D57","v":1},{"$f":"'Arcane Sanctuary'!E57","v":5},{"$f":"'Arcane Sanctuary'!F57","v":680},null,{"$f":"'Arcane Sanctuary'!G57","v":656},{"$f":"'Arcane Sanctuary'!H57","v":753},{"$f":"'Arcane Sanctuary'!I57","v":"Lost  4"},null,12,100,0,null,"Ravens",31,11,15,57]
[]
[null,null,null,null,null,null,null,null,null,null,"Totals",null,{"$f":"SUM(M5:M17)","v":860},{"$f":"SUM(N5:N17)","v":279},null,"League Fees",100]
[null,null,null,null,null,null,null,null,null,null,null,null,null,null,null,"Total Prizes",{"$f":"M19+N19-Q19","v":1039}]
["Offensive Leaders",null,null,null,null,null,"Defensive Leaders",null,null,null,null,null,null,null,"Goaltender Leaders"]
[{"$f":"'Total Calc'!A2","v":"Leon Draisaitl"},null,{"$f":"'Total Calc'!B2","v":"(HGL)"},null,{"$f":"'Total Calc'!C2","v":92},null,{"$f":"'Total Calc'!E2","v":"Cale Makar"},null,null,{"$f":"'Total Calc'!F2","v":"(GOM)"},null,{"$f":"'Total Calc'!G2","v":63},null,null,{"$f":"'Total Calc'!I2","v":"Connor Hellebuyck"},null,{"$f":"'Total Calc'!J2","v":"(JCH)"},null,{"$f":"'Total Calc'!K2","v":170}]
[{"$f":"'Total Calc'!A3","v":"Mikko Rantanen"},null,{"$f":"'Total Calc'!B3","v":"(JCH)"},null,{"$f":"'Total Calc'!C3","v":78},null,{"$f":"'Total Calc'!E3","v":"Zach Werenski"},null,null,{"$f":"'Total Calc'!F3","v":"(JCH)"},null,{"$f":"'Total Calc'!G3","v":60},null,null,{"$f":"'Total Calc'!I3","v":"Filip Gustavsson"},null,{"$f":"'Total Calc'!J3","v":"(HGL)"},null,{"$f":"'Total Calc'!K3","v":138}]
[{"$f":"'Total Calc'!A4","v":"Nathan MacKinnon"},null,{"$f":"'Total Calc'!B4","v":"(ARS)"},null,{"$f":"'Total Calc'!C4","v":78},null,{"$f":"'Total Calc'!E4","v":"Quinn Hughes"},null,null,{"$f":"'Total Calc'!F4","v":"(RAV)"},null,{"$f":"'Total Calc'!G4","v":50},null,null,{"$f":"'Total Calc'!I4","v":"Jacob Markstrom"},null,{"$f":"'Total Calc'!J4","v":"(DI5)"},null,{"$f":"'Total Calc'!K4","v":135}]
[{"$f":"'Total Calc'!A5","v":"Kyle Connor"},null,{"$f":"'Total Calc'!B5","v":"(DI5)"},null,{"$f":"'Total Calc'!C5","v":77},null,{"$f":"'Total Calc'!E5","v":"Josh Morrissey"},null,null,{"$f":"'Total Calc'!F5","v":"(HGL)"},null,{"$f":"'Total Calc'!G5","v":40},null,null,{"$f":"'Total Calc'!I5","v":"Jake Oettinger"},null,{"$f":"'Total Calc'!J5","v":"(RAV)"},null,{"$f":"'Total Calc'!K5","v":125}]
[{"$f":"'Total Calc'!A6","v":"Mitch Marner"},null,{"$f":"'Total Calc'!B6","v":"(GOM)"},null,{"$f":"'Total Calc'!C6","v":75},null,{"$f":"'Total Calc'!E6","v":"Jakob Chychrun"},null,null,{"$f":"'Total Calc'!F6","v":"(RAV)"},null,{"$f":"'Total Calc'!G6","v":40},null,null,{"$f":"'Total Calc'!I6","v":"Andrei Vasilevskiy"},null,{"$f":"'Total Calc'!J6","v":"(RIK)"},null,{"$f":"'Total Calc'!K6","v":125}]
[]
["This Weeks Offensive Leaders",null,null,null,null,null,"This Weeks Defensive Leaders",null,null,null,null,null,null,null,"This Weeks Goaltending Leader"]
[{"$f":"'Weekly Calc'!A2","v":"Nick Suzuki"},null,{"$f":"'Weekly Calc'!B2","v":"(HGL)"},null,{"$f":"'Weekly Calc'!C2","v":12},null,{"$f":"'Weekly Calc'!E2","v":"Adam Fox"},null,null,{"$f":"'Weekly Calc'!F2","v":"(HGL)"},null,{"$f":"'Weekly Calc'!G2","v":6},null,null,{"$f":"'Weekly Calc'!I2","v":"Connor Hellebuyck"},null,{"$f":"'Weekly Calc'!J2","v":"(JCH)"},null,{"$f":"'Weekly Calc'!K2","v":18}]
[{"$f":"'Weekly Calc'!A3","v":"David Pastrnak"},null,{"$f":"'Weekly Calc'!B3","v":"(SLP)"},null,{"$f":"'Weekly Calc'!C3","v":9},null,{"$f":"'Weekly Calc'!E3","v":"Lane Hutson"},null,null,{"$f":"'Weekly Calc'!F3","v":"(SHW)"},null,{"$f":"'Weekly Calc'!G3","v":5},null,null,{"$f":"'Weekly Calc'!I3","v":"Ilya Sorokin"},null,{"$f":"'Weekly Calc'!J3","v":"(DI5)"},null,{"$f":"'Weekly Calc'!K3","v":16}]
[{"$f":"'Weekly Calc'!A4","v":"Vincent Trocheck"},null,{"$f":"'Weekly Calc'!B4","v":"(GOM)"},null,{"$f":"'Weekly Calc'!C4","v":8},null,{"$f":"'Weekly Calc'!E4","v":"Zach Werenski"},null,null,{"$f":"'Weekly Calc'!F4","v":"(JCH)"},null,{"$f":"'Weekly Calc'!G4","v":5},null,null,{"$f":"'Weekly Calc'!I4","v":"Dustin Wolf"},null,{"$f":"'Weekly Calc'!J4","v":"(SLP)"},null,{"$f":"'Weekly Calc'!K4","v":15}]
[{"$f":"'Weekly Calc'!A5","v":"Patrick Kane"},null,{"$f":"'Weekly Calc'!B5","v":"(HGL)"},null,{"$f":"'Weekly Calc'!C5","v":8},null,{"$f":"'Weekly Calc'!E5","v":"Quinn Hughes"},null,null,{"$f":"'Weekly Calc'!F5","v":"(RAV)"},null,{"$f":"'Weekly Calc'!G5","v":5},null,null,{"$f":"'Weekly Calc'!I5","v":"Logan Thompson"},null,{"$f":"'Weekly Calc'!J5","v":"(RAV)"},null,{"$f":"'Weekly Calc'!K5","v":15}]
[{"$f":"'Weekly Calc'!A6","v":"Bo Horvat"},null,{"$f":"'Weekly Calc'!B6","v":"(GOM)"},null,{"$f":"'Weekly Calc'!C6","v":8},null,{"$f":"'Weekly Calc'!E6","v":"Devon Toews"},null,null,{"$f":"'Weekly Calc'!F6","v":"(GOM)"},null,{"$f":"'Weekly Calc'!G6","v":5},null,null,{"$f":"'Weekly Calc'!I6","v":"Igor Shesterkin"},null,{"$f":"'Weekly Calc'!J6","v":"(SHW)"},null,{"$f":"'Weekly Calc'!K6","v":15}]
[]
["Transactions"]
["Damn Yankees: Release Fiala sign Jonathan Huberdeau"]
["Slappers: IR Guenther sign Dmitri Voronkov"]
["Ravens: IR Monahan sign Anders Lee"]
["Highlanders: Release Palmieri activate Petterson"]
["Slappers: Release Ekblad sign Ivan Provorov"]

{"sheet":"More Stats","index":1,"n_rows":59,"n_cols":11,"rows_kept":59,"cut":false,"hidden":false,"merged":[]}
[null,"Team Offense",null,null,null,"Team Defense",null,null,null,"Team Goalie"]
["Slappers",null,{"$f":"Slappers!R34","v":536},null,"Grumpy Old Men",null,{"$f":"'Grumpy Old Men'!R35","v":196},null,"Just Chillin",null,{"$f":"'Just Chillin'!R38","v":258}]
["Just Chillin",null,{"$f":"'Just Chillin'!R34","v":517},null,"Slappers",null,{"$f":"Slappers!R35","v":188},null,"District 5",null,{"$f":"'District 5'!R38","v":223}]
["Ravens",null,{"$f":"Ravens!R34","v":515},null,"Highlanders",null,{"$f":"Highlanders!R35","v":187},null,"Ravens",null,{"$f":"Ravens!R38","v":222}]
["Highlanders",null,{"$f":"Highlanders!R34","v":513},null,"Just Chillin",null,{"$f":"'Just Chillin'!R35","v":184},null,"Highlanders",null,{"$f":"Highlanders!R38","v":206}]
["Grumpy Old Men",null,{"$f":"'Grumpy Old Men'!R34","v":512},null,"Ravens",null,{"$f":"Ravens!R35","v":182},null,"Riketorians",null,{"$f":"Riketorians!R38","v":205}]
["District 5",null,{"$f":"'District 5'!R34","v":501},null,"Shawnee Tribe",null,{"$f":"'Shawnee Tribe'!R35","v":168},null,"Grumpy Old Men",null,{"$f":"'Grumpy Old Men'!R38","v":195}]
["Riketorians",null,{"$f":"Riketorians!R34","v":484},null,"Damn Yankees",null,{"$f":"'Damn Yankees'!R35","v":162},null,"Slappers",null,{"$f":"Slappers!R38","v":176}]
["Damn Yankees",null,{"$f":"'Damn Yankees'!R34","v":459},null,"District 5",null,{"$f":"'District 5'!R35","v":161},null,"Shawnee Tribe",null,{"$f":"'Shawnee Tribe'!R38","v":175}]
["Arcane Sanctuary",null,{"$f":"'Arcane Sanctuary'!R34","v":455},null,"Arcane Sanctuary",null,{"$f":"'Arcane Sanctuary'!R35","v":138},null,"Damn Yankees",null,{"$f":"'Damn Yankees'!R38","v":165}]
["Shawnee Tribe",null,{"$f":"'Shawnee Tribe'!R34","v":423},null,"Riketorians",null,{"$f":"Riketorians!R35","v":118},null,"Arcane Sanctuary",null,{"$f":"'Arcane Sanctuary'!R38","v":87}]
[]
[null,"Offensive Goals",null,null,null,"Defensive Goals",null,null,null,"Team Goals"]
["Ravens",null,{"$f":"Ravens!K34","v":186},null,"Slappers",null,{"$f":"Slappers!K35","v":38},null,"Ravens",null,{"$f":"Ravens!K36","v":222}]
["Just Chillin",null,{"$f":"'Just Chillin'!K34","v":181},null,"Ravens",null,{"$f":"Ravens!K35","v":36},null,"Just Chillin",null,{"$f":"'Just Chillin'!K36","v":215}]
["Highlanders",null,{"$f":"Highlanders!K34","v":156},null,"Grumpy Old Men",null,{"$f":"'Grumpy Old Men'!K35","v":35},null,"Slappers",null,{"$f":"Slappers!K36","v":192}]
["District 5",null,{"$f":"'District 5'!K34","v":156},null,"Damn Yankees",null,{"$f":"'Damn Yankees'!K35","v":35},null,"Grumpy Old Men",null,{"$f":"'Grumpy Old Men'!K36","v":189}]
["Slappers",null,{"$f":"Slappers!K34","v":154},null,"Just Chillin",null,{"$f":"'Just Chillin'!K35","v":34},null,"District 5",null,{"$f":"'District 5'!K36","v":188}]
["Grumpy Old Men",null,{"$f":"'Grumpy Old Men'!K34","v":154},null,"Shawnee Tribe",null,{"$f":"'Shawnee Tribe'!K35","v":33},null,"Damn Yankees",null,{"$f":"'Damn Yankees'!K36","v":188}]
["Arcane Sanctuary",null,{"$f":"'Arcane Sanctuary'!K34","v":153},null,"District 5",null,{"$f":"'District 5'!K35","v":32},null,"Highlanders",null,{"$f":"Highlanders!K36","v":182}]
["Damn Yankees",null,{"$f":"'Damn Yankees'!K34","v":153},null,"Arcane Sanctuary",null,{"$f":"'Arcane Sanctuary'!K35","v":28},null,"Arcane Sanctuary",null,{"$f":"'Arcane Sanctuary'!K36","v":181}]
["Riketorians",null,{"$f":"Riketorians!K34","v":142},null,"Highlanders",null,{"$f":"Highlanders!K35","v":26},null,"Shawnee Tribe",null,{"$f":"'Shawnee Tribe'!K36","v":166}]
["Shawnee Tribe",null,{"$f":"'Shawnee Tribe'!K34","v":133},null,"Riketorians",null,{"$f":"Riketorians!K35","v":18},null,"Riketorians",null,{"$f":"Riketorians!K36","v":160}]
[]
[null,"Offensive Assists",null,null,null,"Defensive Assists",null,null,null,"Team Assists"]
["Slappers",null,{"$f":"Slappers!L34","v":265},null,"Highlanders",null,{"$f":"Highlanders!L35","v":149},null,"Slappers",null,{"$f":"Slappers!L36","v":386}]
["Riketorians",null,{"$f":"Riketorians!L34","v":240},null,"Grumpy Old Men",null,{"$f":"'Grumpy Old Men'!L35","v":129},null,"Highlanders",null,{"$f":"Highlanders!L36","v":365}]
["District 5",null,{"$f":"'District 5'!L34","v":238},null,"Shawnee Tribe",null,{"$f":"'Shawnee Tribe'!L35","v":127},null,"Grumpy Old Men",null,{"$f":"'Grumpy Old Men'!L36","v":360}]
["Damn Yankees",null,{"$f":"'Damn Yankees'!L34","v":231},null,"Ravens",null,{"$f":"Ravens!L35","v":122},null,"District 5",null,{"$f":"'District 5'!L36","v":345}]
["Grumpy Old Men",null,{"$f":"'Grumpy Old Men'!L34","v":231},null,"Just Chillin",null,{"$f":"'Just Chillin'!L35","v":122},null,"Just Chillin",null,{"$f":"'Just Chillin'!L36","v":342}]
["Just Chillin",null,{"$f":"'Just Chillin'!L34","v":220},null,"Slappers",null,{"$f":"Slappers!L35","v":121},null,"Damn Yankees",null,{"$f":"'Damn Yankees'!L36","v":340}]
["Highlanders",null,{"$f":"Highlanders!L34","v":216},null,"Damn Yankees",null,{"$f":"'Damn Yankees'!L35","v":109},null,"Ravens",null,{"$f":"Ravens!L36","v":329}]
["Ravens",null,{"$f":"Ravens!L34","v":207},null,"District 5",null,{"$f":"'District 5'!L35","v":107},null,"Riketorians",null,{"$f":"Riketorians!L36","v":327}]
["Shawnee Tribe",null,{"$f":"'Shawnee Tribe'!L34","v":199},null,"Arcane Sanctuary",null,{"$f":"'Arcane Sanctuary'!L35","v":95},null,"Shawnee Tribe",null,{"$f":"'Shawnee Tribe'!L36","v":326}]
["Arcane Sanctuary",null,{"$f":"'Arcane Sanctuary'!L34","v":185},null,"Riketorians",null,{"$f":"Riketorians!L35","v":87},null,"Arcane Sanctuary",null,{"$f":"'Arcane Sanctuary'!L36","v":280}]
[]
[null,"Offensive PP Goals",null,null,null,"Defensive PP Goals",null,null,null,"Team PP Goals"]
["Just Chillin",null,{"$f":"'Just Chillin'!M34","v":57},null,"Slappers",null,{"$f":"Slappers!M35","v":13},null,"Just Chillin",null,{"$f":"'Just Chillin'!M36","v":67}]
["Ravens",null,{"$f":"Ravens!M34","v":55},null,"Grumpy Old Men",null,{"$f":"'Grumpy Old Men'!M35","v":11},null,"Ravens",null,{"$f":"Ravens!M36","v":65}]
["Highlanders",null,{"$f":"Highlanders!M34","v":54},null,"Just Chillin",null,{"$f":"'Just Chillin'!M35","v":10},null,"Grumpy Old Men",null,{"$f":"'Grumpy Old Men'!M36","v":62}]
["Grumpy Old Men",null,{"$f":"'Grumpy Old Men'!M34","v":51},null,"Ravens",null,{"$f":"Ravens!M35","v":10},null,"Slappers",null,{"$f":"Slappers!M36","v":57}]
["Slappers",null,{"$f":"Slappers!M34","v":44},null,"District 5",null,{"$f":"'District 5'!M35","v":9},null,"Highlanders",null,{"$f":"Highlanders!M36","v":56}]
["District 5",null,{"$f":"'District 5'!M34","v":42},null,"Damn Yankees",null,{"$f":"'Damn Yankees'!M35","v":5},null,"District 5",null,{"$f":"'District 5'!M36","v":51}]
["Riketorians",null,{"$f":"Riketorians!M34","v":42},null,"Riketorians",null,{"$f":"Riketorians!M35","v":5},null,"Riketorians",null,{"$f":"Riketorians!M36","v":47}]
["Shawnee Tribe",null,{"$f":"'Shawnee Tribe'!M34","v":37},null,"Shawnee Tribe",null,{"$f":"'Shawnee Tribe'!M35","v":3},null,"Shawnee Tribe",null,{"$f":"'Shawnee Tribe'!M36","v":40}]
["Arcane Sanctuary",null,{"$f":"'Arcane Sanctuary'!M34","v":34},null,"Highlanders",null,{"$f":"Highlanders!M35","v":2},null,"Arcane Sanctuary",null,{"$f":"'Arcane Sanctuary'!M36","v":35}]
["Damn Yankees",null,{"$f":"'Damn Yankees'!M34","v":27},null,"Arcane Sanctuary",null,{"$f":"'Arcane Sanctuary'!M35","v":1},null,"Damn Yankees",null,{"$f":"'Damn Yankees'!M36","v":32}]
[]
[null,"Boxscore Points For",null,null,null,"Boxscore Points Against",null,null,null,"Boxscore Points Differential"]
["Just Chillin",null,{"$f":"'Just Chillin'!G57","v":849},null,"Just Chillin",null,{"$f":"'Just Chillin'!H57","v":722},null,"Just Chillin",null,{"$f":"'Just Chillin'!G57-'Just Chillin'!H57","v":127}]
["Slappers",null,{"$f":"Slappers!G57","v":819},null,"Highlanders",null,{"$f":"Highlanders!H57","v":748},null,"Slappers",null,{"$f":"Slappers!G57-Slappers!H57","v":51}]
["Ravens",null,{"$f":"Ravens!G57","v":809},null,"Arcane Sanctuary",null,{"$f":"'Arcane Sanctuary'!H57","v":753},null,"Highlanders",null,{"$f":"Highlanders!G57-Highlanders!H57","v":48}]
["Grumpy Old Men",null,{"$f":"'Grumpy Old Men'!G57","v":809},null,"Riketorians",null,{"$f":"Riketorians!H57","v":755},null,"Grumpy Old Men",null,{"$f":"'Grumpy Old Men'!G57-'Grumpy Old Men'!H57","v":43}]
["Highlanders",null,{"$f":"Highlanders!G57","v":796},null,"Grumpy Old Men",null,{"$f":"'Grumpy Old Men'!H57","v":766},null,"District 5",null,{"$f":"'District 5'!G57-'District 5'!H57","v":11}]
["District 5",null,{"$f":"'District 5'!G57","v":787},null,"Slappers",null,{"$f":"Slappers!H57","v":768},null,"Ravens",null,{"$f":"Ravens!G57-Ravens!H57","v":-2}]
["Riketorians",null,{"$f":"Riketorians!G57","v":726},null,"District 5",null,{"$f":"'District 5'!H57","v":776},null,"Riketorians",null,{"$f":"Riketorians!G57-Riketorians!H57","v":-29}]
["Shawnee Tribe",null,{"$f":"'Shawnee Tribe'!G57","v":704},null,"Damn Yankees",null,{"$f":"'Damn Yankees'!H57","v":777},null,"Shawnee Tribe",null,{"$f":"'Shawnee Tribe'!G57-'Shawnee Tribe'!H57","v":-74}]
["Damn Yankees",null,{"$f":"'Damn Yankees'!G57","v":700},null,"Shawnee Tribe",null,{"$f":"'Shawnee Tribe'!H57","v":778},null,"Damn Yankees",null,{"$f":"'Damn Yankees'!G57-'Damn Yankees'!H57","v":-77}]
["Arcane Sanctuary",null,{"$f":"'Arcane Sanctuary'!G57","v":656},null,"Ravens",null,{"$f":"Ravens!H57","v":811},null,"Arcane Sanctuary",null,{"$f":"'Arcane Sanctuary'!G57-'Arcane Sanctuary'!H57","v":-97}]

{"sheet":"Riketorians","index":2,"n_rows":78,"n_cols":18,"rows_kept":78,"cut":false,"hidden":false,"merged":[[77,3,77,4],[77,7,77,8],[77,11,77,12],[77,15,77,16],[75,3,75,4],[75,7,75,8],[75,11,75,12],[75,15,75,16],[76,3,76,4],[76,7,76,8],[76,11,76,12],[76,15,76,16],[72,3,72,4],[72,7,72,8],[72,11,72,12],[72,15,72,16],[73,3,73,4],[73,7,73,8],[73,11,73,12],[73,15,73,16],[69,3,69,4],[69,7,69,8],[69,11,69,12],[69,15,69,16],[71,3,71,4],[71,7,71,8],[71,11,71,12],[71,15,71,16],[67,3,67,4],[67,7,67,8],[67,11,67,12],[67,15,67,16],[68,3,68,4],[68,7,68,8],[68,11,68,12],[68,15,68,16],[64,3,64,4],[64,7,64,8],[64,11,64,12],[64,15,64,16],[65,3,65,4],[65,7,65,8],[65,11,65,12],[65,15,65,16],[61,3,61,4],[61,7,61,8],[61,11,61,12],[61,15,61,16],[63,3,63,4],[63,7,63,8],[63,11,63,12],[63,15,63,16],[59,3,59,4],[59,7,59,8],[59,11,59,12],[59,15,59,16],[60,3,60,4],[60,7,60,8],[60,11,60,12],[60,15,60,16]]}
["Team: Riketorians",null,null,"General Manager: Jonathan Riker"]
[]
[null,null,null,"Scoring This Week",null,null,null,null,null,null,null,null,null,"Players Overall Scoring"]
["Forwards","Gls","Ast","PP","SH","GW","OT","PSG","PTS",null,"Gls","Ast","PP","SH","GW","OT","PSG","PTS"]
["Artemi Panarin",1,5,1,0,0,0,0,{"$f":"(B5+C5+D5+(2*E5)+(2*F5)+G5+(4*H5))","v":7},null,17,28,6,0,1,0,0,{"$f":"(K5+L5+M5+(2*N5)+(2*O5)+P5+(4*Q5))","v":53}]
["Sidney Crosby",1,4,1,0,0,0,0,{"$f":"(B6+C6+D6+(2*E6)+(2*F6)+G6+(4*H6))","v":6},null,12,35,6,0,3,2,0,{"$f":"(K6+L6+M6+(2*N6)+(2*O6)+P6+(4*Q6))","v":61}]
["Mats Zuccarello",1,4,0,0,0,0,0,{"$f":"(B7+C7+D7+(2*E7)+(2*F7)+G7+(4*H7))","v":5},null,11,19,2,0,3,0,0,{"$f":"(K7+L7+M7+(2*N7)+(2*O7)+P7+(4*Q7))","v":38}]
["Adrian Kempe",1,1,0,0,1,1,0,{"$f":"(B8+C8+D8+(2*E8)+(2*F8)+G8+(4*H8))","v":5},null,20,19,2,1,2,1,0,{"$f":"(K8+L8+M8+(2*N8)+(2*O8)+P8+(4*Q8))","v":48}]
["Connor McDavid",1,3,1,0,0,0,0,{"$f":"(B9+C9+D9+(2*E9)+(2*F9)+G9+(4*H9))","v":5},null,16,42,6,0,2,0,0,{"$f":"(K9+L9+M9+(2*N9)+(2*O9)+P9+(4*Q9))","v":68}]
["Brock Nelson",2,2,0,0,0,0,0,{"$f":"(B10+C10+D10+(2*E10)+(2*F10)+G10+(4*H10))","v":4},null,12,13,1,2,2,0,0,{"$f":"(K10+L10+M10+(2*N10)+(2*O10)+P10+(4*Q10))","v":34}]
["Connor Bedard",1,3,0,0,0,0,0,{"$f":"(B11+C11+D11+(2*E11)+(2*F11)+G11+(4*H11))","v":4},null,11,27,4,0,3,0,0,{"$f":"(K11+L11+M11+(2*N11)+(2*O11)+P11+(4*Q11))","v":48}]
["Alexis Lafrenière",2,1,0,0,0,0,0,{"$f":"(B12+C12+D12+(2*E12)+(2*F12)+G12+(4*H12))","v":3},null,11,13,2,0,2,0,0,{"$f":"(K12+L12+M12+(2*N12)+(2*O12)+P12+(4*Q12))","v":30}]
["Ryan Nugent-Hopkins",1,1,1,0,0,0,0,{"$f":"(B13+C13+D13+(2*E13)+(2*F13)+G13+(4*H13))","v":3},null,11,13,5,0,3,1,0,{"$f":"(K13+L13+M13+(2*N13)+(2*O13)+P13+(4*Q13))","v":36}]
["Claude Giroux",0,3,0,0,0,0,0,{"$f":"(B14+C14+D14+(2*E14)+(2*F14)+G14+(4*H14))","v":3},null,9,18,2,0,1,0,0,{"$f":"(K14+L14+M14+(2*N14)+(2*O14)+P14+(4*Q14))","v":31}]
["Ryan OReilly",0,0,0,0,0,0,0,{"$f":"(B15+C15+D15+(2*E15)+(2*F15)+G15+(4*H15))","v":0},null,12,13,6,0,3,0,0,{"$f":"(K15+L15+M15+(2*N15)+(2*O15)+P15+(4*Q15))","v":37}]
[]
[]
["Defense","Gls","Ast","PP","SH","GW","OT","PSG","PTS",null,"Gls","Ast","PP","SH","GW","OT","PSG","PTS"]
["Erik Karlsson",1,4,0,0,0,0,0,{"$f":"(B19+C19+D19+(2*E19)+(2*F19)+G19+(4*H19))","v":5},null,4,27,1,0,0,0,0,{"$f":"(K19+L19+M19+(2*N19)+(2*O19)+P19+(4*Q19))","v":32}]
["Alexander Romanov",0,3,0,0,0,0,0,{"$f":"(B20+C20+D20+(2*E20)+(2*F20)+G20+(4*H20))","v":3},null,0,9,0,0,0,0,0,{"$f":"(K20+L20+M20+(2*N20)+(2*O20)+P20+(4*Q20))","v":9}]
["Marcus Pettersson",0,2,0,0,0,0,0,{"$f":"(B21+C21+D21+(2*E21)+(2*F21)+G21+(4*H21))","v":2},null,2,13,0,0,1,0,0,{"$f":"(K21+L21+M21+(2*N21)+(2*O21)+P21+(4*Q21))","v":17}]
["Dylan DeMelo",0,1,0,0,0,0,0,{"$f":"(B22+C22+D22+(2*E22)+(2*F22)+G22+(4*H22))","v":1},null,1,7,0,0,1,0,0,{"$f":"(K22+L22+M22+(2*N22)+(2*O22)+P22+(4*Q22))","v":10}]
["Chris Tanev",0,1,0,0,0,0,0,{"$f":"(B23+C23+D23+(2*E23)+(2*F23)+G23+(4*H23))","v":1},null,1,12,0,0,0,0,0,{"$f":"(K23+L23+M23+(2*N23)+(2*O23)+P23+(4*Q23))","v":13}]
["Brady Skjei",0,0,0,0,0,0,0,{"$f":"(B24+C24+D24+(2*E24)+(2*F24)+G24+(4*H24))","v":0},null,3,10,1,0,1,0,0,{"$f":"(K24+L24+M24+(2*N24)+(2*O24)+P24+(4*Q24))","v":16}]
["Kris Letang",0,0,0,0,0,0,0,{"$f":"(B25+C25+D25+(2*E25)+(2*F25)+G25+(4*H25))","v":0},null,7,9,3,1,0,0,0,{"$f":"(K25+L25+M25+(2*N25)+(2*O25)+P25+(4*Q25))","v":21}]
[]
["Goalie","W","OT","SO","Gls","Ast","GAA","SP","PTS",null,"W","OT","SO","Gls","Ast","GAA","SP","PTS"]
["Andrei Vasilevskiy",2,1,0,0,0,1.97,0.92900000000000005,{"$f":"((3*B28)+C28+(3*D28)+(10*E28)+(3*F28)+G29+H29)","v":13},null,18,2,2,0,0,2.33,0.91500000000000004,{"$f":"((3*K28)+L28+(3*M28)+(10*N28)+(3*O28)+P29+Q29)","v":125}]
[null,6,182.71000000000004,79,85,null,3,3,{"$f":"((3*B28)+C28+(3*D28)+(10*E28)+(3*F28)+G29+H29)","v":13},null,null,null,null,null,null,29,34,{"$f":"((2*K28)+L28+(3*M28)+(10*N28)+(3*O28)+P29+Q29)","v":107}]
["Jordan Binnington",0,0,0,0,0,3.71,0.873,{"$f":"((3*B30)+C30+(3*D30)+(10*E30)+(3*F30)+G31+H31)","v":0},null,11,3,3,0,0,2.85,0.89700000000000002,{"$f":"((3*K30)+L30+(3*M30)+(10*N30)+(3*O30)+P31+Q31)","v":80}]
[null,7,113.25,48,55,null,0,0,{"$f":"((3*B30)+C30+(3*D30)+(10*E30)+(3*F30)+G31+H31)","v":0},null,null,null,null,null,null,16,19,{"$f":"((2*K30)+L30+(3*M30)+(10*N30)+(3*O30)+P31+Q31)","v":69}]
[null,null,null,"All Playes Scoring This Week",null,null,null,null,null,null,null,null,null,"Cumulative Points"]
[null,"Gls","Ast","PP","SH","GW","OT","PSG",null,null,"Gls","Ast","PP","SH","GW","OT","PSG","PTS"]
["Forwards",{"$f":"SUM(B5:B15)","v":11},{"$f":"SUM(C5:C15)","v":27},4,0,1,1,0,null,null,142,240,42,3,25,4,0,{"$f":"(K34+L34+M34+(2*N34)+(2*O34)+P34+(4*Q34))","v":484}]
["Defense",{"$f":"SUM(B19:B25)","v":1},{"$f":"SUM(C19:C25)","v":11},0,0,0,0,0,null,null,18,87,5,1,3,0,0,{"$f":"(K35+L35+M35+(2*N35)+(2*O35)+P35+(4*Q35))","v":118}]
["Total Scorers",{"$f":"SUM(B34:B35)","v":12},{"$f":"SUM(C34:C35)","v":38},4,0,1,1,0,null,null,{"$f":"SUM(K34:K35)","v":160},327,47,4,28,4,0,{"$f":"(K36+L36+M36+(2*N36)+(2*O36)+P36+(4*Q36))","v":602}]
[null,"W","OT","SO","Gls","Ast","GAA","SP",null,null,"W","OT","SO","Gls","Ast","GAA","SP","PTS"]
["Goalie Totals",{"$f":"SUM(B28,B30)","v":2},{"$f":"SUM(C28,C30)","v":1},{"$f":"SUM(D28,D30)","v":0},{"$f":"SUM(E28,E30)","v":0},{"$f":"SUM(F28,F30)","v":0},{"$f":"IF(C39=0,0,B39/(C39/60))","v":2.6354912826057575},{"$f":"IF(E39=0,0,D39/E39)","v":0.90714285714285714},null,null,29,5,5,0,0,{"$f":"IF(L39=0,0,K39/(L39/60))","v":2.5828951311881863},{"$f":"IF(N39=0,0,M39/N39)","v":0.9066032123735871},{"$f":"((3*K38)+L38+(3*M38)+(10*N38)+(3*O38)+P39+Q39)","v":205}]
[null,{"$f":"SUM(B29,B31)","v":13},{"$f":"SUM(C29,C31)","v":295.96000000000004},{"$f":"SUM(D29,D31)","v":127},{"$f":"SUM(E29,E31)","v":140},null,null,null,null,null,158,3670.3,1524,1681,null,45,53]
[null,null,null,null,null,null,null,null,null,null,"GA","Time","Saves","Shots"]
[]
[null,"Injured Reserve",null,null,null,null,null,null,null,null,null,null,"This Weeks Totals"]
["Player","P","GP","IR Weeks","Pts",null,null,null,null,null,null,"Forwards",null,{"$f":"SUM(I5:I12)","v":39}]
[null,"F",null,null,null,null,null,null,null,null,null,"Defense",null,{"$f":"SUM(I19:I23)","v":12}]
[null,"D",null,null,null,null,null,null,null,null,null,"Goalie",null,{"$f":"I28","v":13}]
[null,"G"]
[null,"Flex",null,null,null,null,null,null,null,null,null,"Total Points",null,{"$f":"SUM(N43:N45)","v":64}]
[]
[]
[]
[]
[]
[]
[]
[]
["Team Record","W","L","T","Pts","CP","BPF","BFA","Streak"]
["Riketorians",6,7,1,{"$f":"2*B57+D57","v":13},{"$f":"R36+R38","v":807},{"$f":"SUM(B61,B65,B69,B73,B77,F61,F65,F69,F73,F77,J61,J65,J69,J73,J77,N61,N65,N69,N73,N77,R61,R65)","v":726},{"$f":"SUM(B62,B66,B70,B74,B78,F62,F66,F70,F74,F78,J62,J66,J70,J74,J78,N62,N66,N70,N74,N78,R62,R66)","v":755},"Won  2"]
[]
[]
["Game 1","Score",null,"Game 6        ",null,"Score",null,"Game 11   ",null,"Score",null,"Game 16",null,"Score",null,"Game 21",null,"Score"]
["Riketorians",49,null,"Riketorians",null,50,null,"Riketorians",null,40,null,"Riketorians",null,0,null,"Riketorians",null,0]
["Damn Yankees",38,null,"Arcane Sanctuary",null,44,null,"Grumpy Old Men",null,44,null,"District 5",null,0,null,"Damn Yankees",null,0]
[]
["Game 2","Score",null,"Game 7       ",null,"Score",null,"Game 12",null,"Score",null,"Game 17",null,"Score",null,"Game 22",null,"Score"]
["Riketorians",60,null,"Riketorians",null,46,null,"Riketorians",null,44,null,"Riketorians",null,0,null,"Riketorians",null,0]
["Grumpy Old Men",63,null,"District 5",null,52,null,"Shawnee Tribe",null,44,null,"Slappers",null,0,null,"Highlanders",null,0]
[]
["Game 3","Score",null,"Game 8       ",null,"Score",null,"Game 13",null,"Score",null,"Game 18",null,"Score"]
["Riketorians",46,null,"Riketorians",null,63,null,"Riketorians",null,74,null,"Riketorians",null,0]
["Shawnee Tribe",60,null,"Just Chillin",null,61,null,"Damn Yankees",null,71,null,"Just Chillin",null,0]
[]
["Game 4","Score",null,"Game 9    ",null,"Score",null,"Game 14",null,"Score",null,"Game 19",null,"Score"]
["Riketorians",53,null,"Riketorians",null,47,null,"Riketorians",null,64,null,"Riketorians",null,0]
["Just Chillin",52,null,"Ravens",null,52,null,"Highlanders",null,57,null,"Arcane Sanctuary",null,0]
[]
["Game 5","Score",null,"Game 10   ",null,"Score",null,"Game 15",null,"Score",null,"Game 20",null,"Score"]
["Riketorians",41,null,"Riketorians",null,49,null,"Riketorians",null,0,null,"Riketorians",null,0]
["Highlanders",60,null,"Slappers",null,57,null,"Shawnee Tribe",null,0,null,"Ravens",null,0]

{"sheet":"Arcane Sanctuary","index":3,"n_rows":78,"n_cols":18,"rows_kept":78,"cut":false,"hidden":false,"merged":[[59,15,59,16],[69,15,69,16],[73,15,73,16],[60,15,60,16],[64,15,64,16],[68,15,68,16],[72,15,72,16],[59,7,59,8],[59,11,59,12],[63,11,63,12],[67,11,67,12],[71,11,71,12],[63,7,63,8],[61,11,61,12],[60,7,60,8],[64,7,64,8],[60,11,60,12],[59,3,59,4],[63,3,63,4],[67,3,67,4],[71,3,71,4],[75,3,75,4],[60,3,60,4],[61,3,61,4],[64,3,64,4],[68,3,68,4],[72,3,72,4],[76,7,76,8],[76,11,76,12],[65,7,65,8],[71,7,71,8],[67,7,67,8],[68,7,68,8],[75,11,75,12],[69,11,69,12],[73,11,73,12],[73,7,73,8],[75,7,75,8],[65,11,65,12],[77,7,77,8],[76,15,76,16],[65,15,65,16],[61,15,61,16],[77,15,77,16],[75,15,75,16],[71,15,71,16],[67,15,67,16],[63,15,63,16],[72,7,72,8],[72,11,72,12],[68,11,68,12],[64,11,64,12],[69,7,69,8],[61,7,61,8],[77,11,77,12],[76,3,76,4],[65,3,65,4],[69,3,69,4],[73,3,73,4],[77,3,77,4]]}
["Team: Arcane Sanctuary",null,null,"General Manager: Nick Meola"]
[]
[null,null,null,"Scoring This Week",null,null,null,null,null,null,null,null,null,"Players Overall Scoring"]
["Forwards","Gls","Ast","PP","SH","GW","OT","PSG","PTS",null,"Gls","Ast","PP","SH","GW","OT","PSG","PTS"]
["John Tavares",1,2,1,0,0,0,0,{"$f":"(B5+C5+D5+(2*E5)+(2*F5)+G5+(4*H5))","v":4},null,20,22,7,0,6,1,0,{"$f":"(K5+L5+M5+(2*N5)+(2*O5)+P5+(4*Q5))","v":62}]
["Alex Tuch",2,1,0,0,0,0,0,{"$f":"(B6+C6+D6+(2*E6)+(2*F6)+G6+(4*H6))","v":3},null,14,17,0,3,1,0,0,{"$f":"(K6+L6+M6+(2*N6)+(2*O6)+P6+(4*Q6))","v":39}]
["Nathan MacKinnon",1,2,0,0,0,0,0,{"$f":"(B7+C7+D7+(2*E7)+(2*F7)+G7+(4*H7))","v":3},null,15,53,3,0,3,1,0,{"$f":"(K7+L7+M7+(2*N7)+(2*O7)+P7+(4*Q7))","v":78}]
["Anthony Cirelli",1,0,0,1,0,0,0,{"$f":"(B8+C8+D8+(2*E8)+(2*F8)+G8+(4*H8))","v":3},null,16,18,2,3,1,0,0,{"$f":"(K8+L8+M8+(2*N8)+(2*O8)+P8+(4*Q8))","v":44}]
["Nazem Kadri",1,1,0,0,0,0,0,{"$f":"(B9+C9+D9+(2*E9)+(2*F9)+G9+(4*H9))","v":2},null,15,14,2,0,2,0,0,{"$f":"(K9+L9+M9+(2*N9)+(2*O9)+P9+(4*Q9))","v":35}]
["Brady Tkachuk",1,0,1,0,0,0,0,{"$f":"(B10+C10+D10+(2*E10)+(2*F10)+G10+(4*H10))","v":2},null,18,20,9,0,4,3,0,{"$f":"(K10+L10+M10+(2*N10)+(2*O10)+P10+(4*Q10))","v":58}]
["Paul Cotter",1,0,0,0,0,0,0,{"$f":"(B11+C11+D11+(2*E11)+(2*F11)+G11+(4*H11))","v":1},null,10,6,0,0,2,0,0,{"$f":"(K11+L11+M11+(2*N11)+(2*O11)+P11+(4*Q11))","v":20}]
["Brad Marchand",0,1,0,0,0,0,0,{"$f":"(B12+C12+D12+(2*E12)+(2*F12)+G12+(4*H12))","v":1},null,15,18,2,0,4,2,1,{"$f":"(K12+L12+M12+(2*N12)+(2*O12)+P12+(4*Q12))","v":49}]
["Timo Meier",0,1,0,0,0,0,0,{"$f":"(B13+C13+D13+(2*E13)+(2*F13)+G13+(4*H13))","v":1},null,14,15,3,0,2,0,0,{"$f":"(K13+L13+M13+(2*N13)+(2*O13)+P13+(4*Q13))","v":36}]
["Chris Kreider",0,0,0,0,0,0,0,{"$f":"(B14+C14+D14+(2*E14)+(2*F14)+G14+(4*H14))","v":0},null,13,2,5,2,4,0,0,{"$f":"(K14+L14+M14+(2*N14)+(2*O14)+P14+(4*Q14))","v":32}]
["Mason Marchment",0,0,0,0,0,0,0,{"$f":"(B15+C15+D15+(2*E15)+(2*F15)+G15+(4*H15))","v":0},null,12,15,1,0,3,0,0,{"$f":"(K15+L15+M15+(2*N15)+(2*O15)+P15+(4*Q15))","v":34}]
[]
[]
["Defense","Gls","Ast","PP","SH","GW","OT","PSG","PTS",null,"Gls","Ast","PP","SH","GW","OT","PSG","PTS"]
["Dmitry Orlov",0,3,0,0,0,0,0,{"$f":"(B19+C19+D19+(2*E19)+(2*F19)+G19+(4*H19))","v":3},null,4,16,0,0,1,0,0,{"$f":"(K19+L19+M19+(2*N19)+(2*O19)+P19+(4*Q19))","v":22}]
["Victor Hedman",1,1,0,0,0,0,0,{"$f":"(B20+C20+D20+(2*E20)+(2*F20)+G20+(4*H20))","v":2},null,6,25,1,0,1,0,0,{"$f":"(K20+L20+M20+(2*N20)+(2*O20)+P20+(4*Q20))","v":34}]
["Gustav Forsling",0,2,0,0,0,0,0,{"$f":"(B21+C21+D21+(2*E21)+(2*F21)+G21+(4*H21))","v":2},null,6,11,0,1,1,1,0,{"$f":"(K21+L21+M21+(2*N21)+(2*O21)+P21+(4*Q21))","v":22}]
["Adam Larsson",1,0,0,0,0,0,0,{"$f":"(B22+C22+D22+(2*E22)+(2*F22)+G22+(4*H22))","v":1},null,2,6,0,0,0,0,0,{"$f":"(K22+L22+M22+(2*N22)+(2*O22)+P22+(4*Q22))","v":8}]
["Noah Dobson",0,1,0,0,0,0,0,{"$f":"(B23+C23+D23+(2*E23)+(2*F23)+G23+(4*H23))","v":1},null,5,16,0,0,0,0,0,{"$f":"(K23+L23+M23+(2*N23)+(2*O23)+P23+(4*Q23))","v":21}]
["Darnell Nurse",0,0,0,0,0,0,0,{"$f":"(B24+C24+D24+(2*E24)+(2*F24)+G24+(4*H24))","v":0},null,4,13,0,1,1,1,0,{"$f":"(K24+L24+M24+(2*N24)+(2*O24)+P24+(4*Q24))","v":22}]
["Samuel Girard",0,0,0,0,0,0,0,{"$f":"(B25+C25+D25+(2*E25)+(2*F25)+G25+(4*H25))","v":0},null,2,16,0,0,1,1,0,{"$f":"(K25+L25+M25+(2*N25)+(2*O25)+P25+(4*Q25))","v":21}]
[]
["Goalie","W","OT","SO","Gls","Ast","GAA","SP","PTS",null,"W","OT","SO","Gls","Ast","GAA","SP","PTS"]
["David Rittich",0,0,0,0,0,2.02,0.88900000000000001,{"$f":"((3*B28)+C28+(3*D28)+(10*E28)+(3*F28)+G29+H29)","v":2},null,11,0,0,0,0,2.52,0.88700000000000001,{"$f":"((3*K28)+L28+(3*M28)+(10*N28)+(3*O28)+P29+Q29)","v":65}]
[null,2,59.509999999999991,16,18,null,2,0,{"$f":"((3*B28)+C28+(3*D28)+(10*E28)+(3*F28)+G29+H29)","v":2},null,null,null,null,null,null,16,16,{"$f":"((2*K28)+L28+(3*M28)+(10*N28)+(3*O28)+P29+Q29)","v":54}]
["Anthony Stolarz",0,0,0,0,0,0,0,{"$f":"((3*B30)+C30+(3*D30)+(10*E30)+(3*F30)+G31+H31)","v":0},null,9,2,1,0,0,2.15,0.92700000000000005,{"$f":"((3*K30)+L30+(3*M30)+(10*N30)+(3*O30)+P31+Q31)","v":78}]
[null,0,0,0,0,null,0,0,{"$f":"((3*B30)+C30+(3*D30)+(10*E30)+(3*F30)+G31+H31)","v":0},null,null,null,null,null,null,18,28,{"$f":"((2*K30)+L30+(3*M30)+(10*N30)+(3*O30)+P31+Q31)","v":69}]
[null,null,null,"All Playes Scoring This Week",null,null,null,null,null,null,null,null,null,"Cumulative Points"]
[null,"Gls","Ast","PP","SH","GW","OT","PSG",null,null,"Gls","Ast","PP","SH","GW","OT","PSG","PTS"]
["Forwards",{"$f":"SUM(B5:B15)","v":8},{"$f":"SUM(C5:C15)","v":8},2,1,0,0,0,null,null,153,185,34,8,28,7,1,{"$f":"(K34+L34+M34+(2*N34)+(2*O34)+P34+(4*Q34))","v":455}]
["Defense",{"$f":"SUM(B19:B25)","v":2},{"$f":"SUM(C19:C25)","v":7},0,0,0,0,0,null,null,28,95,1,2,4,2,0,{"$f":"(K35+L35+M35+(2*N35)+(2*O35)+P35+(4*Q35))","v":138}]
["Total Scorers",{"$f":"SUM(B34:B35)","v":10},{"$f":"SUM(C34:C35)","v":15},2,1,0,0,0,null,null,{"$f":"SUM(K34:K35)","v":181},280,35,10,32,9,1,{"$f":"(K36+L36+M36+(2*N36)+(2*O36)+P36+(4*Q36))","v":593}]
[null,"W","OT","SO","Gls","Ast","GAA","SP",null,null,"W","OT","SO","Gls","Ast","GAA","SP","PTS"]
["Goalie Totals",{"$f":"SUM(B28,B30)","v":0},{"$f":"SUM(C28,C30)","v":0},{"$f":"SUM(D28,D30)","v":0},{"$f":"SUM(E28,E30)","v":0},{"$f":"SUM(F28,F30)","v":0},{"$f":"IF(C39=0,0,B39/(C39/60))","v":2.016467820534364},{"$f":"IF(E39=0,0,D39/E39)","v":0.88888888888888884},null,null,12,4,1,0,0,{"$f":"IF(L39=0,0,K39/(L39/60))","v":2.8122723499415523},{"$f":"IF(N39=0,0,M39/N39)","v":0.90130796670630198},{"$f":"((3*K38)+L38+(3*M38)+(10*N38)+(3*O38)+P39+Q39)","v":87}]
[null,{"$f":"SUM(B29,B31)","v":2},{"$f":"SUM(C29,C31)","v":59.509999999999991},{"$f":"SUM(D29,D31)","v":16},{"$f":"SUM(E29,E31)","v":18},null,null,null,null,null,83,1770.81,758,841,null,20,24]
[null,null,null,null,null,null,null,null,null,null,"GA","Time","Saves","Shots"]
[]
[null,"Injured Reserve",null,null,null,null,null,null,null,null,null,null,"This Weeks Totals"]
["Player","P","GP","IR Weeks","Pts",null,null,null,null,null,null,"Forwards",null,{"$f":"SUM(I5:I12)","v":19}]
[null,"F",null,null,null,null,null,null,null,null,null,"Defense",null,{"$f":"SUM(I19:I23)","v":9}]
[null,"D",null,null,null,null,null,null,null,null,null,"Goalie",null,{"$f":"I28","v":2}]
[null,"G"]
[null,"Flex",null,null,null,null,null,null,null,null,null,"Total Points",null,{"$f":"SUM(N43:N45)","v":30}]
[]
[]
[]
[]
[]
[]
[]
[]
["Team Record","W","L","T","Pts","CP","BPF","BFA","Streak"]
["Arcane Sanctuary",2,11,1,{"$f":"2*B57+D57","v":5},{"$f":"R36+R38","v":680},{"$f":"SUM(B61,B65,B69,B73,B77,F61,F65,F69,F73,F77,J61,J65,J69,J73,J77,N61,N65,N69,N73,N77,R61,R65)","v":656},{"$f":"SUM(B62,B66,B70,B74,B78,F62,F66,F70,F74,F78,J62,J66,J70,J74,J78,N62,N66,N70,N74,N78,R62,R66)","v":753},"Lost  4"]
[]
[]
["Game 1","Score",null,"Game 6        ",null,"Score",null,"Game 11   ",null,"Score",null,"Game 16",null,"Score",null,"Game 21",null,"Score"]
["Arcane Sanctuary",44,null,"Arcane Sanctuary",null,44,null,"Arcane Sanctuary",null,22,null,"Arcane Sanctuary",null,0,null,"Arcane Sanctuary",null,0]
["Highlanders",25,null,"Riketorians",null,50,null,"Highlanders",null,27,null,"Shawnee Tribe",null,0,null,"Ravens",null,0]
[]
["Game 2","Score",null,"Game 7       ",null,"Score",null,"Game 12",null,"Score",null,"Game 17",null,"Score",null,"Game 22",null,"Score"]
["Arcane Sanctuary",55,null,"Arcane Sanctuary",null,39,null,"Arcane Sanctuary",null,32,null,"Arcane Sanctuary",null,0,null,"Arcane Sanctuary",null,0]
["Ravens",65,null,"Damn Yankees",null,48,null,"Just Chillin",null,51,null,"District 5",null,0,null,"Damn Yankees",null,0]
[]
["Game 3","Score",null,"Game 8       ",null,"Score",null,"Game 13",null,"Score",null,"Game 18",null,"Score"]
["Arcane Sanctuary",53,null,"Arcane Sanctuary",null,44,null,"Arcane Sanctuary",null,50,null,"Arcane Sanctuary",null,0]
["District 5",65,null,"District 5",null,45,null,"Ravens",null,89,null,"Grumpy Old Men",null,0]
[]
["Game 4","Score",null,"Game 9    ",null,"Score",null,"Game 14",null,"Score",null,"Game 19",null,"Score"]
["Arcane Sanctuary",55,null,"Arcane Sanctuary",null,53,null,"Arcane Sanctuary",null,30,null,"Arcane Sanctuary",null,0]
["Grumpy Old Men",58,null,"Slappers",null,58,null,"Grumpy Old Men",null,59,null,"Riketorians",null,0]
[]
["Game 5","Score",null,"Game 10   ",null,"Score",null,"Game 15",null,"Score",null,"Game 20",null,"Score"]
["Arcane Sanctuary",73,null,"Arcane Sanctuary",null,62,null,"Arcane Sanctuary",null,0,null,"Arcane Sanctuary",null,0]
["Slappers",73,null,"Shawnee Tribe",null,40,null,"Slappers",null,0,null,"Just Chillin",null,0]

{"sheet":"Highlanders","index":4,"n_rows":78,"n_cols":18,"rows_kept":78,"cut":false,"hidden":false,"merged":[[77,3,77,4],[77,7,77,8],[77,11,77,12],[77,15,77,16],[75,3,75,4],[75,7,75,8],[75,11,75,12],[75,15,75,16],[76,3,76,4],[76,7,76,8],[76,11,76,12],[76,15,76,16],[72,3,72,4],[72,7,72,8],[72,11,72,12],[72,15,72,16],[73,3,73,4],[73,7,73,8],[73,11,73,12],[73,15,73,16],[69,3,69,4],[69,7,69,8],[69,11,69,12],[69,15,69,16],[71,3,71,4],[71,7,71,8],[71,11,71,12],[71,15,71,16],[67,3,67,4],[67,7,67,8],[67,11,67,12],[67,15,67,16],[68,3,68,4],[68,7,68,8],[68,11,68,12],[68,15,68,16],[64,3,64,4],[64,7,64,8],[64,11,64,12],[64,15,64,16],[65,3,65,4],[65,7,65,8],[65,11,65,12],[65,15,65,16],[61,3,61,4],[61,7,61,8],[61,11,61,12],[61,15,61,16],[63,3,63,4],[63,7,63,8],[63,11,63,12],[63,15,63,16],[59,3,59,4],[59,7,59,8],[59,11,59,12],[59,15,59,16],[60,3,60,4],[60,7,60,8],[60,11,60,12],[60,15,60,16]]}
["Team: Highlanders",null,"General Manager: Anthony J. Porfido"]
[]
[null,null,null,"Scoring This Week",null,null,null,null,null,null,null,null,null,"Players Overall Scoring"]
["Forwards","Gls","Ast","PP","SH","GW","OT","PSG","PTS",null,"Gls","Ast","PP","SH","GW","OT","PSG","PTS"]
["Nick Suzuki",2,3,1,0,2,2,0,{"$f":"(B5+C5+D5+(2*E5)+(2*F5)+G5+(4*H5))","v":12},null,13,30,2,0,5,4,0,{"$f":"(K5+L5+M5+(2*N5)+(2*O5)+P5+(4*Q5))","v":59}]
["Patrick Kane",1,3,1,0,1,1,0,{"$f":"(B6+C6+D6+(2*E6)+(2*F6)+G6+(4*H6))","v":8},null,9,16,5,0,4,1,0,{"$f":"(K6+L6+M6+(2*N6)+(2*O6)+P6+(4*Q6))","v":39}]
["Mathew Barzal",1,3,0,0,1,0,0,{"$f":"(B7+C7+D7+(2*E7)+(2*F7)+G7+(4*H7))","v":6},null,4,9,1,0,1,0,0,{"$f":"(K7+L7+M7+(2*N7)+(2*O7)+P7+(4*Q7))","v":16}]
["Leon Draisaitl",2,2,0,0,0,0,0,{"$f":"(B8+C8+D8+(2*E8)+(2*F8)+G8+(4*H8))","v":4},null,31,32,7,0,9,4,0,{"$f":"(K8+L8+M8+(2*N8)+(2*O8)+P8+(4*Q8))","v":92}]
["Dylan Larkin",1,1,1,0,0,0,0,{"$f":"(B9+C9+D9+(2*E9)+(2*F9)+G9+(4*H9))","v":3},null,17,18,9,0,2,0,0,{"$f":"(K9+L9+M9+(2*N9)+(2*O9)+P9+(4*Q9))","v":48}]
["Dylan Strome",0,2,0,0,0,0,0,{"$f":"(B10+C10+D10+(2*E10)+(2*F10)+G10+(4*H10))","v":2},null,12,34,3,0,1,0,0,{"$f":"(K10+L10+M10+(2*N10)+(2*O10)+P10+(4*Q10))","v":51}]
["Aleksander Barkov",0,2,0,0,0,0,0,{"$f":"(B11+C11+D11+(2*E11)+(2*F11)+G11+(4*H11))","v":2},null,11,26,5,1,1,1,0,{"$f":"(K11+L11+M11+(2*N11)+(2*O11)+P11+(4*Q11))","v":47}]
["William Nylander",1,0,0,0,0,0,0,{"$f":"(B12+C12+D12+(2*E12)+(2*F12)+G12+(4*H12))","v":1},null,24,20,7,0,5,0,0,{"$f":"(K12+L12+M12+(2*N12)+(2*O12)+P12+(4*Q12))","v":61}]
["Josh Norris",0,1,0,0,0,0,0,{"$f":"(B13+C13+D13+(2*E13)+(2*F13)+G13+(4*H13))","v":1},null,14,9,5,1,4,1,0,{"$f":"(K13+L13+M13+(2*N13)+(2*O13)+P13+(4*Q13))","v":39}]
["Connor McMichael",0,1,0,0,0,0,0,{"$f":"(B14+C14+D14+(2*E14)+(2*F14)+G14+(4*H14))","v":1},null,17,15,4,0,4,0,0,{"$f":"(K14+L14+M14+(2*N14)+(2*O14)+P14+(4*Q14))","v":44}]
["Kyle Palmieri",0,1,0,0,0,0,0,{"$f":"(B15+C15+D15+(2*E15)+(2*F15)+G15+(4*H15))","v":1},null,12,15,2,0,1,0,0,{"$f":"(K15+L15+M15+(2*N15)+(2*O15)+P15+(4*Q15))","v":31}]
[]
[]
["Defense","Gls","Ast","PP","SH","GW","OT","PSG","PTS",null,"Gls","Ast","PP","SH","GW","OT","PSG","PTS"]
["Adam Fox",1,4,1,0,0,0,0,{"$f":"(B19+C19+D19+(2*E19)+(2*F19)+G19+(4*H19))","v":6},null,2,31,1,0,1,0,0,{"$f":"(K19+L19+M19+(2*N19)+(2*O19)+P19+(4*Q19))","v":36}]
["Josh Morrissey",1,1,0,0,0,0,0,{"$f":"(B20+C20+D20+(2*E20)+(2*F20)+G20+(4*H20))","v":2},null,5,34,1,0,0,0,0,{"$f":"(K20+L20+M20+(2*N20)+(2*O20)+P20+(4*Q20))","v":40}]
["Thomas Chabot",1,1,0,0,0,0,0,{"$f":"(B21+C21+D21+(2*E21)+(2*F21)+G21+(4*H21))","v":2},null,3,16,0,0,0,0,0,{"$f":"(K21+L21+M21+(2*N21)+(2*O21)+P21+(4*Q21))","v":19}]
["Shea Theodore",0,2,0,0,0,0,0,{"$f":"(B22+C22+D22+(2*E22)+(2*F22)+G22+(4*H22))","v":2},null,4,29,0,0,1,0,0,{"$f":"(K22+L22+M22+(2*N22)+(2*O22)+P22+(4*Q22))","v":35}]
["Jake Sanderson",0,2,0,0,0,0,0,{"$f":"(B23+C23+D23+(2*E23)+(2*F23)+G23+(4*H23))","v":2},null,2,21,1,0,1,1,0,{"$f":"(K23+L23+M23+(2*N23)+(2*O23)+P23+(4*Q23))","v":27}]
["Simon Edvinsson",0,2,0,0,0,0,0,{"$f":"(B24+C24+D24+(2*E24)+(2*F24)+G24+(4*H24))","v":2},null,4,12,0,0,1,1,0,{"$f":"(K24+L24+M24+(2*N24)+(2*O24)+P24+(4*Q24))","v":19}]
["Owen Power",0,0,0,0,0,0,0,{"$f":"(B25+C25+D25+(2*E25)+(2*F25)+G25+(4*H25))","v":0},null,5,17,0,0,0,0,0,{"$f":"(K25+L25+M25+(2*N25)+(2*O25)+P25+(4*Q25))","v":22}]
[]
["Goalie","W","OT","SO","Gls","Ast","GAA","SP","PTS",null,"W","OT","SO","Gls","Ast","GAA","SP","PTS"]
["Stuart Skinner",1,0,0,0,0,2.69,0.90400000000000003,{"$f":"((3*B28)+C28+(3*D28)+(10*E28)+(3*F28)+G29+H29)","v":5},null,16,3,1,0,0,2.77,0.89800000000000002,{"$f":"((3*K28)+L28+(3*M28)+(10*N28)+(3*O28)+P29+Q29)","v":102}]
[null,5,111.65000000000009,47,52,null,1,1,{"$f":"((3*B28)+C28+(3*D28)+(10*E28)+(3*F28)+G29+H29)","v":5},null,null,null,null,null,null,21,27,{"$f":"((2*K28)+L28+(3*M28)+(10*N28)+(3*O28)+P29+Q29)","v":86}]
["Filip Gustavsson",0,0,0,0,0,7.1,0.77800000000000002,{"$f":"((3*B30)+C30+(3*D30)+(10*E30)+(3*F30)+G31+H31)","v":0},null,18,3,3,1,1,2.44,0.91800000000000004,{"$f":"((3*K30)+L30+(3*M30)+(10*N30)+(3*O30)+P31+Q31)","v":138}]
[null,10,84.549999999999955,35,45,null,0,0,{"$f":"((3*B30)+C30+(3*D30)+(10*E30)+(3*F30)+G31+H31)","v":0},null,null,null,null,null,null,24,35,{"$f":"((2*K30)+L30+(3*M30)+(10*N30)+(3*O30)+P31+Q31)","v":120}]
[null,null,null,"All Playes Scoring This Week",null,null,null,null,null,null,null,null,null,"Cumulative Points"]
[null,"Gls","Ast","PP","SH","GW","OT","PSG",null,null,"Gls","Ast","PP","SH","GW","OT","PSG","PTS"]
["Forwards",{"$f":"SUM(B5:B15)","v":8},{"$f":"SUM(C5:C15)","v":19},3,0,4,3,0,null,null,156,216,54,2,36,11,0,{"$f":"(K34+L34+M34+(2*N34)+(2*O34)+P34+(4*Q34))","v":513}]
["Defense",{"$f":"SUM(B19:B25)","v":3},{"$f":"SUM(C19:C25)","v":12},1,0,0,0,0,null,null,26,149,2,0,4,2,0,{"$f":"(K35+L35+M35+(2*N35)+(2*O35)+P35+(4*Q35))","v":187}]
["Total Scorers",{"$f":"SUM(B34:B35)","v":11},{"$f":"SUM(C34:C35)","v":31},4,0,4,3,0,null,null,{"$f":"SUM(K34:K35)","v":182},365,56,2,40,13,0,{"$f":"(K36+L36+M36+(2*N36)+(2*O36)+P36+(4*Q36))","v":700}]
[null,"W","OT","SO","Gls","Ast","GAA","SP",null,null,"W","OT","SO","Gls","Ast","GAA","SP","PTS"]
["Goalie Totals",{"$f":"SUM(B28,B30)","v":1},{"$f":"SUM(C28,C30)","v":0},{"$f":"SUM(D28,D30)","v":0},{"$f":"SUM(E28,E30)","v":0},{"$f":"SUM(F28,F30)","v":0},{"$f":"IF(C39=0,0,B39/(C39/60))","v":4.5871559633027514},{"$f":"IF(E39=0,0,D39/E39)","v":0.84536082474226804},null,null,31,6,4,0,1,{"$f":"IF(L39=0,0,K39/(L39/60))","v":2.7734588393494977},{"$f":"IF(N39=0,0,M39/N39)","v":0.9024081115335868},{"$f":"((3*K38)+L38+(3*M38)+(10*N38)+(3*O38)+P39+Q39)","v":206}]
[null,{"$f":"SUM(B29,B31)","v":15},{"$f":"SUM(C29,C31)","v":196.20000000000005},{"$f":"SUM(D29,D31)","v":82},{"$f":"SUM(E29,E31)","v":97},null,null,null,null,null,154,3331.58,1424,1578,null,39,53]
[null,null,null,null,null,null,null,null,null,null,"GA","Time","Saves","Shots"]
[]
[null,"Injured Reserve",null,null,null,null,null,null,null,null,null,null,"This Weeks Totals"]
["Player","P","GP","IR Weeks","Pts",null,null,null,null,null,null,"Forwards",null,{"$f":"SUM(I5:I12)","v":38}]
["Elias Pettersson","F",2,2,36,null,null,null,null,null,null,"Defense",null,{"$f":"SUM(I19:I23)","v":14}]
[null,"D",null,null,null,null,null,null,null,null,null,"Goalie",null,{"$f":"I28","v":5}]
[null,"G"]
[null,"Flex",null,null,null,null,null,null,null,null,null,"Total Points",null,{"$f":"SUM(N43:N45)","v":57}]
["Warning, Elias Pettersson must be returned to lineup by start of Week 16"]
[]
[]
[]
[]
[]
[]
[]
["Team Record","W","L","T","Pts","CP","BPF","BFA","Streak"]
["Highlanders      ",9,5,0,{"$f":"2*B57+D57","v":18},{"$f":"R36+R38","v":906},{"$f":"SUM(B61,B65,B69,B73,B77,F61,F65,F69,F73,F77,J61,J65,J69,J73,J77,N61,N65,N69,N73,N77,R61,R65)","v":796},{"$f":"SUM(B62,B66,B70,B74,B78,F62,F66,F70,F74,F78,J62,J66,J70,J74,J78,N62,N66,N70,N74,N78,R62,R66)","v":748},"Lost  2"]
[]
[]
["Game 1","Score",null,"Game 6        ",null,"Score",null,"Game 11   ",null,"Score",null,"Game 16",null,"Score",null,"Game 21",null,"Score"]
["Highlanders",25,null,"Highlanders",null,74,null,"Highlanders",null,27,null,"Highlanders",null,0,null,"Highlanders",null,0]
["Arcane Sanctuary",44,null,"Ravens",null,62,null,"Arcane Sanctuary",null,22,null,"Ravens",null,0,null,"Just Chillin",null,0]
[]
["Game 2","Score",null,"Game 7       ",null,"Score",null,"Game 12",null,"Score",null,"Game 17",null,"Score",null,"Game 22",null,"Score"]
["Highlanders",44,null,"Highlanders",null,52,null,"Highlanders",null,58,null,"Highlanders",null,0,null,"Highlanders",null,0]
["Shawnee Tribe",52,null,"Grumpy Old Men",null,65,null,"Damn Yankees",null,38,null,"Shawnee Tribe",null,0,null,"Riketorians",null,0]
[]
["Game 3","Score",null,"Game 8       ",null,"Score",null,"Game 13",null,"Score",null,"Game 18",null,"Score"]
["Highlanders",58,null,"Highlanders",null,65,null,"Highlanders",null,83,null,"Highlanders",null,0]
["Just Chillin",56,null,"Slappers",null,63,null,"Just Chillin",null,85,null,"District 5",null,0]
[]
["Game 4","Score",null,"Game 9    ",null,"Score",null,"Game 14",null,"Score",null,"Game 19",null,"Score"]
["Highlanders",52,null,"Highlanders",null,72,null,"Highlanders",null,57,null,"Highlanders",null,0]
["Damn Yankees",50,null,"Shawnee Tribe",null,46,null,"Riketorians",null,64,null,"Grumpy Old Men",null,0]
[]
["Game 5","Score",null,"Game 10   ",null,"Score",null,"Game 15",null,"Score",null,"Game 20",null,"Score"]
["Highlanders",60,null,"Highlanders",null,69,null,"Highlanders",null,0,null,"Highlanders",null,0]
["Riketorians",41,null,"District 5",null,60,null,"Damn Yankees",null,0,null,"Slappers",null,0]

{"sheet":"Damn Yankees","index":5,"n_rows":78,"n_cols":18,"rows_kept":78,"cut":false,"hidden":false,"merged":[[77,3,77,4],[77,7,77,8],[77,11,77,12],[77,15,77,16],[75,3,75,4],[75,7,75,8],[75,11,75,12],[75,15,75,16],[76,3,76,4],[76,7,76,8],[76,11,76,12],[76,15,76,16],[72,3,72,4],[72,7,72,8],[72,11,72,12],[72,15,72,16],[73,3,73,4],[73,7,73,8],[73,11,73,12],[73,15,73,16],[69,3,69,4],[69,7,69,8],[69,11,69,12],[69,15,69,16],[71,3,71,4],[71,7,71,8],[71,11,71,12],[71,15,71,16],[67,3,67,4],[67,7,67,8],[67,11,67,12],[67,15,67,16],[68,3,68,4],[68,7,68,8],[68,11,68,12],[68,15,68,16],[64,3,64,4],[64,7,64,8],[64,11,64,12],[64,15,64,16],[65,3,65,4],[65,7,65,8],[65,11,65,12],[65,15,65,16],[61,3,61,4],[61,7,61,8],[61,11,61,12],[61,15,61,16],[63,3,63,4],[63,7,63,8],[63,11,63,12],[63,15,63,16],[59,3,59,4],[59,7,59,8],[59,11,59,12],[59,15,59,16],[60,3,60,4],[60,7,60,8],[60,11,60,12],[60,15,60,16]]}
["Team: Damn Yankees",null,"General Manager: Ken Chmela"]
[]
[null,null,null,"Scoring This Week",null,null,null,null,null,null,null,null,null,"Players Overall Scoring"]
["Forwards","Gls","Ast","PP","SH","GW","OT","PSG","PTS",null,"Gls","Ast","PP","SH","GW","OT","PSG","PTS"]
["Auston Matthews",2,3,1,0,0,0,0,{"$f":"(B5+C5+D5+(2*E5)+(2*F5)+G5+(4*H5))","v":6},null,14,17,4,0,1,1,0,{"$f":"(K5+L5+M5+(2*N5)+(2*O5)+P5+(4*Q5))","v":38}]
["Tom Wilson",3,0,2,0,0,0,0,{"$f":"(B6+C6+D6+(2*E6)+(2*F6)+G6+(4*H6))","v":5},null,19,14,9,0,3,1,0,{"$f":"(K6+L6+M6+(2*N6)+(2*O6)+P6+(4*Q6))","v":49}]
["Mark Stone",2,1,1,0,0,0,0,{"$f":"(B7+C7+D7+(2*E7)+(2*F7)+G7+(4*H7))","v":4},null,12,24,3,0,2,0,0,{"$f":"(K7+L7+M7+(2*N7)+(2*O7)+P7+(4*Q7))","v":43}]
["J.T. Miller",2,2,0,0,0,0,0,{"$f":"(B8+C8+D8+(2*E8)+(2*F8)+G8+(4*H8))","v":4},null,8,21,1,0,1,1,0,{"$f":"(K8+L8+M8+(2*N8)+(2*O8)+P8+(4*Q8))","v":33}]
["Brandon Hagel",2,2,0,0,0,0,0,{"$f":"(B9+C9+D9+(2*E9)+(2*F9)+G9+(4*H9))","v":4},null,19,27,0,2,1,0,0,{"$f":"(K9+L9+M9+(2*N9)+(2*O9)+P9+(4*Q9))","v":52}]
["Kirill Marchenko",1,3,0,0,0,0,0,{"$f":"(B10+C10+D10+(2*E10)+(2*F10)+G10+(4*H10))","v":4},null,18,29,2,0,1,0,0,{"$f":"(K10+L10+M10+(2*N10)+(2*O10)+P10+(4*Q10))","v":51}]
["Bryan Rust",1,3,0,0,0,0,0,{"$f":"(B11+C11+D11+(2*E11)+(2*F11)+G11+(4*H11))","v":4},null,16,16,2,0,4,2,0,{"$f":"(K11+L11+M11+(2*N11)+(2*O11)+P11+(4*Q11))","v":44}]
["Tim Stützle",1,1,0,0,0,0,0,{"$f":"(B12+C12+D12+(2*E12)+(2*F12)+G12+(4*H12))","v":2},null,13,29,2,0,0,0,0,{"$f":"(K12+L12+M12+(2*N12)+(2*O12)+P12+(4*Q12))","v":44}]
["Clayton Keller",0,2,0,0,0,0,0,{"$f":"(B13+C13+D13+(2*E13)+(2*F13)+G13+(4*H13))","v":2},null,14,27,4,0,3,1,0,{"$f":"(K13+L13+M13+(2*N13)+(2*O13)+P13+(4*Q13))","v":52}]
["Anze Kopitar",0,1,0,0,0,0,0,{"$f":"(B14+C14+D14+(2*E14)+(2*F14)+G14+(4*H14))","v":1},null,12,28,3,0,5,0,0,{"$f":"(K14+L14+M14+(2*N14)+(2*O14)+P14+(4*Q14))","v":53}]
["Kevin Fiala",0,0,0,0,0,0,0,{"$f":"(B15+C15+D15+(2*E15)+(2*F15)+G15+(4*H15))","v":0},null,14,8,5,0,2,0,0,{"$f":"(K15+L15+M15+(2*N15)+(2*O15)+P15+(4*Q15))","v":31}]
[]
[]
["Defense","Gls","Ast","PP","SH","GW","OT","PSG","PTS",null,"Gls","Ast","PP","SH","GW","OT","PSG","PTS"]
["Thomas Harley",1,2,0,0,0,0,0,{"$f":"(B19+C19+D19+(2*E19)+(2*F19)+G19+(4*H19))","v":3},null,6,15,0,0,1,1,0,{"$f":"(K19+L19+M19+(2*N19)+(2*O19)+P19+(4*Q19))","v":24}]
["Roman Josi",1,2,0,0,0,0,0,{"$f":"(B20+C20+D20+(2*E20)+(2*F20)+G20+(4*H20))","v":3},null,8,20,1,0,1,0,0,{"$f":"(K20+L20+M20+(2*N20)+(2*O20)+P20+(4*Q20))","v":31}]
["Ryan Pulock",1,2,0,0,0,0,0,{"$f":"(B21+C21+D21+(2*E21)+(2*F21)+G21+(4*H21))","v":3},null,2,13,0,0,0,0,0,{"$f":"(K21+L21+M21+(2*N21)+(2*O21)+P21+(4*Q21))","v":15}]
["MacKenzie Weegar",1,1,0,0,0,0,0,{"$f":"(B22+C22+D22+(2*E22)+(2*F22)+G22+(4*H22))","v":2},null,5,17,2,0,0,0,0,{"$f":"(K22+L22+M22+(2*N22)+(2*O22)+P22+(4*Q22))","v":24}]
["Mikhail Sergachev",0,1,0,0,0,0,0,{"$f":"(B23+C23+D23+(2*E23)+(2*F23)+G23+(4*H23))","v":1},null,8,21,2,0,3,2,0,{"$f":"(K23+L23+M23+(2*N23)+(2*O23)+P23+(4*Q23))","v":39}]
["Travis Sanheim",0,1,0,0,0,0,0,{"$f":"(B24+C24+D24+(2*E24)+(2*F24)+G24+(4*H24))","v":1},null,6,16,0,0,0,0,0,{"$f":"(K24+L24+M24+(2*N24)+(2*O24)+P24+(4*Q24))","v":22}]
["Jared Spurgeon",0,0,0,0,0,0,0,{"$f":"(B25+C25+D25+(2*E25)+(2*F25)+G25+(4*H25))","v":0},null,4,9,0,0,2,1,0,{"$f":"(K25+L25+M25+(2*N25)+(2*O25)+P25+(4*Q25))","v":18}]
[]
["Goalie","W","OT","SO","Gls","Ast","GAA","SP","PTS",null,"W","OT","SO","Gls","Ast","GAA","SP","PTS"]
["Darcy Kuemper",1,0,0,0,0,0.98,0.94699999999999995,{"$f":"((3*B28)+C28+(3*D28)+(10*E28)+(3*F28)+G29+H29)","v":13},null,12,5,2,0,0,2.16,0.92100000000000004,{"$f":"((3*K28)+L28+(3*M28)+(10*N28)+(3*O28)+P29+Q29)","v":113}]
[null,1,61.230000000000018,18,19,null,5,5,{"$f":"((3*B28)+C28+(3*D28)+(10*E28)+(3*F28)+G29+H29)","v":13},null,null,null,null,null,null,31,35,{"$f":"((2*K28)+L28+(3*M28)+(10*N28)+(3*O28)+P29+Q29)","v":101}]
["Thatcher Demko",0,0,0,0,0,2.0699999999999998,0.9,{"$f":"((3*B30)+C30+(3*D30)+(10*E30)+(3*F30)+G31+H31)","v":3},null,2,3,0,0,0,3.17,0.88300000000000001,{"$f":"((3*K30)+L30+(3*M30)+(10*N30)+(3*O30)+P31+Q31)","v":19}]
[null,2,58.019999999999982,18,20,null,2,1,{"$f":"((3*B30)+C30+(3*D30)+(10*E30)+(3*F30)+G31+H31)","v":3},null,null,null,null,null,null,5,5,{"$f":"((2*K30)+L30+(3*M30)+(10*N30)+(3*O30)+P31+Q31)","v":17}]
[null,null,null,"All Playes Scoring This Week",null,null,null,null,null,null,null,null,null,"Cumulative Points"]
[null,"Gls","Ast","PP","SH","GW","OT","PSG",null,null,"Gls","Ast","PP","SH","GW","OT","PSG","PTS"]
["Forwards",{"$f":"SUM(B5:B15)","v":14},{"$f":"SUM(C5:C15)","v":18},4,0,0,0,0,null,null,153,231,27,3,19,4,0,{"$f":"(K34+L34+M34+(2*N34)+(2*O34)+P34+(4*Q34))","v":459}]
["Defense",{"$f":"SUM(B19:B25)","v":4},{"$f":"SUM(C19:C25)","v":9},0,0,0,0,0,null,null,35,109,5,0,5,3,0,{"$f":"(K35+L35+M35+(2*N35)+(2*O35)+P35+(4*Q35))","v":162}]
["Total Scorers",{"$f":"SUM(B34:B35)","v":18},{"$f":"SUM(C34:C35)","v":27},4,0,0,0,0,null,null,{"$f":"SUM(K34:K35)","v":188},340,32,3,24,7,0,{"$f":"(K36+L36+M36+(2*N36)+(2*O36)+P36+(4*Q36))","v":621}]
[null,"W","OT","SO","Gls","Ast","GAA","SP",null,null,"W","OT","SO","Gls","Ast","GAA","SP","PTS"]
["Goalie Totals",{"$f":"SUM(B28,B30)","v":1},{"$f":"SUM(C28,C30)","v":0},{"$f":"SUM(D28,D30)","v":0},{"$f":"SUM(E28,E30)","v":0},{"$f":"SUM(F28,F30)","v":0},{"$f":"IF(C39=0,0,B39/(C39/60))","v":1.5094339622641508},{"$f":"IF(E39=0,0,D39/E39)","v":0.92307692307692313},null,null,23,7,4,0,1,{"$f":"IF(L39=0,0,K39/(L39/60))","v":2.9042139366937896},{"$f":"IF(N39=0,0,M39/N39)","v":0.89404485692188707},{"$f":"((3*K38)+L38+(3*M38)+(10*N38)+(3*O38)+P39+Q39)","v":165}]
[null,{"$f":"SUM(B29,B31)","v":3},{"$f":"SUM(C29,C31)","v":119.25},{"$f":"SUM(D29,D31)","v":36},{"$f":"SUM(E29,E31)","v":39},null,null,null,null,null,137,2830.37,1156,1293,null,35,39]
[null,null,null,null,null,null,null,null,null,null,"GA","Time","Saves","Shots"]
[]
[null,"Injured Reserve",null,null,null,null,null,null,null,null,null,null,"This Weeks Totals"]
["Player","P","GP","IR Weeks","Pts",null,null,null,null,null,null,"Forwards",null,{"$f":"SUM(I5:I12)","v":33}]
["Valeri Nichushkin","F",0,1,19,null,null,null,null,null,null,"Defense",null,{"$f":"SUM(I19:I23)","v":12}]
["Drew Doughty","D",0,14,0,null,null,null,null,null,null,"Goalie",null,{"$f":"I28","v":13}]
["Linus Ullmark","G",0,2,94]
[null,"Flex",null,null,null,null,null,null,null,null,null,"Total Points",null,{"$f":"SUM(N43:N45)","v":58}]
[]
[]
[]
[]
[]
[]
[]
[]
["Team Record","W","L","T","Pts","CP","BPF","BFA","Streak"]
["Damn Yankees      ",3,10,1,{"$f":"2*B57+D57","v":7},{"$f":"R36+R38","v":786},{"$f":"SUM(B61,B65,B69,B73,B77,F61,F65,F69,F73,F77,J61,J65,J69,J73,J77,N61,N65,N69,N73,N77,R61,R65)","v":700},{"$f":"SUM(B62,B66,B70,B74,B78,F62,F66,F70,F74,F78,J62,J66,J70,J74,J78,N62,N66,N70,N74,N78,R62,R66)","v":777},"Lost  5"]
[]
[]
["Game 1","Score",null,"Game 6        ",null,"Score",null,"Game 11   ",null,"Score",null,"Game 16",null,"Score",null,"Game 21",null,"Score"]
["Damn Yankees",38,null,"Damn Yankees",null,45,null,"Damn Yankees",null,36,null,"Damn Yankees",null,0,null,"Damn Yankees",null,0]
["Riketorians",49,null,"Grumpy Old Men",null,44,null,"District 5",null,37,null,"Slappers",null,0,null,"Riketorians",null,0]
[]
["Game 2","Score",null,"Game 7       ",null,"Score",null,"Game 12",null,"Score",null,"Game 17",null,"Score",null,"Game 22",null,"Score"]
["Damn Yankees",40,null,"Damn Yankees",null,48,null,"Damn Yankees",null,38,null,"Damn Yankees",null,0,null,"Damn Yankees",null,0]
["Just Chillin",65,null,"Arcane Sanctuary",null,39,null,"Highlanders",null,58,null,"Just Chillin",null,0,null,"Arcane Sanctuary",null,0]
[]
["Game 3","Score",null,"Game 8       ",null,"Score",null,"Game 13",null,"Score",null,"Game 18",null,"Score"]
["Damn Yankees",60,null,"Damn Yankees",null,76,null,"Damn Yankees",null,71,null,"Damn Yankees",null,0]
["Slappers",60,null,"Shawnee Tribe",null,77,null,"Riketorians",null,74,null,"Shawnee Tribe",null,0]
[]
["Game 4","Score",null,"Game 9    ",null,"Score",null,"Game 14",null,"Score",null,"Game 19",null,"Score"]
["Damn Yankees",50,null,"Damn Yankees",null,47,null,"Damn Yankees",null,58,null,"Damn Yankees",null,0]
["Highlanders",52,null,"Just Chillin",null,44,null,"District 5",null,59,null,"Ravens",null,0]
[]
["Game 5","Score",null,"Game 10   ",null,"Score",null,"Game 15",null,"Score",null,"Game 20",null,"Score"]
["Damn Yankees",33,null,"Damn Yankees",null,60,null,"Damn Yankees",null,0,null,"Damn Yankees",null,0]
["Shawnee Tribe",52,null,"Ravens",null,67,null,"Highlanders",null,0,null,"Grumpy Old Men",null,0]

{"sheet":"District 5","index":6,"n_rows":78,"n_cols":18,"rows_kept":78,"cut":false,"hidden":false,"merged":[[77,3,77,4],[77,7,77,8],[77,11,77,12],[77,15,77,16],[75,3,75,4],[75,7,75,8],[75,11,75,12],[75,15,75,16],[76,3,76,4],[76,7,76,8],[76,11,76,12],[76,15,76,16],[72,3,72,4],[72,7,72,8],[72,11,72,12],[72,15,72,16],[73,3,73,4],[73,7,73,8],[73,11,73,12],[73,15,73,16],[69,3,69,4],[69,7,69,8],[69,11,69,12],[69,15,69,16],[71,3,71,4],[71,7,71,8],[71,11,71,12],[71,15,71,16],[67,3,67,4],[67,7,67,8],[67,11,67,12],[67,15,67,16],[68,3,68,4],[68,7,68,8],[68,11,68,12],[68,15,68,16],[64,3,64,4],[64,7,64,8],[64,11,64,12],[64,15,64,16],[65,3,65,4],[65,7,65,8],[65,11,65,12],[65,15,65,16],[61,3,61,4],[61,7,61,8],[61,11,61,12],[61,15,61,16],[63,3,63,4],[63,7,63,8],[63,11,63,12],[63,15,63,16],[59,3,59,4],[59,7,59,8],[59,11,59,12],[59,15,59,16],[60,3,60,4],[60,7,60,8],[60,11,60,12],[60,15,60,16]]}
["Team: District 5",null,null,"General Manager: Sean Wachter"]
[]
[null,null,null,"Scoring This Week",null,null,null,null,null,null,null,null,null,"Players Overall Scoring"]
["Forwards","Gls","Ast","PP","SH","GW","OT","PSG","PTS",null,"Gls","Ast","PP","SH","GW","OT","PSG","PTS"]
["Matt Boldy",2,1,0,0,2,0,0,{"$f":"(B5+C5+D5+(2*E5)+(2*F5)+G5+(4*H5))","v":7},null,16,21,4,0,8,1,0,{"$f":"(K5+L5+M5+(2*N5)+(2*O5)+P5+(4*Q5))","v":58}]
["Nikita Kucherov",1,4,0,0,0,0,0,{"$f":"(B6+C6+D6+(2*E6)+(2*F6)+G6+(4*H6))","v":5},null,18,41,2,0,4,0,0,{"$f":"(K6+L6+M6+(2*N6)+(2*O6)+P6+(4*Q6))","v":69}]
["Kyle Connor",1,2,0,0,1,0,0,{"$f":"(B7+C7+D7+(2*E7)+(2*F7)+G7+(4*H7))","v":5},null,23,32,9,1,5,1,0,{"$f":"(K7+L7+M7+(2*N7)+(2*O7)+P7+(4*Q7))","v":77}]
["Sam Reinhart",3,0,1,0,0,0,0,{"$f":"(B8+C8+D8+(2*E8)+(2*F8)+G8+(4*H8))","v":4},null,25,24,8,4,1,0,0,{"$f":"(K8+L8+M8+(2*N8)+(2*O8)+P8+(4*Q8))","v":67}]
["Jason Robertson",1,3,0,0,0,0,0,{"$f":"(B9+C9+D9+(2*E9)+(2*F9)+G9+(4*H9))","v":4},null,10,24,3,0,1,0,0,{"$f":"(K9+L9+M9+(2*N9)+(2*O9)+P9+(4*Q9))","v":39}]
["Brock Boeser",1,1,0,0,1,0,0,{"$f":"(B10+C10+D10+(2*E10)+(2*F10)+G10+(4*H10))","v":4},null,15,12,5,0,1,0,0,{"$f":"(K10+L10+M10+(2*N10)+(2*O10)+P10+(4*Q10))","v":34}]
["JJ Peterka",0,4,0,0,0,0,0,{"$f":"(B11+C11+D11+(2*E11)+(2*F11)+G11+(4*H11))","v":4},null,10,22,3,0,1,0,0,{"$f":"(K11+L11+M11+(2*N11)+(2*O11)+P11+(4*Q11))","v":37}]
["Pavel Buchnevich",2,1,0,0,0,0,0,{"$f":"(B12+C12+D12+(2*E12)+(2*F12)+G12+(4*H12))","v":3},null,11,18,1,0,0,0,0,{"$f":"(K12+L12+M12+(2*N12)+(2*O12)+P12+(4*Q12))","v":30}]
["Owen Tippett",1,1,0,0,0,0,0,{"$f":"(B13+C13+D13+(2*E13)+(2*F13)+G13+(4*H13))","v":2},null,12,14,0,0,1,1,0,{"$f":"(K13+L13+M13+(2*N13)+(2*O13)+P13+(4*Q13))","v":29}]
["Tomas Hertl",1,1,0,0,0,0,0,{"$f":"(B14+C14+D14+(2*E14)+(2*F14)+G14+(4*H14))","v":2},null,11,16,7,0,2,0,0,{"$f":"(K14+L14+M14+(2*N14)+(2*O14)+P14+(4*Q14))","v":38}]
["Will Cuylle",0,0,0,0,0,0,0,{"$f":"(B15+C15+D15+(2*E15)+(2*F15)+G15+(4*H15))","v":0},null,11,13,0,1,1,0,0,{"$f":"(K15+L15+M15+(2*N15)+(2*O15)+P15+(4*Q15))","v":28}]
[]
[]
["Defense","Gls","Ast","PP","SH","GW","OT","PSG","PTS",null,"Gls","Ast","PP","SH","GW","OT","PSG","PTS"]
["Jamie Drysdale",1,1,1,0,0,0,0,{"$f":"(B19+C19+D19+(2*E19)+(2*F19)+G19+(4*H19))","v":3},null,2,7,2,0,0,0,0,{"$f":"(K19+L19+M19+(2*N19)+(2*O19)+P19+(4*Q19))","v":11}]
["Dougie Hamilton",0,3,0,0,0,0,0,{"$f":"(B20+C20+D20+(2*E20)+(2*F20)+G20+(4*H20))","v":3},null,5,23,4,0,2,0,0,{"$f":"(K20+L20+M20+(2*N20)+(2*O20)+P20+(4*Q20))","v":36}]
["Miro Heiskanen",1,0,0,0,0,0,0,{"$f":"(B21+C21+D21+(2*E21)+(2*F21)+G21+(4*H21))","v":1},null,5,14,0,0,0,0,0,{"$f":"(K21+L21+M21+(2*N21)+(2*O21)+P21+(4*Q21))","v":19}]
["Moritz Seider",0,0,0,0,0,0,0,{"$f":"(B22+C22+D22+(2*E22)+(2*F22)+G22+(4*H22))","v":0},null,4,20,0,0,0,0,0,{"$f":"(K22+L22+M22+(2*N22)+(2*O22)+P22+(4*Q22))","v":24}]
["Brock Faber",0,0,0,0,0,0,0,{"$f":"(B23+C23+D23+(2*E23)+(2*F23)+G23+(4*H23))","v":0},null,5,15,1,0,1,1,0,{"$f":"(K23+L23+M23+(2*N23)+(2*O23)+P23+(4*Q23))","v":24}]
["Bowen Byram",0,0,0,0,0,0,0,{"$f":"(B24+C24+D24+(2*E24)+(2*F24)+G24+(4*H24))","v":0},null,5,17,0,0,2,0,0,{"$f":"(K24+L24+M24+(2*N24)+(2*O24)+P24+(4*Q24))","v":26}]
["Rasmus Andersson",0,0,0,0,0,0,0,{"$f":"(B25+C25+D25+(2*E25)+(2*F25)+G25+(4*H25))","v":0},null,6,12,2,0,1,0,0,{"$f":"(K25+L25+M25+(2*N25)+(2*O25)+P25+(4*Q25))","v":22}]
[]
["Goalie","W","OT","SO","Gls","Ast","GAA","SP","PTS",null,"W","OT","SO","Gls","Ast","GAA","SP","PTS"]
["Ilya Sorokin",2,0,1,0,0,1.96,0.93300000000000005,{"$f":"((3*B28)+C28+(3*D28)+(10*E28)+(3*F28)+G29+H29)","v":16},null,13,4,2,0,0,2.83,0.90200000000000002,{"$f":"((3*K28)+L28+(3*M28)+(10*N28)+(3*O28)+P29+Q29)","v":88}]
[null,4,122.44000000000005,56,60,null,3,4,{"$f":"((3*B28)+C28+(3*D28)+(10*E28)+(3*F28)+G29+H29)","v":16},null,null,null,null,null,null,17,22,{"$f":"((2*K28)+L28+(3*M28)+(10*N28)+(3*O28)+P29+Q29)","v":75}]
["Jacob Markstrom",2,1,0,0,0,2.2599999999999998,0.91400000000000003,{"$f":"((3*B30)+C30+(3*D30)+(10*E30)+(3*F30)+G31+H31)","v":11},null,21,3,3,0,0,2.19,0.91100000000000003,{"$f":"((3*K30)+L30+(3*M30)+(10*N30)+(3*O30)+P31+Q31)","v":135}]
[null,7,186.12000000000012,74,81,null,2,2,{"$f":"((3*B30)+C30+(3*D30)+(10*E30)+(3*F30)+G31+H31)","v":11},null,null,null,null,null,null,29,31,{"$f":"((2*K30)+L30+(3*M30)+(10*N30)+(3*O30)+P31+Q31)","v":114}]
[null,null,null,"All Playes Scoring This Week",null,null,null,null,null,null,null,null,null,"Cumulative Points"]
[null,"Gls","Ast","PP","SH","GW","OT","PSG",null,null,"Gls","Ast","PP","SH","GW","OT","PSG","PTS"]
["Forwards",{"$f":"SUM(B5:B15)","v":13},{"$f":"SUM(C5:C15)","v":18},1,0,4,0,0,null,null,156,238,42,6,25,3,0,{"$f":"(K34+L34+M34+(2*N34)+(2*O34)+P34+(4*Q34))","v":501}]
["Defense",{"$f":"SUM(B19:B25)","v":2},{"$f":"SUM(C19:C25)","v":4},1,0,0,0,0,null,null,32,107,9,0,6,1,0,{"$f":"(K35+L35+M35+(2*N35)+(2*O35)+P35+(4*Q35))","v":161}]
["Total Scorers",{"$f":"SUM(B34:B35)","v":15},{"$f":"SUM(C34:C35)","v":22},2,0,4,0,0,null,null,{"$f":"SUM(K34:K35)","v":188},345,51,6,31,4,0,{"$f":"(K36+L36+M36+(2*N36)+(2*O36)+P36+(4*Q36))","v":662}]
[null,"W","OT","SO","Gls","Ast","GAA","SP",null,null,"W","OT","SO","Gls","Ast","GAA","SP","PTS"]
["Goalie Totals",{"$f":"SUM(B28,B30)","v":4},{"$f":"SUM(C28,C30)","v":1},{"$f":"SUM(D28,D30)","v":1},{"$f":"SUM(E28,E30)","v":0},{"$f":"SUM(F28,F30)","v":0},{"$f":"IF(C39=0,0,B39/(C39/60))","v":2.138968109929996},{"$f":"IF(E39=0,0,D39/E39)","v":0.92198581560283688},null,null,34,7,5,0,0,{"$f":"IF(L39=0,0,K39/(L39/60))","v":2.4924182158303854},{"$f":"IF(N39=0,0,M39/N39)","v":0.90653634697617591},{"$f":"((3*K38)+L38+(3*M38)+(10*N38)+(3*O38)+P39+Q39)","v":223}]
[null,{"$f":"SUM(B29,B31)","v":11},{"$f":"SUM(C29,C31)","v":308.56000000000017},{"$f":"SUM(D29,D31)","v":130},{"$f":"SUM(E29,E31)","v":141},null,null,null,null,null,153,3683.17,1484,1637,null,46,53]
[null,null,null,null,null,null,null,null,null,null,"GA","Time","Saves","Shots"]
[]
[null,"Injured Reserve",null,null,null,null,null,null,null,null,null,null,"This Weeks Totals"]
["Player","P","GP","IR Weeks","Pts",null,null,null,null,null,null,"Forwards",null,{"$f":"SUM(I5:I12)","v":36}]
[null,"F",null,null,null,null,null,null,null,null,null,"Defense",null,{"$f":"SUM(I19:I23)","v":7}]
[null,"D",null,null,null,null,null,null,null,null,null,"Goalie",null,{"$f":"I28","v":16}]
[null,"G"]
[null,"Flex",null,null,null,null,null,null,null,null,null,"Total Points",null,{"$f":"SUM(N43:N45)","v":59}]
[]
[]
[]
[]
[]
[]
[]
[]
["Team Record","W","L","T","Pts","CP","BPF","BFA","Streak"]
["District 5",9,5,0,{"$f":"2*B57+D57","v":18},{"$f":"R36+R38","v":885},{"$f":"SUM(B61,B65,B69,B73,B77,F61,F65,F69,F73,F77,J61,J65,J69,J73,J77,N61,N65,N69,N73,N77,R61,R65)","v":787},{"$f":"SUM(B62,B66,B70,B74,B78,F62,F66,F70,F74,F78,J62,J66,J70,J74,J78,N62,N66,N70,N74,N78,R62,R66)","v":776},"Won 1"]
[]
[]
["Game 1","Score",null,"Game 6        ",null,"Score",null,"Game 11   ",null,"Score",null,"Game 16",null,"Score",null,"Game 21",null,"Score"]
["District 5",45,null,"District 5",null,50,null,"District 5",null,37,null,"District 5",null,0,null,"District 5",null,0]
["Ravens",61,null,"Just Chillin",null,42,null,"Damn Yankees",null,36,null,"Riketorians",null,0,null,"Slappers",null,0]
[]
["Game 2","Score",null,"Game 7       ",null,"Score",null,"Game 12",null,"Score",null,"Game 17",null,"Score",null,"Game 22",null,"Score"]
["District 5",71,null,"District 5",null,52,null,"District 5",null,60,null,"District 5",null,0,null,"District 5",null,0]
["Slappers",51,null,"Riketorians",null,46,null,"Ravens",null,39,null,"Arcane Sanctuary",null,0,null,"Ravens",null,0]
[]
["Game 3","Score",null,"Game 8       ",null,"Score",null,"Game 13",null,"Score",null,"Game 18",null,"Score"]
["District 5",65,null,"District 5",null,45,null,"District 5",null,65,null,"District 5",null,0]
["Arcane Sanctuary",53,null,"Arcane Sanctuary",null,44,null,"Slappers",null,84,null,"Highlanders",null,0]
[]
["Game 4","Score",null,"Game 9    ",null,"Score",null,"Game 14",null,"Score",null,"Game 19",null,"Score"]
["District 5",64,null,"District 5",null,53,null,"District 5",null,59,null,"District 5",null,0]
["Shawnee Tribe",44,null,"Grumpy Old Men",null,80,null,"Damn Yankees",null,58,null,"Just Chillin",null,0]
[]
["Game 5","Score",null,"Game 10   ",null,"Score",null,"Game 15",null,"Score",null,"Game 20",null,"Score"]
["District 5",61,null,"District 5",null,60,null,"District 5",null,0,null,"District 5",null,0]
["Grumpy Old Men",69,null,"Highlanders",null,69,null,"Grumpy Old Men",null,0,null,"Shawnee Tribe",null,0]

{"sheet":"Grumpy Old Men","index":7,"n_rows":78,"n_cols":18,"rows_kept":78,"cut":false,"hidden":false,"merged":[[77,3,77,4],[77,7,77,8],[77,11,77,12],[77,15,77,16],[75,3,75,4],[75,7,75,8],[75,11,75,12],[75,15,75,16],[76,3,76,4],[76,7,76,8],[76,11,76,12],[76,15,76,16],[72,3,72,4],[72,7,72,8],[72,11,72,12],[72,15,72,16],[73,3,73,4],[73,7,73,8],[73,11,73,12],[73,15,73,16],[69,3,69,4],[69,7,69,8],[69,11,69,12],[69,15,69,16],[71,3,71,4],[71,7,71,8],[71,11,71,12],[71,15,71,16],[67,3,67,4],[67,7,67,8],[67,11,67,12],[67,15,67,16],[68,3,68,4],[68,7,68,8],[68,11,68,12],[68,15,68,16],[64,3,64,4],[64,7,64,8],[64,11,64,12],[64,15,64,16],[65,3,65,4],[65,7,65,8],[65,11,65,12],[65,15,65,16],[61,3,61,4],[61,7,61,8],[61,11,61,12],[61,15,61,16],[63,3,63,4],[63,7,63,8],[63,11,63,12],[63,15,63,16],[59,3,59,4],[59,7,59,8],[59,11,59,12],[59,15,59,16],[60,3,60,4],[60,7,60,8],[60,11,60,12],[60,15,60,16]]}
["Team: Grumpy Old Men",null,null,"General Manager: Tom Romano"]
[]
[null,null,null,"Scoring This Week",null,null,null,null,null,null,null,null,null,"Players Overall Scoring"]
["Forwards","Gls","Ast","PP","SH","GW","OT","PSG","PTS",null,"Gls","Ast","PP","SH","GW","OT","PSG","PTS"]
["Vincent Trocheck",4,2,2,0,0,0,0,{"$f":"(B5+C5+D5+(2*E5)+(2*F5)+G5+(4*H5))","v":8},null,14,15,4,1,3,0,0,{"$f":"(K5+L5+M5+(2*N5)+(2*O5)+P5+(4*Q5))","v":41}]
["Bo Horvat",3,0,0,1,1,1,0,{"$f":"(B6+C6+D6+(2*E6)+(2*F6)+G6+(4*H6))","v":8},null,13,17,1,1,3,2,0,{"$f":"(K6+L6+M6+(2*N6)+(2*O6)+P6+(4*Q6))","v":41}]
["Jamie Benn",2,1,1,0,1,1,0,{"$f":"(B7+C7+D7+(2*E7)+(2*F7)+G7+(4*H7))","v":7},null,12,18,1,0,4,1,0,{"$f":"(K7+L7+M7+(2*N7)+(2*O7)+P7+(4*Q7))","v":40}]
["Nikolaj Ehlers",2,1,0,0,1,0,0,{"$f":"(B8+C8+D8+(2*E8)+(2*F8)+G8+(4*H8))","v":5},null,14,22,4,0,3,1,0,{"$f":"(K8+L8+M8+(2*N8)+(2*O8)+P8+(4*Q8))","v":47}]
["Andrei Svechnikov",2,2,0,0,0,0,0,{"$f":"(B9+C9+D9+(2*E9)+(2*F9)+G9+(4*H9))","v":4},null,14,17,8,0,1,0,0,{"$f":"(K9+L9+M9+(2*N9)+(2*O9)+P9+(4*Q9))","v":41}]
["Roope Hintz",1,1,0,0,1,0,0,{"$f":"(B10+C10+D10+(2*E10)+(2*F10)+G10+(4*H10))","v":4},null,19,7,4,0,4,0,0,{"$f":"(K10+L10+M10+(2*N10)+(2*O10)+P10+(4*Q10))","v":38}]
["Jared McCann",0,4,0,0,0,0,0,{"$f":"(B11+C11+D11+(2*E11)+(2*F11)+G11+(4*H11))","v":4},null,13,19,2,0,1,1,0,{"$f":"(K11+L11+M11+(2*N11)+(2*O11)+P11+(4*Q11))","v":37}]
["Mitch Marner",0,3,0,0,0,0,0,{"$f":"(B12+C12+D12+(2*E12)+(2*F12)+G12+(4*H12))","v":3},null,14,45,5,1,4,1,0,{"$f":"(K12+L12+M12+(2*N12)+(2*O12)+P12+(4*Q12))","v":75}]
["Matthew Tkachuk",0,3,0,0,0,0,0,{"$f":"(B13+C13+D13+(2*E13)+(2*F13)+G13+(4*H13))","v":3},null,14,25,8,0,1,0,0,{"$f":"(K13+L13+M13+(2*N13)+(2*O13)+P13+(4*Q13))","v":49}]
["Martin Necas",0,2,0,0,0,0,0,{"$f":"(B14+C14+D14+(2*E14)+(2*F14)+G14+(4*H14))","v":2},null,15,33,7,0,5,0,0,{"$f":"(K14+L14+M14+(2*N14)+(2*O14)+P14+(4*Q14))","v":65}]
["Steven Stamkos",0,0,0,0,0,0,0,{"$f":"(B15+C15+D15+(2*E15)+(2*F15)+G15+(4*H15))","v":0},null,12,13,7,0,3,0,0,{"$f":"(K15+L15+M15+(2*N15)+(2*O15)+P15+(4*Q15))","v":38}]
[]
[]
["Defense","Gls","Ast","PP","SH","GW","OT","PSG","PTS",null,"Gls","Ast","PP","SH","GW","OT","PSG","PTS"]
["Devon Toews",2,1,0,0,1,0,0,{"$f":"(B19+C19+D19+(2*E19)+(2*F19)+G19+(4*H19))","v":5},null,5,15,0,0,2,1,0,{"$f":"(K19+L19+M19+(2*N19)+(2*O19)+P19+(4*Q19))","v":25}]
["Charlie McAvoy",0,2,0,0,0,0,0,{"$f":"(B20+C20+D20+(2*E20)+(2*F20)+G20+(4*H20))","v":2},null,5,15,1,1,1,0,0,{"$f":"(K20+L20+M20+(2*N20)+(2*O20)+P20+(4*Q20))","v":25}]
["Brett Kulak",0,2,0,0,0,0,0,{"$f":"(B21+C21+D21+(2*E21)+(2*F21)+G21+(4*H21))","v":2},null,5,9,0,0,0,0,0,{"$f":"(K21+L21+M21+(2*N21)+(2*O21)+P21+(4*Q21))","v":14}]
["Alex Pietrangelo",0,0,0,0,0,0,0,{"$f":"(B22+C22+D22+(2*E22)+(2*F22)+G22+(4*H22))","v":0},null,3,18,0,0,1,0,0,{"$f":"(K22+L22+M22+(2*N22)+(2*O22)+P22+(4*Q22))","v":23}]
["Cale Makar",0,0,0,0,0,0,0,{"$f":"(B23+C23+D23+(2*E23)+(2*F23)+G23+(4*H23))","v":0},null,13,36,6,1,3,0,0,{"$f":"(K23+L23+M23+(2*N23)+(2*O23)+P23+(4*Q23))","v":63}]
["Rasmus Sandin",0,0,0,0,0,0,0,{"$f":"(B24+C24+D24+(2*E24)+(2*F24)+G24+(4*H24))","v":0},null,4,13,1,0,0,0,0,{"$f":"(K24+L24+M24+(2*N24)+(2*O24)+P24+(4*Q24))","v":18}]
["Neal Pionk",0,0,0,0,0,0,0,{"$f":"(B25+C25+D25+(2*E25)+(2*F25)+G25+(4*H25))","v":0},null,5,23,3,0,1,0,0,{"$f":"(K25+L25+M25+(2*N25)+(2*O25)+P25+(4*Q25))","v":33}]
[]
["Goalie","W","OT","SO","Gls","Ast","GAA","SP","PTS",null,"W","OT","SO","Gls","Ast","GAA","SP","PTS"]
["Sergei Bobrovsky",1,1,0,0,0,2.31,0.90900000000000003,{"$f":"((3*B28)+C28+(3*D28)+(10*E28)+(3*F28)+G29+H29)","v":7},null,18,2,1,0,0,2.73,0.9,{"$f":"((3*K28)+L28+(3*M28)+(10*N28)+(3*O28)+P29+Q29)","v":96}]
[null,7,181.87999999999988,70,77,null,2,1,{"$f":"((3*B28)+C28+(3*D28)+(10*E28)+(3*F28)+G29+H29)","v":7},null,null,null,null,null,null,18,19,{"$f":"((2*K28)+L28+(3*M28)+(10*N28)+(3*O28)+P29+Q29)","v":78}]
["Pyotr Kochetkov",1,0,0,0,0,3.03,0.90900000000000003,{"$f":"((3*B30)+C30+(3*D30)+(10*E30)+(3*F30)+G31+H31)","v":4},null,16,1,1,0,3,2.52,0.90200000000000002,{"$f":"((3*K30)+L30+(3*M30)+(10*N30)+(3*O30)+P31+Q31)","v":99}]
[null,6,118.83999999999992,60,66,null,0,1,{"$f":"((3*B30)+C30+(3*D30)+(10*E30)+(3*F30)+G31+H31)","v":4},null,null,null,null,null,null,20,18,{"$f":"((2*K30)+L30+(3*M30)+(10*N30)+(3*O30)+P31+Q31)","v":83}]
[null,null,null,"All Playes Scoring This Week",null,null,null,null,null,null,null,null,null,"Cumulative Points"]
[null,"Gls","Ast","PP","SH","GW","OT","PSG",null,null,"Gls","Ast","PP","SH","GW","OT","PSG","PTS"]
["Forwards",{"$f":"SUM(B5:B15)","v":14},{"$f":"SUM(C5:C15)","v":19},3,1,4,2,0,null,null,154,231,51,3,32,6,0,{"$f":"(K34+L34+M34+(2*N34)+(2*O34)+P34+(4*Q34))","v":512}]
["Defense",{"$f":"SUM(B19:B25)","v":2},{"$f":"SUM(C19:C25)","v":5},0,0,1,0,0,null,null,35,129,11,2,8,1,0,{"$f":"(K35+L35+M35+(2*N35)+(2*O35)+P35+(4*Q35))","v":196}]
["Total Scorers",{"$f":"SUM(B34:B35)","v":16},{"$f":"SUM(C34:C35)","v":24},3,1,5,2,0,null,null,{"$f":"SUM(K34:K35)","v":189},360,62,5,40,7,0,{"$f":"(K36+L36+M36+(2*N36)+(2*O36)+P36+(4*Q36))","v":708}]
[null,"W","OT","SO","Gls","Ast","GAA","SP",null,null,"W","OT","SO","Gls","Ast","GAA","SP","PTS"]
["Goalie Totals",{"$f":"SUM(B28,B30)","v":2},{"$f":"SUM(C28,C30)","v":1},{"$f":"SUM(D28,D30)","v":0},{"$f":"SUM(E28,E30)","v":0},{"$f":"SUM(F28,F30)","v":0},{"$f":"IF(C39=0,0,B39/(C39/60))","v":2.5937749401436569},{"$f":"IF(E39=0,0,D39/E39)","v":0.90909090909090906},null,null,34,3,2,0,3,{"$f":"IF(L39=0,0,K39/(L39/60))","v":2.6326070623591282},{"$f":"IF(N39=0,0,M39/N39)","v":0.90108401084010836},{"$f":"((3*K38)+L38+(3*M38)+(10*N38)+(3*O38)+P39+Q39)","v":195}]
[null,{"$f":"SUM(B29,B31)","v":13},{"$f":"SUM(C29,C31)","v":300.7199999999998},{"$f":"SUM(D29,D31)","v":130},{"$f":"SUM(E29,E31)","v":143},null,null,null,null,null,146,3327.5,1330,1476,null,38,37]
[null,null,null,null,null,null,null,null,null,null,"GA","Time","Saves","Shots"]
[]
[null,"Injured Reserve",null,null,null,null,null,null,null,null,null,null,"This Weeks Totals"]
["Player","P","GP","IR Weeks","Pts",null,null,null,null,null,null,"Forwards",null,{"$f":"SUM(I5:I12)","v":43}]
[null,"F",null,null,null,null,null,null,null,null,null,"Defense",null,{"$f":"SUM(I19:I23)","v":9}]
["Filip Hronek","D",0,5,9,null,null,null,null,null,null,"Goalie",null,{"$f":"I28","v":7}]
[null,"G"]
[null,"Flex",null,null,null,null,null,null,null,null,null,"Total Points",null,{"$f":"SUM(N43:N45)","v":59}]
[]
[]
[]
[]
[]
[]
[]
[]
["Team Record","W","L","T","Pts","CP","BPF","BFA","Streak"]
["Grumpy Old Men      ",10,4,0,{"$f":"2*B57+D57","v":20},{"$f":"R36+R38","v":903},{"$f":"SUM(B61,B65,B69,B73,B77,F61,F65,F69,F73,F77,J61,J65,J69,J73,J77,N61,N65,N69,N73,N77,R61,R65)","v":809},{"$f":"SUM(B62,B66,B70,B74,B78,F62,F66,F70,F74,F78,J62,J66,J70,J74,J78,N62,N66,N70,N74,N78,R62,R66)","v":766},"Won  4"]
[]
[]
["Game 1","Score",null,"Game 6        ",null,"Score",null,"Game 11   ",null,"Score",null,"Game 16",null,"Score",null,"Game 21",null,"Score"]
["Grumpy Old Men",31,null,"Grumpy Old Men",null,44,null,"Grumpy Old Men",null,44,null,"Grumpy Old Men",null,0,null,"Grumpy Old Men",null,0]
["Slappers",53,null,"Damn Yankees",null,45,null,"Riketorians",null,40,null,"Just Chillin",null,0,null,"Shawnee Tribe",null,0]
[]
["Game 2","Score",null,"Game 7       ",null,"Score",null,"Game 12",null,"Score",null,"Game 17",null,"Score",null,"Game 22",null,"Score"]
["Grumpy Old Men",63,null,"Grumpy Old Men",null,65,null,"Grumpy Old Men",null,51,null,"Grumpy Old Men",null,0,null,"Grumpy Old Men",null,0]
["Riketorians",60,null,"Highlanders",null,52,null,"Slappers",null,47,null,"Ravens",null,0,null,"Slappers",null,0]
[]
["Game 3","Score",null,"Game 8       ",null,"Score",null,"Game 13",null,"Score",null,"Game 18",null,"Score"]
["Grumpy Old Men",74,null,"Grumpy Old Men",null,53,null,"Grumpy Old Men",null,79,null,"Grumpy Old Men",null,0]
["Ravens",46,null,"Ravens",null,84,null,"Shawnee Tribe",null,59,null,"Arcane Sanctuary",null,0]
[]
["Game 4","Score",null,"Game 9    ",null,"Score",null,"Game 14",null,"Score",null,"Game 19",null,"Score"]
["Grumpy Old Men",58,null,"Grumpy Old Men",null,80,null,"Grumpy Old Men",null,59,null,"Grumpy Old Men",null,0]
["Arcane Sanctuary",55,null,"District 5",null,53,null,"Arcane Sanctuary",null,30,null,"Highlanders",null,0]
[]
["Game 5","Score",null,"Game 10   ",null,"Score",null,"Game 15",null,"Score",null,"Game 20",null,"Score"]
["Grumpy Old Men",69,null,"Grumpy Old Men",null,39,null,"Grumpy Old Men",null,0,null,"Grumpy Old Men",null,0]
["District 5",61,null,"Just Chillin",null,81,null,"District 5",null,0,null,"Damn Yankees",null,0]

{"sheet":"Just Chillin","index":8,"n_rows":78,"n_cols":18,"rows_kept":78,"cut":false,"hidden":false,"merged":[[77,3,77,4],[77,7,77,8],[77,11,77,12],[77,15,77,16],[75,3,75,4],[75,7,75,8],[75,11,75,12],[75,15,75,16],[76,3,76,4],[76,7,76,8],[76,11,76,12],[76,15,76,16],[72,3,72,4],[72,7,72,8],[72,11,72,12],[72,15,72,16],[73,3,73,4],[73,7,73,8],[73,11,73,12],[73,15,73,16],[69,3,69,4],[69,7,69,8],[69,11,69,12],[69,15,69,16],[71,3,71,4],[71,7,71,8],[71,11,71,12],[71,15,71,16],[67,3,67,4],[67,7,67,8],[67,11,67,12],[67,15,67,16],[68,3,68,4],[68,7,68,8],[68,11,68,12],[68,15,68,16],[64,3,64,4],[64,7,64,8],[64,11,64,12],[64,15,64,16],[65,3,65,4],[65,7,65,8],[65,11,65,12],[65,15,65,16],[61,3,61,4],[61,7,61,8],[61,11,61,12],[61,15,61,16],[63,3,63,4],[63,7,63,8],[63,11,63,12],[63,15,63,16],[59,3,59,4],[59,7,59,8],[59,11,59,12],[59,15,59,16],[60,3,60,4],[60,7,60,8],[60,11,60,12],[60,15,60,16]]}
["Team: Just Chillin",null,"General Manager: Mike Willoughby"]
[]
[null,null,null,"Scoring This Week",null,null,null,null,null,null,null,null,null,"Players Overall Scoring"]
["Forwards","Gls","Ast","PP","SH","GW","OT","PSG","PTS",null,"Gls","Ast","PP","SH","GW","OT","PSG","PTS"]
["Jordan Kyrou",2,1,1,0,1,0,0,{"$f":"(B5+C5+D5+(2*E5)+(2*F5)+G5+(4*H5))","v":6},null,19,19,5,0,3,0,0,{"$f":"(K5+L5+M5+(2*N5)+(2*O5)+P5+(4*Q5))","v":49}]
["Zach Hyman",1,2,1,0,1,0,0,{"$f":"(B6+C6+D6+(2*E6)+(2*F6)+G6+(4*H6))","v":6},null,14,11,5,0,5,0,0,{"$f":"(K6+L6+M6+(2*N6)+(2*O6)+P6+(4*Q6))","v":40}]
["Mark Scheifele",2,2,1,0,0,0,0,{"$f":"(B7+C7+D7+(2*E7)+(2*F7)+G7+(4*H7))","v":5},null,25,25,5,0,6,1,0,{"$f":"(K7+L7+M7+(2*N7)+(2*O7)+P7+(4*Q7))","v":68}]
["Mikko Rantanen",2,1,0,0,0,0,0,{"$f":"(B8+C8+D8+(2*E8)+(2*F8)+G8+(4*H8))","v":3},null,25,35,8,0,5,0,0,{"$f":"(K8+L8+M8+(2*N8)+(2*O8)+P8+(4*Q8))","v":78}]
["Jake Guentzel",1,1,1,0,0,0,0,{"$f":"(B9+C9+D9+(2*E9)+(2*F9)+G9+(4*H9))","v":3},null,21,19,9,0,1,0,0,{"$f":"(K9+L9+M9+(2*N9)+(2*O9)+P9+(4*Q9))","v":51}]
["Tage Thompson",1,0,1,0,0,0,0,{"$f":"(B10+C10+D10+(2*E10)+(2*F10)+G10+(4*H10))","v":2},null,19,15,4,0,1,0,0,{"$f":"(K10+L10+M10+(2*N10)+(2*O10)+P10+(4*Q10))","v":40}]
["Drake Batherson",1,0,1,0,0,0,0,{"$f":"(B11+C11+D11+(2*E11)+(2*F11)+G11+(4*H11))","v":2},null,14,23,8,0,2,0,0,{"$f":"(K11+L11+M11+(2*N11)+(2*O11)+P11+(4*Q11))","v":49}]
["Wyatt Johnston",1,0,0,0,0,0,0,{"$f":"(B12+C12+D12+(2*E12)+(2*F12)+G12+(4*H12))","v":1},null,10,20,2,1,1,0,0,{"$f":"(K12+L12+M12+(2*N12)+(2*O12)+P12+(4*Q12))","v":36}]
["Nico Hischier",0,1,0,0,0,0,0,{"$f":"(B13+C13+D13+(2*E13)+(2*F13)+G13+(4*H13))","v":1},null,19,17,6,0,2,0,0,{"$f":"(K13+L13+M13+(2*N13)+(2*O13)+P13+(4*Q13))","v":46}]
["Mikael Granlund",0,1,0,0,0,0,0,{"$f":"(B14+C14+D14+(2*E14)+(2*F14)+G14+(4*H14))","v":1},null,11,25,3,1,0,0,0,{"$f":"(K14+L14+M14+(2*N14)+(2*O14)+P14+(4*Q14))","v":41}]
["Evgeni Malkin",0,0,0,0,0,0,0,{"$f":"(B15+C15+D15+(2*E15)+(2*F15)+G15+(4*H15))","v":0},null,8,24,2,0,2,0,0,{"$f":"(K15+L15+M15+(2*N15)+(2*O15)+P15+(4*Q15))","v":38}]
[]
[]
["Defense","Gls","Ast","PP","SH","GW","OT","PSG","PTS",null,"Gls","Ast","PP","SH","GW","OT","PSG","PTS"]
["Zach Werenski",1,2,0,0,1,0,0,{"$f":"(B19+C19+D19+(2*E19)+(2*F19)+G19+(4*H19))","v":5},null,13,35,5,0,3,1,0,{"$f":"(K19+L19+M19+(2*N19)+(2*O19)+P19+(4*Q19))","v":60}]
["Morgan Rielly",1,1,0,0,1,1,0,{"$f":"(B20+C20+D20+(2*E20)+(2*F20)+G20+(4*H20))","v":5},null,5,15,1,0,2,1,0,{"$f":"(K20+L20+M20+(2*N20)+(2*O20)+P20+(4*Q20))","v":26}]
["Mason Lohrei",1,2,0,0,0,0,0,{"$f":"(B21+C21+D21+(2*E21)+(2*F21)+G21+(4*H21))","v":3},null,2,17,0,0,0,0,0,{"$f":"(K21+L21+M21+(2*N21)+(2*O21)+P21+(4*Q21))","v":19}]
["Matt Grzelcyk",0,2,0,0,0,0,0,{"$f":"(B22+C22+D22+(2*E22)+(2*F22)+G22+(4*H22))","v":2},null,1,21,0,0,0,0,0,{"$f":"(K22+L22+M22+(2*N22)+(2*O22)+P22+(4*Q22))","v":22}]
["Brandt Clarke",0,1,0,0,0,0,0,{"$f":"(B23+C23+D23+(2*E23)+(2*F23)+G23+(4*H23))","v":1},null,3,19,2,0,0,0,0,{"$f":"(K23+L23+M23+(2*N23)+(2*O23)+P23+(4*Q23))","v":24}]
["Jake Walman",0,1,0,0,0,0,0,{"$f":"(B24+C24+D24+(2*E24)+(2*F24)+G24+(4*H24))","v":1},null,5,21,0,0,1,0,0,{"$f":"(K24+L24+M24+(2*N24)+(2*O24)+P24+(4*Q24))","v":28}]
["Seth Jones",0,1,0,0,0,0,0,{"$f":"(B25+C25+D25+(2*E25)+(2*F25)+G25+(4*H25))","v":1},null,3,11,2,0,1,0,0,{"$f":"(K25+L25+M25+(2*N25)+(2*O25)+P25+(4*Q25))","v":18}]
[]
["Goalie","W","OT","SO","Gls","Ast","GAA","SP","PTS",null,"W","OT","SO","Gls","Ast","GAA","SP","PTS"]
["Connor Hellebuyck",2,0,1,0,0,1,0.96,{"$f":"((3*B28)+C28+(3*D28)+(10*E28)+(3*F28)+G29+H29)","v":18},null,26,2,6,0,0,2.02,0.92800000000000005,{"$f":"((3*K28)+L28+(3*M28)+(10*N28)+(3*O28)+P29+Q29)","v":170}]
[null,2,120,48,50,null,4,5,{"$f":"((3*B28)+C28+(3*D28)+(10*E28)+(3*F28)+G29+H29)","v":18},null,null,null,null,null,null,32,40,{"$f":"((2*K28)+L28+(3*M28)+(10*N28)+(3*O28)+P29+Q29)","v":144}]
["Joseph Woll",1,0,0,0,0,3.51,0.89200000000000002,{"$f":"((3*B30)+C30+(3*D30)+(10*E30)+(3*F30)+G31+H31)","v":3},null,14,0,1,0,0,2.58,0.91200000000000003,{"$f":"((3*K30)+L30+(3*M30)+(10*N30)+(3*O30)+P31+Q31)","v":88}]
[null,7,119.75,58,65,null,0,0,{"$f":"((3*B30)+C30+(3*D30)+(10*E30)+(3*F30)+G31+H31)","v":3},null,null,null,null,null,null,18,25,{"$f":"((2*K30)+L30+(3*M30)+(10*N30)+(3*O30)+P31+Q31)","v":74}]
[null,null,null,"All Playes Scoring This Week",null,null,null,null,null,null,null,null,null,"Cumulative Points"]
[null,"Gls","Ast","PP","SH","GW","OT","PSG",null,null,"Gls","Ast","PP","SH","GW","OT","PSG","PTS"]
["Forwards",{"$f":"SUM(B5:B15)","v":11},{"$f":"SUM(C5:C15)","v":9},6,0,2,0,0,null,null,181,220,57,2,27,1,0,{"$f":"(K34+L34+M34+(2*N34)+(2*O34)+P34+(4*Q34))","v":517}]
["Defense",{"$f":"SUM(B19:B25)","v":3},{"$f":"SUM(C19:C25)","v":10},0,0,2,1,0,null,null,34,122,10,1,7,2,0,{"$f":"(K35+L35+M35+(2*N35)+(2*O35)+P35+(4*Q35))","v":184}]
["Total Scorers",{"$f":"SUM(B34:B35)","v":14},{"$f":"SUM(C34:C35)","v":19},6,0,4,1,0,null,null,{"$f":"SUM(K34:K35)","v":215},342,67,3,34,3,0,{"$f":"(K36+L36+M36+(2*N36)+(2*O36)+P36+(4*Q36))","v":701}]
[null,"W","OT","SO","Gls","Ast","GAA","SP",null,null,"W","OT","SO","Gls","Ast","GAA","SP","PTS"]
["Goalie Totals",{"$f":"SUM(B28,B30)","v":3},{"$f":"SUM(C28,C30)","v":0},{"$f":"SUM(D28,D30)","v":1},{"$f":"SUM(E28,E30)","v":0},{"$f":"SUM(F28,F30)","v":0},{"$f":"IF(C39=0,0,B39/(C39/60))","v":2.2523461939520333},{"$f":"IF(E39=0,0,D39/E39)","v":0.92173913043478262},null,null,40,2,7,0,0,{"$f":"IF(L39=0,0,K39/(L39/60))","v":2.2331847594292564},{"$f":"IF(N39=0,0,M39/N39)","v":0.9215434083601286},{"$f":"((3*K38)+L38+(3*M38)+(10*N38)+(3*O38)+P39+Q39)","v":258}]
[null,{"$f":"SUM(B29,B31)","v":9},{"$f":"SUM(C29,C31)","v":239.75},{"$f":"SUM(D29,D31)","v":106},{"$f":"SUM(E29,E31)","v":115},null,null,null,null,null,122,3277.83,1433,1555,null,50,65]
[null,null,null,null,null,null,null,null,null,null,"GA","Time","Saves","Shots"]
[]
[null,"Injured Reserve",null,null,null,null,null,null,null,null,null,null,"This Weeks Totals"]
["Player","P","GP","IR Weeks","Pts",null,null,null,null,null,null,"Forwards",null,{"$f":"SUM(I5:I12)","v":28}]
[null,"F",null,null,null,null,null,null,null,null,null,"Defense",null,{"$f":"SUM(I19:I23)","v":16}]
[null,"D",null,null,null,null,null,null,null,null,null,"Goalie",null,{"$f":"I28","v":18}]
[null,"G"]
[null,"Flex",null,null,null,null,null,null,null,null,null,"Total Points",null,{"$f":"SUM(N43:N45)","v":62}]
[]
[]
[]
[]
[]
[]
[]
[]
["Team Record","W","L","T","Pts","CP","BPF","BFA","Streak"]
["Just Chillin      ",8,6,0,{"$f":"2*B57+D57","v":16},{"$f":"R36+R38","v":959},{"$f":"SUM(B61,B65,B69,B73,B77,F61,F65,F69,F73,F77,J61,J65,J69,J73,J77,N61,N65,N69,N73,N77,R61,R65)","v":849},{"$f":"SUM(B62,B66,B70,B74,B78,F62,F66,F70,F74,F78,J62,J66,J70,J74,J78,N62,N66,N70,N74,N78,R62,R66)","v":722},"Won  3"]
[]
[]
["Game 1","Score",null,"Game 6        ",null,"Score",null,"Game 11   ",null,"Score",null,"Game 16",null,"Score",null,"Game 21",null,"Score"]
["Just Chillin",62,null,"Just Chillin",null,42,null,"Just Chillin",null,33,null,"Just Chillin",null,0,null,"Just Chillin",null,0]
["Shawnee Tribe",41,null,"District 5",null,50,null,"Slappers",null,46,null,"Grumpy Old Men",null,0,null,"Highlanders",null,0]
[]
["Game 2","Score",null,"Game 7       ",null,"Score",null,"Game 12",null,"Score",null,"Game 17",null,"Score",null,"Game 22",null,"Score"]
["Just Chillin",65,null,"Just Chillin",null,69,null,"Just Chillin",null,51,null,"Just Chillin",null,0,null,"Just Chillin",null,0]
["Damn Yankees",40,null,"Slappers",null,64,null,"Arcane Sanctuary",null,32,null,"Damn Yankees",null,0,null,"Shawnee Tribe",null,0]
[]
["Game 3","Score",null,"Game 8       ",null,"Score",null,"Game 13",null,"Score",null,"Game 18",null,"Score"]
["Just Chillin",56,null,"Just Chillin",null,61,null,"Just Chillin",null,85,null,"Just Chillin",null,0]
["Highlanders",58,null,"Riketorians",null,63,null,"Highlanders",null,83,null,"Riketorians",null,0]
[]
["Game 4","Score",null,"Game 9    ",null,"Score",null,"Game 14",null,"Score",null,"Game 19",null,"Score"]
["Just Chillin",52,null,"Just Chillin",null,44,null,"Just Chillin",null,62,null,"Just Chillin",null,0]
["Riketorians",53,null,"Damn Yankees",null,47,null,"Shawnee Tribe",null,51,null,"District 5",null,0]
[]
["Game 5","Score",null,"Game 10   ",null,"Score",null,"Game 15",null,"Score",null,"Game 20",null,"Score"]
["Just Chillin",86,null,"Just Chillin",null,81,null,"Just Chillin",null,0,null,"Just Chillin",null,0]
["Ravens",55,null,"Grumpy Old Men",null,39,null,"Ravens",null,0,null,"Arcane Sanctuary",null,0]

{"sheet":"Slappers","index":9,"n_rows":78,"n_cols":18,"rows_kept":78,"cut":false,"hidden":false,"merged":[[77,3,77,4],[77,7,77,8],[77,11,77,12],[77,15,77,16],[75,3,75,4],[75,7,75,8],[75,11,75,12],[75,15,75,16],[76,3,76,4],[76,7,76,8],[76,11,76,12],[76,15,76,16],[72,3,72,4],[72,7,72,8],[72,11,72,12],[72,15,72,16],[73,3,73,4],[73,7,73,8],[73,11,73,12],[73,15,73,16],[69,3,69,4],[69,7,69,8],[69,11,69,12],[69,15,69,16],[71,3,71,4],[71,7,71,8],[71,11,71,12],[71,15,71,16],[67,3,67,4],[67,7,67,8],[67,11,67,12],[67,15,67,16],[68,3,68,4],[68,7,68,8],[68,11,68,12],[68,15,68,16],[64,3,64,4],[64,7,64,8],[64,11,64,12],[64,15,64,16],[65,3,65,4],[65,7,65,8],[65,11,65,12],[65,15,65,16],[61,3,61,4],[61,7,61,8],[61,11,61,12],[61,15,61,16],[63,3,63,4],[63,7,63,8],[63,11,63,12],[63,15,63,16],[59,3,59,4],[59,7,59,8],[59,11,59,12],[59,15,59,16],[60,3,60,4],[60,7,60,8],[60,11,60,12],[60,15,60,16]]}
["Team: Slappers",null,"General Manager: Vince Kovacs"]
[]
[null,null,null,"Scoring This Week",null,null,null,null,null,null,null,null,null,"Players Overall Scoring"]
["Forwards","Gls","Ast","PP","SH","GW","OT","PSG","PTS",null,"Gls","Ast","PP","SH","GW","OT","PSG","PTS"]
["David Pastrnak",4,1,1,0,1,1,0,{"$f":"(B5+C5+D5+(2*E5)+(2*F5)+G5+(4*H5))","v":9},null,19,26,5,0,4,3,0,{"$f":"(K5+L5+M5+(2*N5)+(2*O5)+P5+(4*Q5))","v":61}]
["Sebastian Aho",1,2,0,0,1,1,0,{"$f":"(B6+C6+D6+(2*E6)+(2*F6)+G6+(4*H6))","v":6},null,13,30,2,1,4,3,0,{"$f":"(K6+L6+M6+(2*N6)+(2*O6)+P6+(4*Q6))","v":58}]
["Jack Hughes",2,3,0,0,0,0,0,{"$f":"(B7+C7+D7+(2*E7)+(2*F7)+G7+(4*H7))","v":5},null,17,35,5,0,6,1,0,{"$f":"(K7+L7+M7+(2*N7)+(2*O7)+P7+(4*Q7))","v":70}]
["Rickard Rakell",3,1,0,0,0,0,0,{"$f":"(B8+C8+D8+(2*E8)+(2*F8)+G8+(4*H8))","v":4},null,21,15,4,0,1,1,0,{"$f":"(K8+L8+M8+(2*N8)+(2*O8)+P8+(4*Q8))","v":43}]
["Gabriel Vilardi",1,1,1,0,0,0,0,{"$f":"(B9+C9+D9+(2*E9)+(2*F9)+G9+(4*H9))","v":3},null,19,19,10,0,3,0,0,{"$f":"(K9+L9+M9+(2*N9)+(2*O9)+P9+(4*Q9))","v":54}]
["Jesper Bratt",1,2,0,0,0,0,0,{"$f":"(B10+C10+D10+(2*E10)+(2*F10)+G10+(4*H10))","v":3},null,15,36,4,1,0,0,0,{"$f":"(K10+L10+M10+(2*N10)+(2*O10)+P10+(4*Q10))","v":57}]
["Matvei Michkov",1,0,1,0,0,0,0,{"$f":"(B11+C11+D11+(2*E11)+(2*F11)+G11+(4*H11))","v":2},null,13,17,6,0,3,3,0,{"$f":"(K11+L11+M11+(2*N11)+(2*O11)+P11+(4*Q11))","v":45}]
["Jack Eichel",0,2,0,0,0,0,0,{"$f":"(B12+C12+D12+(2*E12)+(2*F12)+G12+(4*H12))","v":2},null,11,43,1,1,1,0,0,{"$f":"(K12+L12+M12+(2*N12)+(2*O12)+P12+(4*Q12))","v":59}]
["Jonathan Marchessault",0,2,0,0,0,0,0,{"$f":"(B13+C13+D13+(2*E13)+(2*F13)+G13+(4*H13))","v":2},null,14,17,3,0,2,1,0,{"$f":"(K13+L13+M13+(2*N13)+(2*O13)+P13+(4*Q13))","v":39}]
["Jason Zucker",0,0,0,0,0,0,0,{"$f":"(B14+C14+D14+(2*E14)+(2*F14)+G14+(4*H14))","v":0},null,15,16,8,0,2,0,0,{"$f":"(K14+L14+M14+(2*N14)+(2*O14)+P14+(4*Q14))","v":43}]
["Dylan Guenther",0,0,0,0,0,0,0,{"$f":"(B15+C15+D15+(2*E15)+(2*F15)+G15+(4*H15))","v":0},null,16,18,7,0,3,1,0,{"$f":"(K15+L15+M15+(2*N15)+(2*O15)+P15+(4*Q15))","v":48}]
[]
[]
["Defense","Gls","Ast","PP","SH","GW","OT","PSG","PTS",null,"Gls","Ast","PP","SH","GW","OT","PSG","PTS"]
["Jackson LaCombe",1,2,0,0,0,0,0,{"$f":"(B19+C19+D19+(2*E19)+(2*F19)+G19+(4*H19))","v":3},null,8,10,1,0,0,0,0,{"$f":"(K19+L19+M19+(2*N19)+(2*O19)+P19+(4*Q19))","v":19}]
["Rasmus Dahlin",0,3,0,0,0,0,0,{"$f":"(B20+C20+D20+(2*E20)+(2*F20)+G20+(4*H20))","v":3},null,6,25,3,0,1,1,0,{"$f":"(K20+L20+M20+(2*N20)+(2*O20)+P20+(4*Q20))","v":37}]
["Colton Parayko",1,0,1,0,0,0,0,{"$f":"(B21+C21+D21+(2*E21)+(2*F21)+G21+(4*H21))","v":2},null,8,16,1,1,2,1,0,{"$f":"(K21+L21+M21+(2*N21)+(2*O21)+P21+(4*Q21))","v":32}]
["Brent Burns",0,2,0,0,0,0,0,{"$f":"(B22+C22+D22+(2*E22)+(2*F22)+G22+(4*H22))","v":2},null,4,11,0,0,0,0,0,{"$f":"(K22+L22+M22+(2*N22)+(2*O22)+P22+(4*Q22))","v":15}]
["Brandon Montour",0,1,0,0,0,0,0,{"$f":"(B23+C23+D23+(2*E23)+(2*F23)+G23+(4*H23))","v":1},null,8,15,3,0,1,0,0,{"$f":"(K23+L23+M23+(2*N23)+(2*O23)+P23+(4*Q23))","v":28}]
["Noah Hanifin",0,0,0,0,0,0,0,{"$f":"(B24+C24+D24+(2*E24)+(2*F24)+G24+(4*H24))","v":0},null,6,15,1,0,1,0,0,{"$f":"(K24+L24+M24+(2*N24)+(2*O24)+P24+(4*Q24))","v":24}]
["Aaron Ekblad",0,0,0,0,0,0,0,{"$f":"(B25+C25+D25+(2*E25)+(2*F25)+G25+(4*H25))","v":0},null,2,18,0,0,1,0,0,{"$f":"(K25+L25+M25+(2*N25)+(2*O25)+P25+(4*Q25))","v":22}]
[]
["Goalie","W","OT","SO","Gls","Ast","GAA","SP","PTS",null,"W","OT","SO","Gls","Ast","GAA","SP","PTS"]
["Dustin Wolf",2,0,0,0,0,1.48,0.95,{"$f":"((3*B28)+C28+(3*D28)+(10*E28)+(3*F28)+G29+H29)","v":15},null,14,2,2,0,3,2.5299999999999998,0.91600000000000004,{"$f":"((3*K28)+L28+(3*M28)+(10*N28)+(3*O28)+P29+Q29)","v":110}]
[null,3,122.02999999999997,57,60,null,4,5,{"$f":"((3*B28)+C28+(3*D28)+(10*E28)+(3*F28)+G29+H29)","v":15},null,null,null,null,null,null,21,30,{"$f":"((2*K28)+L28+(3*M28)+(10*N28)+(3*O28)+P29+Q29)","v":96}]
["Jeremy Swayman",1,0,0,0,0,2.95,0.91900000000000004,{"$f":"((3*B30)+C30+(3*D30)+(10*E30)+(3*F30)+G31+H31)","v":6},null,14,3,2,0,0,2.91,0.89500000000000002,{"$f":"((3*K30)+L30+(3*M30)+(10*N30)+(3*O30)+P31+Q31)","v":83}]
[null,9,183.03999999999996,102,111,null,1,2,{"$f":"((3*B30)+C30+(3*D30)+(10*E30)+(3*F30)+G31+H31)","v":6},null,null,null,null,null,null,17,15,{"$f":"((2*K30)+L30+(3*M30)+(10*N30)+(3*O30)+P31+Q31)","v":69}]
[null,null,null,"All Playes Scoring This Week",null,null,null,null,null,null,null,null,null,"Cumulative Points"]
[null,"Gls","Ast","PP","SH","GW","OT","PSG",null,null,"Gls","Ast","PP","SH","GW","OT","PSG","PTS"]
["Forwards",{"$f":"SUM(B5:B15)","v":13},{"$f":"SUM(C5:C15)","v":14},3,0,2,2,0,null,null,154,265,44,3,27,13,0,{"$f":"(K34+L34+M34+(2*N34)+(2*O34)+P34+(4*Q34))","v":536}]
["Defense",{"$f":"SUM(B19:B25)","v":2},{"$f":"SUM(C19:C25)","v":8},1,0,0,0,0,null,null,38,121,13,1,6,2,0,{"$f":"(K35+L35+M35+(2*N35)+(2*O35)+P35+(4*Q35))","v":188}]
["Total Scorers",{"$f":"SUM(B34:B35)","v":15},{"$f":"SUM(C34:C35)","v":22},4,0,2,2,0,null,null,{"$f":"SUM(K34:K35)","v":192},386,57,4,33,15,0,{"$f":"(K36+L36+M36+(2*N36)+(2*O36)+P36+(4*Q36))","v":724}]
[null,"W","OT","SO","Gls","Ast","GAA","SP",null,null,"W","OT","SO","Gls","Ast","GAA","SP","PTS"]
["Goalie Totals",{"$f":"SUM(B28,B30)","v":3},{"$f":"SUM(C28,C30)","v":0},{"$f":"SUM(D28,D30)","v":0},{"$f":"SUM(E28,E30)","v":0},{"$f":"SUM(F28,F30)","v":0},{"$f":"IF(C39=0,0,B39/(C39/60))","v":2.3601140721801555},{"$f":"IF(E39=0,0,D39/E39)","v":0.92982456140350878},null,null,25,4,3,0,2,{"$f":"IF(L39=0,0,K39/(L39/60))","v":2.8112119235907533},{"$f":"IF(N39=0,0,M39/N39)","v":0.90053763440860213},{"$f":"((3*K38)+L38+(3*M38)+(10*N38)+(3*O38)+P39+Q39)","v":176}]
[null,{"$f":"SUM(B29,B31)","v":12},{"$f":"SUM(C29,C31)","v":305.06999999999994},{"$f":"SUM(D29,D31)","v":159},{"$f":"SUM(E29,E31)","v":171},null,null,null,null,null,148,3158.78,1340,1488,null,38,44]
[null,null,null,null,null,null,null,null,null,null,"GA","Time","Saves","Shots"]
[]
[null,"Injured Reserve",null,null,null,null,null,null,null,null,null,null,"This Weeks Totals"]
["Player","P","GP","IR Weeks","Pts",null,null,null,null,null,null,"Forwards",null,{"$f":"SUM(I5:I12)","v":34}]
[null,"F",null,null,null,null,null,null,null,null,null,"Defense",null,{"$f":"SUM(I19:I23)","v":11}]
["Shayne Gostisbehere","D",0,1,31,null,null,null,null,null,null,"Goalie",null,{"$f":"I28","v":15}]
["Frederik Andersen","G",0,10,30]
[null,"Flex",null,null,null,null,null,null,null,null,null,"Total Points",null,{"$f":"SUM(N43:N45)","v":60}]
[]
[]
[]
[]
[]
[]
[]
[]
["Team Record","W","L","T","Pts","CP","BPF","BFA","Streak"]
["Slappers",7,5,2,{"$f":"2*B57+D57","v":16},{"$f":"R36+R38","v":900},{"$f":"SUM(B61,B65,B69,B73,B77,F61,F65,F69,F73,F77,J61,J65,J69,J73,J77,N61,N65,N69,N73,N77,R61,R65)","v":819},{"$f":"SUM(B62,B66,B70,B74,B78,F62,F66,F70,F74,F78,J62,J66,J70,J74,J78,N62,N66,N70,N74,N78,R62,R66)","v":768},"Won  2"]
[]
[]
["Game 1","Score",null,"Game 6        ",null,"Score",null,"Game 11   ",null,"Score",null,"Game 16",null,"Score",null,"Game 21",null,"Score"]
["Slappers",53,null,"Slappers",null,57,null,"Slappers",null,46,null,"Slappers",null,0,null,"Slappers",null,0]
["Grumpy Old Men",31,null,"Shawnee Tribe",null,36,null,"Just Chillin",null,33,null,"Damn Yankees",null,0,null,"District 5",null,0]
[]
["Game 2","Score",null,"Game 7       ",null,"Score",null,"Game 12",null,"Score",null,"Game 17",null,"Score",null,"Game 22",null,"Score"]
["Slappers",51,null,"Slappers",null,64,null,"Slappers",null,47,null,"Slappers",null,0,null,"Slappers",null,0]
["District 5",71,null,"Just Chillin",null,69,null,"Grumpy Old Men",null,51,null,"Riketorians",null,0,null,"Grumpy Old Men",null,0]
[]
["Game 3","Score",null,"Game 8       ",null,"Score",null,"Game 13",null,"Score",null,"Game 18",null,"Score"]
["Slappers",60,null,"Slappers",null,63,null,"Slappers",null,84,null,"Slappers",null,0]
["Damn Yankees",60,null,"Highlanders",null,65,null,"District 5",null,65,null,"Ravens",null,0]
[]
["Game 4","Score",null,"Game 9    ",null,"Score",null,"Game 14",null,"Score",null,"Game 19",null,"Score"]
["Slappers",45,null,"Slappers",null,59,null,"Slappers",null,60,null,"Slappers",null,0]
["Ravens",55,null,"Arcane Sanctuary",null,53,null,"Ravens",null,57,null,"Shawnee Tribe",null,0]
[]
["Game 5","Score",null,"Game 10   ",null,"Score",null,"Game 15",null,"Score",null,"Game 20",null,"Score"]
["Slappers",73,null,"Slappers",null,57,null,"Slappers",null,0,null,"Slappers",null,0]
["Arcane Sanctuary",73,null,"Riketorians",null,49,null,"Arcane Sanctuary",null,0,null,"Highlanders",null,0]

{"sheet":"Shawnee Tribe","index":10,"n_rows":78,"n_cols":18,"rows_kept":78,"cut":false,"hidden":false,"merged":[[77,3,77,4],[77,7,77,8],[77,11,77,12],[77,15,77,16],[75,3,75,4],[75,7,75,8],[75,11,75,12],[75,15,75,16],[76,3,76,4],[76,7,76,8],[76,11,76,12],[76,15,76,16],[72,3,72,4],[72,7,72,8],[72,11,72,12],[72,15,72,16],[73,3,73,4],[73,7,73,8],[73,11,73,12],[73,15,73,16],[69,3,69,4],[69,7,69,8],[69,11,69,12],[69,15,69,16],[71,3,71,4],[71,7,71,8],[71,11,71,12],[71,15,71,16],[67,3,67,4],[67,7,67,8],[67,11,67,12],[67,15,67,16],[68,3,68,4],[68,7,68,8],[68,11,68,12],[68,15,68,16],[64,3,64,4],[64,7,64,8],[64,11,64,12],[64,15,64,16],[65,3,65,4],[65,7,65,8],[65,11,65,12],[65,15,65,16],[61,3,61,4],[61,7,61,8],[61,11,61,12],[61,15,61,16],[63,3,63,4],[63,7,63,8],[63,11,63,12],[63,15,63,16],[59,3,59,4],[59,7,59,8],[59,11,59,12],[59,15,59,16],[60,3,60,4],[60,7,60,8],[60,11,60,12],[60,15,60,16]]}
["Team: Shawnee Tribe",null,"General Manager: John Kaziun"]
[]
[null,null,null,"Scoring This Week",null,null,null,null,null,null,null,null,null,"Players Overall Scoring"]
["Forwards","Gls","Ast","PP","SH","GW","OT","PSG","PTS",null,"Gls","Ast","PP","SH","GW","OT","PSG","PTS"]
["Teuvo Teravainen",3,2,0,0,0,0,0,{"$f":"(B5+C5+D5+(2*E5)+(2*F5)+G5+(4*H5))","v":5},null,10,20,5,0,0,0,0,{"$f":"(K5+L5+M5+(2*N5)+(2*O5)+P5+(4*Q5))","v":35}]
["Seth Jarvis",3,1,0,0,0,0,0,{"$f":"(B6+C6+D6+(2*E6)+(2*F6)+G6+(4*H6))","v":4},null,12,18,4,1,0,0,0,{"$f":"(K6+L6+M6+(2*N6)+(2*O6)+P6+(4*Q6))","v":36}]
["Lucas Raymond",1,2,1,0,0,0,0,{"$f":"(B7+C7+D7+(2*E7)+(2*F7)+G7+(4*H7))","v":4},null,17,27,4,1,3,1,0,{"$f":"(K7+L7+M7+(2*N7)+(2*O7)+P7+(4*Q7))","v":57}]
["Mika Zibanejad",0,4,0,0,0,0,0,{"$f":"(B8+C8+D8+(2*E8)+(2*F8)+G8+(4*H8))","v":4},null,8,19,2,0,0,0,0,{"$f":"(K8+L8+M8+(2*N8)+(2*O8)+P8+(4*Q8))","v":29}]
["Robert Thomas",3,0,0,0,0,0,0,{"$f":"(B9+C9+D9+(2*E9)+(2*F9)+G9+(4*H9))","v":3},null,11,22,1,1,2,0,0,{"$f":"(K9+L9+M9+(2*N9)+(2*O9)+P9+(4*Q9))","v":40}]
["Patrik Laine",1,0,1,0,0,0,0,{"$f":"(B10+C10+D10+(2*E10)+(2*F10)+G10+(4*H10))","v":2},null,9,2,9,0,2,0,0,{"$f":"(K10+L10+M10+(2*N10)+(2*O10)+P10+(4*Q10))","v":24}]
["Carter Verhaeghe",1,1,0,0,0,0,0,{"$f":"(B11+C11+D11+(2*E11)+(2*F11)+G11+(4*H11))","v":2},null,10,20,3,0,3,0,0,{"$f":"(K11+L11+M11+(2*N11)+(2*O11)+P11+(4*Q11))","v":39}]
["Macklin Celebrini",0,1,0,0,0,0,0,{"$f":"(B12+C12+D12+(2*E12)+(2*F12)+G12+(4*H12))","v":1},null,13,16,4,0,3,1,0,{"$f":"(K12+L12+M12+(2*N12)+(2*O12)+P12+(4*Q12))","v":40}]
["Leo Carlsson",0,1,0,0,0,0,0,{"$f":"(B13+C13+D13+(2*E13)+(2*F13)+G13+(4*H13))","v":1},null,8,7,2,0,4,1,0,{"$f":"(K13+L13+M13+(2*N13)+(2*O13)+P13+(4*Q13))","v":26}]
["Cole Perfetti",0,0,0,0,0,0,0,{"$f":"(B14+C14+D14+(2*E14)+(2*F14)+G14+(4*H14))","v":0},null,7,16,3,0,1,0,0,{"$f":"(K14+L14+M14+(2*N14)+(2*O14)+P14+(4*Q14))","v":28}]
["Kirill Kaprizov",0,0,0,0,0,0,0,{"$f":"(B15+C15+D15+(2*E15)+(2*F15)+G15+(4*H15))","v":0},null,23,27,3,0,4,1,0,{"$f":"(K15+L15+M15+(2*N15)+(2*O15)+P15+(4*Q15))","v":62}]
[]
[]
["Defense","Gls","Ast","PP","SH","GW","OT","PSG","PTS",null,"Gls","Ast","PP","SH","GW","OT","PSG","PTS"]
["Lane Hutson",1,4,0,0,0,0,0,{"$f":"(B19+C19+D19+(2*E19)+(2*F19)+G19+(4*H19))","v":5},null,3,29,0,0,0,0,0,{"$f":"(K19+L19+M19+(2*N19)+(2*O19)+P19+(4*Q19))","v":32}]
["John Carlson",0,3,0,0,0,0,0,{"$f":"(B20+C20+D20+(2*E20)+(2*F20)+G20+(4*H20))","v":3},null,3,24,1,0,0,0,0,{"$f":"(K20+L20+M20+(2*N20)+(2*O20)+P20+(4*Q20))","v":28}]
["Evan Bouchard",0,2,0,0,0,0,0,{"$f":"(B21+C21+D21+(2*E21)+(2*F21)+G21+(4*H21))","v":2},null,7,25,0,0,0,0,0,{"$f":"(K21+L21+M21+(2*N21)+(2*O21)+P21+(4*Q21))","v":32}]
["Ryker Evans",1,0,0,0,0,0,0,{"$f":"(B22+C22+D22+(2*E22)+(2*F22)+G22+(4*H22))","v":1},null,5,14,1,0,0,0,0,{"$f":"(K22+L22+M22+(2*N22)+(2*O22)+P22+(4*Q22))","v":20}]
["Vince Dunn",0,0,0,0,0,0,0,{"$f":"(B23+C23+D23+(2*E23)+(2*F23)+G23+(4*H23))","v":0},null,8,10,1,0,2,1,0,{"$f":"(K23+L23+M23+(2*N23)+(2*O23)+P23+(4*Q23))","v":24}]
["Luke Hughes",0,0,0,0,0,0,0,{"$f":"(B24+C24+D24+(2*E24)+(2*F24)+G24+(4*H24))","v":0},null,3,15,0,0,1,0,0,{"$f":"(K24+L24+M24+(2*N24)+(2*O24)+P24+(4*Q24))","v":20}]
["Olen Zellweger",0,0,0,0,0,0,0,{"$f":"(B25+C25+D25+(2*E25)+(2*F25)+G25+(4*H25))","v":0},null,4,8,1,0,0,0,0,{"$f":"(K25+L25+M25+(2*N25)+(2*O25)+P25+(4*Q25))","v":13}]
[]
["Goalie","W","OT","SO","Gls","Ast","GAA","SP","PTS",null,"W","OT","SO","Gls","Ast","GAA","SP","PTS"]
["Igor Shesterkin",2,0,0,0,0,1.47,0.94299999999999995,{"$f":"((3*B28)+C28+(3*D28)+(10*E28)+(3*F28)+G29+H29)","v":15},null,13,1,1,0,0,2.98,0.90800000000000003,{"$f":"((3*K28)+L28+(3*M28)+(10*N28)+(3*O28)+P29+Q29)","v":87}]
[null,3,122.80000000000018,50,53,null,4,5,{"$f":"((3*B28)+C28+(3*D28)+(10*E28)+(3*F28)+G29+H29)","v":15},null,null,null,null,null,null,16,28,{"$f":"((2*K28)+L28+(3*M28)+(10*N28)+(3*O28)+P29+Q29)","v":74}]
["Juuse Saros",0,0,0,0,0,3.56,0.86399999999999999,{"$f":"((3*B30)+C30+(3*D30)+(10*E30)+(3*F30)+G31+H31)","v":0},null,9,6,4,0,1,2.78,0.90400000000000003,{"$f":"((3*K30)+L30+(3*M30)+(10*N30)+(3*O30)+P31+Q31)","v":88}]
[null,7,117.93000000000006,38,44,null,0,0,{"$f":"((3*B30)+C30+(3*D30)+(10*E30)+(3*F30)+G31+H31)","v":0},null,null,null,null,null,null,18,22,{"$f":"((2*K30)+L30+(3*M30)+(10*N30)+(3*O30)+P31+Q31)","v":79}]
[null,null,null,"All Playes Scoring This Week",null,null,null,null,null,null,null,null,null,"Cumulative Points"]
[null,"Gls","Ast","PP","SH","GW","OT","PSG",null,null,"Gls","Ast","PP","SH","GW","OT","PSG","PTS"]
["Forwards",{"$f":"SUM(B5:B15)","v":12},{"$f":"SUM(C5:C15)","v":12},2,0,0,0,0,null,null,133,199,37,3,22,4,0,{"$f":"(K34+L34+M34+(2*N34)+(2*O34)+P34+(4*Q34))","v":423}]
["Defense",{"$f":"SUM(B19:B25)","v":2},{"$f":"SUM(C19:C25)","v":9},0,0,0,0,0,null,null,33,127,3,0,2,1,0,{"$f":"(K35+L35+M35+(2*N35)+(2*O35)+P35+(4*Q35))","v":168}]
["Total Scorers",{"$f":"SUM(B34:B35)","v":14},{"$f":"SUM(C34:C35)","v":21},2,0,0,0,0,null,null,{"$f":"SUM(K34:K35)","v":166},326,40,3,24,5,0,{"$f":"(K36+L36+M36+(2*N36)+(2*O36)+P36+(4*Q36))","v":591}]
[null,"W","OT","SO","Gls","Ast","GAA","SP",null,null,"W","OT","SO","Gls","Ast","GAA","SP","PTS"]
["Goalie Totals",{"$f":"SUM(B28,B30)","v":2},{"$f":"SUM(C28,C30)","v":0},{"$f":"SUM(D28,D30)","v":0},{"$f":"SUM(E28,E30)","v":0},{"$f":"SUM(F28,F30)","v":0},{"$f":"IF(C39=0,0,B39/(C39/60))","v":2.4924188925352029},{"$f":"IF(E39=0,0,D39/E39)","v":0.90721649484536082},null,null,22,7,5,0,1,{"$f":"IF(L39=0,0,K39/(L39/60))","v":2.8693435954563102},{"$f":"IF(N39=0,0,M39/N39)","v":0.90590200445434299},{"$f":"((3*K38)+L38+(3*M38)+(10*N38)+(3*O38)+P39+Q39)","v":175}]
[null,{"$f":"SUM(B29,B31)","v":10},{"$f":"SUM(C29,C31)","v":240.73000000000025},{"$f":"SUM(D29,D31)","v":88},{"$f":"SUM(E29,E31)","v":97},null,null,null,null,null,170,3554.82,1627,1796,null,34,50]
[null,null,null,null,null,null,null,null,null,null,"GA","Time","Saves","Shots"]
[]
[null,"Injured Reserve",null,null,null,null,null,null,null,null,null,null,"This Weeks Totals"]
["Player","P","GP","IR Weeks","Pts",null,null,null,null,null,null,"Forwards",null,{"$f":"SUM(I5:I12)","v":25}]
[null,"F",null,null,null,null,null,null,null,null,null,"Defense",null,{"$f":"SUM(I19:I23)","v":11}]
[null,"D",null,null,null,null,null,null,null,null,null,"Goalie",null,{"$f":"I28","v":15}]
[null,"G"]
[null,"Flex",null,null,null,null,null,null,null,null,null,"Total Points",null,{"$f":"SUM(N43:N45)","v":51}]
[]
[]
[]
[]
[]
[]
[]
[]
["Team Record","W","L","T","Pts","CP","BPF","BFA","Streak"]
["Shawnee Tribe      ",5,8,1,{"$f":"2*B57+D57","v":11},{"$f":"R36+R38","v":766},{"$f":"SUM(B61,B65,B69,B73,B77,F61,F65,F69,F73,F77,J61,J65,J69,J73,J77,N61,N65,N69,N73,N77,R61,R65)","v":704},{"$f":"SUM(B62,B66,B70,B74,B78,F62,F66,F70,F74,F78,J62,J66,J70,J74,J78,N62,N66,N70,N74,N78,R62,R66)","v":778},"Lost  2"]
[]
[]
["Game 1","Score",null,"Game 6        ",null,"Score",null,"Game 11   ",null,"Score",null,"Game 16",null,"Score",null,"Game 21",null,"Score"]
["Shawnee Tribe",41,null,"Shawnee Tribe",null,36,null,"Shawnee Tribe",null,53,null,"Shawnee Tribe",null,0,null,"Shawnee Tribe",null,0]
["Just Chillin",62,null,"Slappers",null,57,null,"Ravens",null,26,null,"Arcane Sanctuary",null,0,null,"Grumpy Old Men",null,0]
[]
["Game 2","Score",null,"Game 7       ",null,"Score",null,"Game 12",null,"Score",null,"Game 17",null,"Score",null,"Game 22",null,"Score"]
["Shawnee Tribe",52,null,"Shawnee Tribe",null,49,null,"Shawnee Tribe",null,44,null,"Shawnee Tribe",null,0,null,"Shawnee Tribe",null,0]
["Highlanders",44,null,"Ravens",null,51,null,"Riketorians",null,44,null,"Highlanders",null,0,null,"Just Chillin",null,0]
[]
["Game 3","Score",null,"Game 8       ",null,"Score",null,"Game 13",null,"Score",null,"Game 18",null,"Score"]
["Shawnee Tribe",60,null,"Shawnee Tribe",null,77,null,"Shawnee Tribe",null,59,null,"Shawnee Tribe",null,0]
["Riketorians",46,null,"Damn Yankees",null,76,null,"Grumpy Old Men",null,79,null,"Damn Yankees",null,0]
[]
["Game 4","Score",null,"Game 9    ",null,"Score",null,"Game 14",null,"Score",null,"Game 19",null,"Score"]
["Shawnee Tribe",44,null,"Shawnee Tribe",null,46,null,"Shawnee Tribe",null,51,null,"Shawnee Tribe",null,0]
["District 5",64,null,"Highlanders",null,72,null,"Just Chillin",null,62,null,"Slappers",null,0]
[]
["Game 5","Score",null,"Game 10   ",null,"Score",null,"Game 15",null,"Score",null,"Game 20",null,"Score"]
["Shawnee Tribe",52,null,"Shawnee Tribe",null,40,null,"Shawnee Tribe",null,0,null,"Shawnee Tribe",null,0]
["Damn Yankees",33,null,"Arcane Sanctuary",null,62,null,"Riketorians",null,0,null,"District 5",null,0]

{"sheet":"Ravens","index":11,"n_rows":78,"n_cols":18,"rows_kept":78,"cut":false,"hidden":false,"merged":[[77,3,77,4],[77,7,77,8],[77,11,77,12],[77,15,77,16],[75,3,75,4],[75,7,75,8],[75,11,75,12],[75,15,75,16],[76,3,76,4],[76,7,76,8],[76,11,76,12],[76,15,76,16],[72,3,72,4],[72,7,72,8],[72,11,72,12],[72,15,72,16],[73,3,73,4],[73,7,73,8],[73,11,73,12],[73,15,73,16],[69,3,69,4],[69,7,69,8],[69,11,69,12],[69,15,69,16],[71,3,71,4],[71,7,71,8],[71,11,71,12],[71,15,71,16],[67,3,67,4],[67,7,67,8],[67,11,67,12],[67,15,67,16],[68,3,68,4],[68,7,68,8],[68,11,68,12],[68,15,68,16],[64,3,64,4],[64,7,64,8],[64,11,64,12],[64,15,64,16],[65,3,65,4],[65,7,65,8],[65,11,65,12],[65,15,65,16],[61,3,61,4],[61,7,61,8],[61,11,61,12],[61,15,61,16],[63,3,63,4],[63,7,63,8],[63,11,63,12],[63,15,63,16],[59,3,59,4],[59,7,59,8],[59,11,59,12],[59,15,59,16],[60,3,60,4],[60,7,60,8],[60,11,60,12],[60,15,60,16]]}
["Team: Ravens",null,"General Manager: Barrett Pagan"]
[]
[null,null,null,"Scoring This Week",null,null,null,null,null,null,null,null,null,"Players Overall Scoring"]
["Forwards","Gls","Ast","PP","SH","GW","OT","PSG","PTS",null,"Gls","Ast","PP","SH","GW","OT","PSG","PTS"]
["Travis Konecny",2,5,0,0,0,0,0,{"$f":"(B5+C5+D5+(2*E5)+(2*F5)+G5+(4*H5))","v":7},null,20,30,8,1,2,0,0,{"$f":"(K5+L5+M5+(2*N5)+(2*O5)+P5+(4*Q5))","v":64}]
["Brayden Point",2,1,1,0,1,0,0,{"$f":"(B6+C6+D6+(2*E6)+(2*F6)+G6+(4*H6))","v":6},null,25,22,12,0,6,2,0,{"$f":"(K6+L6+M6+(2*N6)+(2*O6)+P6+(4*Q6))","v":73}]
["Cole Caufield",2,2,0,0,0,0,0,{"$f":"(B7+C7+D7+(2*E7)+(2*F7)+G7+(4*H7))","v":4},null,23,17,7,0,3,0,0,{"$f":"(K7+L7+M7+(2*N7)+(2*O7)+P7+(4*Q7))","v":53}]
["Filip Forsberg",2,0,2,0,0,0,0,{"$f":"(B8+C8+D8+(2*E8)+(2*F8)+G8+(4*H8))","v":4},null,11,24,5,0,1,0,0,{"$f":"(K8+L8+M8+(2*N8)+(2*O8)+P8+(4*Q8))","v":42}]
["Alex DeBrincat",1,2,0,0,0,0,0,{"$f":"(B9+C9+D9+(2*E9)+(2*F9)+G9+(4*H9))","v":3},null,18,17,7,0,2,0,0,{"$f":"(K9+L9+M9+(2*N9)+(2*O9)+P9+(4*Q9))","v":46}]
["Artturi Lehkonen",1,0,0,1,0,0,0,{"$f":"(B10+C10+D10+(2*E10)+(2*F10)+G10+(4*H10))","v":3},null,15,6,1,1,3,0,0,{"$f":"(K10+L10+M10+(2*N10)+(2*O10)+P10+(4*Q10))","v":30}]
["Jake DeBrusk",1,0,1,0,0,0,0,{"$f":"(B11+C11+D11+(2*E11)+(2*F11)+G11+(4*H11))","v":2},null,17,12,7,0,2,1,0,{"$f":"(K11+L11+M11+(2*N11)+(2*O11)+P11+(4*Q11))","v":41}]
["Alex Ovechkin",1,1,0,0,0,0,0,{"$f":"(B12+C12+D12+(2*E12)+(2*F12)+G12+(4*H12))","v":2},null,20,12,5,0,4,0,0,{"$f":"(K12+L12+M12+(2*N12)+(2*O12)+P12+(4*Q12))","v":45}]
["Matt Duchene",1,0,0,0,0,0,0,{"$f":"(B13+C13+D13+(2*E13)+(2*F13)+G13+(4*H13))","v":1},null,16,22,3,0,4,1,0,{"$f":"(K13+L13+M13+(2*N13)+(2*O13)+P13+(4*Q13))","v":50}]
["Sean Monahan",0,1,0,0,0,0,0,{"$f":"(B14+C14+D14+(2*E14)+(2*F14)+G14+(4*H14))","v":1},null,14,27,4,0,2,0,0,{"$f":"(K14+L14+M14+(2*N14)+(2*O14)+P14+(4*Q14))","v":49}]
["Alex Laferriere",0,0,0,0,0,0,0,{"$f":"(B15+C15+D15+(2*E15)+(2*F15)+G15+(4*H15))","v":0},null,13,13,2,0,4,0,0,{"$f":"(K15+L15+M15+(2*N15)+(2*O15)+P15+(4*Q15))","v":36}]
[]
[]
["Defense","Gls","Ast","PP","SH","GW","OT","PSG","PTS",null,"Gls","Ast","PP","SH","GW","OT","PSG","PTS"]
["Quinn Hughes",1,4,0,0,0,0,0,{"$f":"(B19+C19+D19+(2*E19)+(2*F19)+G19+(4*H19))","v":5},null,9,38,1,0,1,0,0,{"$f":"(K19+L19+M19+(2*N19)+(2*O19)+P19+(4*Q19))","v":50}]
["Jakob Chychrun",1,1,1,0,0,0,0,{"$f":"(B20+C20+D20+(2*E20)+(2*F20)+G20+(4*H20))","v":3},null,12,17,4,0,3,1,0,{"$f":"(K20+L20+M20+(2*N20)+(2*O20)+P20+(4*Q20))","v":40}]
["Mattias Ekholm",0,1,0,0,0,0,0,{"$f":"(B21+C21+D21+(2*E21)+(2*F21)+G21+(4*H21))","v":1},null,6,12,3,0,1,1,0,{"$f":"(K21+L21+M21+(2*N21)+(2*O21)+P21+(4*Q21))","v":24}]
["Damon Severson",0,1,0,0,0,0,0,{"$f":"(B22+C22+D22+(2*E22)+(2*F22)+G22+(4*H22))","v":1},null,6,12,0,0,1,0,0,{"$f":"(K22+L22+M22+(2*N22)+(2*O22)+P22+(4*Q22))","v":20}]
["Michael Kesselring",0,1,0,0,0,0,0,{"$f":"(B23+C23+D23+(2*E23)+(2*F23)+G23+(4*H23))","v":1},null,4,12,0,0,1,1,0,{"$f":"(K23+L23+M23+(2*N23)+(2*O23)+P23+(4*Q23))","v":19}]
["Philip Broberg",0,0,0,0,0,0,0,{"$f":"(B24+C24+D24+(2*E24)+(2*F24)+G24+(4*H24))","v":0},null,3,11,0,0,1,0,0,{"$f":"(K24+L24+M24+(2*N24)+(2*O24)+P24+(4*Q24))","v":16}]
["Mike Matheson",0,0,0,0,0,0,0,{"$f":"(B25+C25+D25+(2*E25)+(2*F25)+G25+(4*H25))","v":0},null,2,18,1,0,0,0,0,{"$f":"(K25+L25+M25+(2*N25)+(2*O25)+P25+(4*Q25))","v":21}]
[]
["Goalie","W","OT","SO","Gls","Ast","GAA","SP","PTS",null,"W","OT","SO","Gls","Ast","GAA","SP","PTS"]
["Logan Thompson",2,1,0,0,0,1.84,0.94099999999999995,{"$f":"((3*B28)+C28+(3*D28)+(10*E28)+(3*F28)+G29+H29)","v":15},null,18,3,0,0,0,2.3199999999999998,0.91900000000000004,{"$f":"((3*K28)+L28+(3*M28)+(10*N28)+(3*O28)+P29+Q29)","v":107}]
[null,5,163.08999999999992,80,85,null,3,5,{"$f":"((3*B28)+C28+(3*D28)+(10*E28)+(3*F28)+G29+H29)","v":15},null,null,null,null,null,null,22,28,{"$f":"((2*K28)+L28+(3*M28)+(10*N28)+(3*O28)+P29+Q29)","v":89}]
["Jake Oettinger",2,0,0,0,0,2.36,0.91200000000000003,{"$f":"((3*B30)+C30+(3*D30)+(10*E30)+(3*F30)+G31+H31)","v":10},null,21,1,1,0,1,2.35,0.91,{"$f":"((3*K30)+L30+(3*M30)+(10*N30)+(3*O30)+P31+Q31)","v":125}]
[null,5,127.28999999999996,52,57,null,2,2,{"$f":"((3*B30)+C30+(3*D30)+(10*E30)+(3*F30)+G31+H31)","v":10},null,null,null,null,null,null,26,29,{"$f":"((2*K30)+L30+(3*M30)+(10*N30)+(3*O30)+P31+Q31)","v":104}]
[null,null,null,"All Playes Scoring This Week",null,null,null,null,null,null,null,null,null,"Cumulative Points"]
[null,"Gls","Ast","PP","SH","GW","OT","PSG",null,null,"Gls","Ast","PP","SH","GW","OT","PSG","PTS"]
["Forwards",{"$f":"SUM(B5:B15)","v":13},{"$f":"SUM(C5:C15)","v":12},4,1,1,0,0,null,null,186,207,55,2,29,5,0,{"$f":"(K34+L34+M34+(2*N34)+(2*O34)+P34+(4*Q34))","v":515}]
["Defense",{"$f":"SUM(B19:B25)","v":2},{"$f":"SUM(C19:C25)","v":8},1,0,0,0,0,null,null,36,122,10,0,6,2,0,{"$f":"(K35+L35+M35+(2*N35)+(2*O35)+P35+(4*Q35))","v":182}]
["Total Scorers",{"$f":"SUM(B34:B35)","v":15},{"$f":"SUM(C34:C35)","v":20},5,1,1,0,0,null,null,{"$f":"SUM(K34:K35)","v":222},329,65,2,35,7,0,{"$f":"(K36+L36+M36+(2*N36)+(2*O36)+P36+(4*Q36))","v":697}]
[null,"W","OT","SO","Gls","Ast","GAA","SP",null,null,"W","OT","SO","Gls","Ast","GAA","SP","PTS"]
["Goalie Totals",{"$f":"SUM(B28,B30)","v":4},{"$f":"SUM(C28,C30)","v":1},{"$f":"SUM(D28,D30)","v":0},{"$f":"SUM(E28,E30)","v":0},{"$f":"SUM(F28,F30)","v":0},{"$f":"IF(C39=0,0,B39/(C39/60))","v":2.0662580067497771},{"$f":"IF(E39=0,0,D39/E39)","v":0.92957746478873238},null,null,38,5,1,0,1,{"$f":"IF(L39=0,0,K39/(L39/60))","v":2.5059464390975035},{"$f":"IF(N39=0,0,M39/N39)","v":0.90778286461739699},{"$f":"((3*K38)+L38+(3*M38)+(10*N38)+(3*O38)+P39+Q39)","v":222}]
[null,{"$f":"SUM(B29,B31)","v":10},{"$f":"SUM(C29,C31)","v":290.37999999999988},{"$f":"SUM(D29,D31)","v":132},{"$f":"SUM(E29,E31)","v":142},null,null,null,null,null,141,3375.9700000000003,1388,1529,null,45,52]
[null,null,null,null,null,null,null,null,null,null,"GA","Time","Saves","Shots"]
[]
[null,"Injured Reserve",null,null,null,null,null,null,null,null,null,null,"This Weeks Totals"]
["Player","P","GP","IR Weeks","Pts",null,null,null,null,null,null,"Forwards",null,{"$f":"SUM(I5:I12)","v":31}]
["Ivan Barbashev","F",1,1,38,null,null,null,null,null,null,"Defense",null,{"$f":"SUM(I19:I23)","v":11}]
[null,"D",null,null,null,null,null,null,null,null,null,"Goalie",null,{"$f":"I28","v":15}]
[null,"G"]
[null,"Flex",null,null,null,null,null,null,null,null,null,"Total Points",null,{"$f":"SUM(N43:N45)","v":57}]
["Warning, Ivan Barbashev must be returned to lineup by start of Week 16"]
[]
[]
[]
[]
[]
[]
[]
["Team Record","W","L","T","Pts","CP","BPF","BFA","Streak"]
["Ravens      ",8,6,0,{"$f":"2*B57+D57","v":16},{"$f":"R36+R38","v":919},{"$f":"SUM(B61,B65,B69,B73,B77,F61,F65,F69,F73,F77,J61,J65,J69,J73,J77,N61,N65,N69,N73,N77,R61,R65)","v":809},{"$f":"SUM(B62,B66,B70,B74,B78,F62,F66,F70,F74,F78,J62,J66,J70,J74,J78,N62,N66,N70,N74,N78,R62,R66)","v":811},"Lost 1"]
[]
[]
["Game 1","Score",null,"Game 6        ",null,"Score",null,"Game 11   ",null,"Score",null,"Game 16",null,"Score",null,"Game 21",null,"Score"]
["Ravens",61,null,"Ravens",null,62,null,"Ravens",null,26,null,"Ravens",null,0,null,"Ravens",null,0]
["District 5",45,null,"Highlanders",null,74,null,"Shawnee Tribe",null,53,null,"Highlanders",null,0,null,"Arcane Sanctuary",null,0]
[]
["Game 2","Score",null,"Game 7       ",null,"Score",null,"Game 12",null,"Score",null,"Game 17",null,"Score",null,"Game 22",null,"Score"]
["Ravens",65,null,"Ravens",null,51,null,"Ravens",null,39,null,"Ravens",null,0,null,"Ravens",null,0]
["Arcane Sanctuary",55,null,"Shawnee Tribe",null,49,null,"District 5",null,60,null,"Grumpy Old Men",null,0,null,"District 5",null,0]
[]
["Game 3","Score",null,"Game 8       ",null,"Score",null,"Game 13",null,"Score",null,"Game 18",null,"Score"]
["Ravens",46,null,"Ravens",null,84,null,"Ravens",null,89,null,"Ravens",null,0]
["Grumpy Old Men",74,null,"Grumpy Old Men",null,53,null,"Arcane Sanctuary",null,50,null,"Slappers",null,0]
[]
["Game 4","Score",null,"Game 9    ",null,"Score",null,"Game 14",null,"Score",null,"Game 19",null,"Score"]
["Ravens",55,null,"Ravens",null,52,null,"Ravens",null,57,null,"Ravens",null,0]
["Slappers",45,null,"Riketorians",null,47,null,"Slappers",null,60,null,"Damn Yankees",null,0]
[]
["Game 5","Score",null,"Game 10   ",null,"Score",null,"Game 15",null,"Score",null,"Game 20",null,"Score"]
["Ravens",55,null,"Ravens",null,67,null,"Ravens",null,0,null,"Ravens",null,0]
["Just Chillin",86,null,"Damn Yankees",null,60,null,"Just Chillin",null,0,null,"Riketorians",null,0]

{"sheet":"Boxscores","index":12,"n_rows":186,"n_cols":11,"rows_kept":186,"cut":false,"hidden":false,"merged":[]}
["Box Scores Week 1",null,null,null,null,null,"Box Scores Week 2"]
[]
["Just Chillin",33,10,19,62,null,"Just Chillin",42,13,10,65]
["Shawnee Tribe",22,11,8,41,null,"Damn Yankees",31,6,3,40]
[]
["Damn Yankees",24,13,1,38,null,"Shawnee Tribe",28,9,15,52]
["Riketorians",27,10,12,49,null,"Highlanders",30,11,3,44]
[]
["Highlanders",11,13,1,25,null,"Riketorians",48,6,6,60]
["Arcane Sanctuary",32,6,6,44,null,"Grumpy Old Men",40,15,8,63]
[]
["Grumpy Old Men",16,12,3,31,null,"Arcane Sanctuary",35,15,5,55]
["Slappers",34,9,10,53,null,"Ravens",33,17,15,65]
[]
["District 5",31,6,8,45,null,"Slappers",28,11,12,51]
["Ravens",38,6,17,61,null,"District 5",45,13,13,71]
[]
["Box Scores Week 3",null,null,null,null,null,"Box Scores Week 4"]
[]
["Just Chillin",31,15,10,56,null,"Just Chillin",29,16,7,52]
["Highlanders",30,12,16,58,null,"Riketorians",35,7,11,53]
[]
["Shawnee Tribe",35,7,18,60,null,"Shawnee Tribe",25,10,9,44]
["Riketorians",26,13,7,46,null,"District 5",36,10,18,64]
[]
["Damn Yankees",44,10,6,60,null,"Damn Yankees",30,15,5,50]
["Slappers",36,9,15,60,null,"Highlanders",36,12,4,52]
[]
["Arcane Sanctuary",31,14,8,53,null,"Arcane Sanctuary",39,9,7,55]
["District 5",44,14,7,65,null,"Grumpy Old Men",34,16,8,58]
[]
["Grumpy Old Men",40,22,12,74,null,"Slappers",25,20,0,45]
["Ravens",32,10,4,46,null,"Ravens",39,13,3,55]
[]
["Box Scores Week 5",null,null,null,null,null,"Box Scores Week 6"]
[]
["Just Chillin",43,16,27,86,null,"Just Chillin",29,9,4,42]
["Ravens",39,11,5,55,null,"District 5",32,9,9,50]
[]
["Shawnee Tribe",31,7,14,52,null,"Shawnee Tribe",15,13,8,36]
["Damn Yankees",18,9,6,33,null,"Slappers",37,17,3,57]
[]
["Riketorians",28,6,7,41,null,"Damn Yankees",26,13,6,45]
["Highlanders",38,11,11,60,null,"Grumpy Old Men",26,10,8,44]
[]
["Arcane Sanctuary",41,12,20,73,null,"Riketorians",28,3,19,50]
["Slappers",49,12,12,73,null,"Arcane Sanctuary",25,14,5,44]
[]
["Grumpy Old Men",47,10,12,69,null,"Highlanders",44,14,16,74]
["District 5",40,14,7,61,null,"Ravens",34,10,18,62]
[]
["Box Scores Week 7",null,null,null,null,null,"Box Scores Week 8"]
[]
["Just Chillin",36,17,16,69,null,"Just Chillin",34,17,10,61]
["Slappers",36,13,15,64,null,"Riketorians",35,13,15,63]
[]
["Shawnee Tribe",26,11,12,49,null,"Shawnee Tribe",56,18,3,77]
["Ravens",33,7,11,51,null,"Damn Yankees",42,16,18,76]
[]
["Damn Yankees",19,14,15,48,null,"Highlanders",38,10,17,65]
["Arcane Sanctuary",29,10,0,39,null,"Slappers",36,19,8,63]
[]
["Riketorians",35,4,7,46,null,"Arcane Sanctuary",35,9,0,44]
["District 5",25,16,11,52,null,"District 5",25,13,7,45]
[]
["Highlanders",31,14,7,52,null,"Grumpy Old Men",32,10,11,53]
["Grumpy Old Men",39,14,12,65,null,"Ravens",48,25,11,84]
[]
["Box Scores Week 9",null,null,null,null,null,"Box Scores Week 10"]
[]
["Just Chillin",27,7,10,44,null,"Just Chillin",54,13,14,81]
["Damn Yankees",28,9,10,47,null,"Grumpy Old Men",22,11,6,39]
[]
["Shawnee Tribe",30,13,3,46,null,"Shawnee Tribe",27,10,3,40]
["Highlanders",44,13,15,72,null,"Arcane Sanctuary",41,9,12,62]
[]
["Riketorians",25,10,12,47,null,"Damn Yankees",36,10,14,60]
["Ravens",25,17,10,52,null,"Ravens",45,11,11,67]
[]
["Arcane Sanctuary",32,10,11,53,null,"Riketorians",30,9,10,49]
["Slappers",36,13,10,59,null,"Slappers",41,9,7,57]
[]
["Grumpy Old Men",52,16,12,80,null,"Highlanders",38,19,12,69]
["District 5",27,12,14,53,null,"District 5",40,7,13,60]
[]
["Box Scores Week 11",null,null,null,null,null,"Box Scores Week 12"]
[]
["Just Chillin",21,6,6,33,null,"Just Chillin",25,8,18,51]
["Slappers",32,9,5,46,null,"Arcane Sanctuary",24,5,3,32]
[]
["Shawnee Tribe",37,7,9,53,null,"Shawnee Tribe",21,12,11,44]
["Ravens",14,9,3,26,null,"Riketorians",23,5,16,44]
[]
["Damn Yankees",27,6,3,36,null,"Damn Yankees",28,7,3,38]
["District 5",21,4,12,37,null,"Highlanders",33,13,12,58]
[]
["Riketorians",20,8,12,40,null,"Grumpy Old Men",23,15,13,51]
["Grumpy Old Men",21,7,16,44,null,"Slappers",30,9,8,47]
[]
["Highlanders",19,5,3,27,null,"District 5",34,4,22,60]
["Arcane Sanctuary",19,3,0,22,null,"Ravens",20,7,12,39]
[]
["Box Scores Week 13",null,null,null,null,null,"Box Scores Week 14"]
[]
["Just Chillin",51,16,18,85,null,"Just Chillin",28,16,18,62]
["Highlanders",49,11,23,83,null,"Shawnee Tribe",25,11,15,51]
[]
["Shawnee Tribe",31,22,6,59,null,"Damn Yankees",33,12,13,58]
["Grumpy Old Men",50,21,8,79,null,"District 5",36,7,16,59]
[]
["Damn Yankees",38,12,21,71,null,"Riketorians",39,12,13,64]
["Riketorians",51,11,12,74,null,"Highlanders",38,14,5,57]
[]
["Arcane Sanctuary",39,8,3,50,null,"Arcane Sanctuary",19,9,2,30]
["Ravens",56,18,15,89,null,"Grumpy Old Men",43,9,7,59]
[]
["Slappers",45,23,16,84,null,"Slappers",34,11,15,60]
["District 5",37,21,7,65,null,"Ravens",31,11,15,57]
[]
["Box Scores Week 15",null,null,null,null,null,"Box Scores Week 16"]
[]
["Just Chillin",0,0,0,0,null,"Just Chillin",0,0,0,0]
["Ravens",0,0,0,0,null,"Grumpy Old Men",0,0,0,0]
[]
["Shawnee Tribe",0,0,0,0,null,"Shawnee Tribe",0,0,0,0]
["Riketorians",0,0,0,0,null,"Arcane Sanctuary",0,0,0,0]
[]
["Damn Yankees",0,0,0,0,null,"Damn Yankees",0,0,0,0]
["Highlanders",0,0,0,0,null,"Slappers",0,0,0,0]
[]
["Arcane Sanctuary",0,0,0,0,null,"Riketorians",0,0,0,0]
["Slappers",0,0,0,0,null,"District 5",0,0,0,0]
[]
["Grumpy Old Men",0,0,0,0,null,"Highlanders",0,0,0,0]
["District 5",0,0,0,0,null,"Ravens",0,0,0,0]
[]
["Box Scores Week 17",null,null,null,null,null,"Box Scores Week 18"]
[]
["Just Chillin",0,0,0,0,null,"Just Chillin",0,0,0,0]
["Damn Yankees",0,0,0,0,null,"Riketorians",0,0,0,0]
[]
["Shawnee Tribe",0,0,0,0,null,"Shawnee Tribe",0,0,0,0]
["Highlanders",0,0,0,0,null,"Damn Yankees",0,0,0,0]
[]
["Riketorians",0,0,0,0,null,"Highlanders",0,0,0,0]
["Slappers",0,0,0,0,null,"District 5",0,0,0,0]
[]
["Arcane Sanctuary",0,0,0,0,null,"Arcane Sanctuary",0,0,0,0]
["District 5",0,0,0,0,null,"Grumpy Old Men",0,0,0,0]
[]
["Grumpy Old Men",0,0,0,0,null,"Slappers",0,0,0,0]
["Ravens",0,0,0,0,null,"Ravens",0,0,0,0]
[]
["Box Scores Week 19",null,null,null,null,null,"Box Scores Week 20"]
[]
["Just Chillin",0,0,0,0,null,"Just Chillin",0,0,0,0]
["District 5",0,0,0,0,null,"Arcane Sanctuary",0,0,0,0]
[]
["Shawnee Tribe",0,0,0,0,null,"Shawnee Tribe",0,0,0,0]
["Slappers",0,0,0,0,null,"District 5",0,0,0,0]
[]
["Damn Yankees",0,0,0,0,null,"Damn Yankees",0,0,0,0]
["Ravens",0,0,0,0,null,"Grumpy Old Men",0,0,0,0]
[]
["Riketorians",0,0,0,0,null,"Riketorians",0,0,0,0]
["Arcane Sanctuary",0,0,0,0,null,"Ravens",0,0,0,0]
[]
["Highlanders",0,0,0,0,null,"Highlanders",0,0,0,0]
["Grumpy Old Men",0,0,0,0,null,"Slappers",0,0,0,0]
[]
["Box Scores Week 21",null,null,null,null,null,"Box Scores Week 22"]
[]
["Just Chillin",0,0,0,0,null,"Just Chillin",0,0,0,0]
["Highlanders",0,0,0,0,null,"Shawnee Tribe",0,0,0,0]
[]
["Shawnee Tribe",0,0,0,0,null,"Damn Yankees",0,0,0,0]
["Grumpy Old Men",0,0,0,0,null,"Arcane Sanctuary",0,0,0,0]
[]
["Damn Yankees",0,0,0,0,null,"Riketorians",0,0,0,0]
["Riketorians",0,0,0,0,null,"Highlanders",0,0,0,0]
[]
["Arcane Sanctuary",0,0,0,0,null,"Grumpy Old Men",0,0,0,0]
["Ravens",0,0,0,0,null,"Slappers",0,0,0,0]
[]
["Slappers",0,0,0,0,null,"District 5",0,0,0,0]
["District 5",0,0,0,0,null,"Ravens",0,0,0,0]

{"sheet":"Weekly Calc","index":13,"n_rows":111,"n_cols":11,"rows_kept":111,"cut":false,"hidden":false,"merged":[]}
["Forwards",null,"Points",null,"Defense",null,"Points",null,"Goalie",null,"Points"]
[{"$f":"Highlanders!A5","v":"Nick Suzuki"},"(HGL)",{"$f":"Highlanders!I5","v":12},null,{"$f":"Highlanders!A19","v":"Adam Fox"},"(HGL)",{"$f":"Highlanders!I19","v":6},null,{"$f":"'Just Chillin'!A28","v":"Connor Hellebuyck"},"(JCH)",{"$f":"'Just Chillin'!I28","v":18}]
[{"$f":"Slappers!A5","v":"David Pastrnak"},"(SLP)",{"$f":"Slappers!I5","v":9},null,{"$f":"'Shawnee Tribe'!A19","v":"Lane Hutson"},"(SHW)",{"$f":"'Shawnee Tribe'!I19","v":5},null,{"$f":"'District 5'!A28","v":"Ilya Sorokin"},"(DI5)",{"$f":"'District 5'!I28","v":16}]
[{"$f":"'Grumpy Old Men'!A5","v":"Vincent Trocheck"},"(GOM)",{"$f":"'Grumpy Old Men'!I5","v":8},null,{"$f":"'Just Chillin'!A19","v":"Zach Werenski"},"(JCH)",{"$f":"'Just Chillin'!I19","v":5},null,{"$f":"Slappers!A28","v":"Dustin Wolf"},"(SLP)",{"$f":"Slappers!I28","v":15}]
[{"$f":"Highlanders!A6","v":"Patrick Kane"},"(HGL)",{"$f":"Highlanders!I6","v":8},null,{"$f":"Ravens!A19","v":"Quinn Hughes"},"(RAV)",{"$f":"Ravens!I19","v":5},null,{"$f":"Ravens!A28","v":"Logan Thompson"},"(RAV)",{"$f":"Ravens!I28","v":15}]
[{"$f":"'Grumpy Old Men'!A6","v":"Bo Horvat"},"(GOM)",{"$f":"'Grumpy Old Men'!I6","v":8},null,{"$f":"'Grumpy Old Men'!A19","v":"Devon Toews"},"(GOM)",{"$f":"'Grumpy Old Men'!I19","v":5},null,{"$f":"'Shawnee Tribe'!A28","v":"Igor Shesterkin"},"(SHW)",{"$f":"'Shawnee Tribe'!I28","v":15}]
[{"$f":"Ravens!A5","v":"Travis Konecny"},"(RAV)",{"$f":"Ravens!I5","v":7},null,{"$f":"Riketorians!A19","v":"Erik Karlsson"},"(RIK)",{"$f":"Riketorians!I19","v":5},null,{"$f":"'Damn Yankees'!A28","v":"Darcy Kuemper"},"(DYK)",{"$f":"'Damn Yankees'!I28","v":13}]
[{"$f":"'District 5'!A5","v":"Matt Boldy"},"(DI5)",{"$f":"'District 5'!I5","v":7},null,{"$f":"'Just Chillin'!A20","v":"Morgan Rielly"},"(JCH)",{"$f":"'Just Chillin'!I20","v":5},null,{"$f":"Riketorians!A28","v":"Andrei Vasilevskiy"},"(RIK)",{"$f":"Riketorians!I28","v":13}]
[{"$f":"Riketorians!A5","v":"Artemi Panarin"},"(RIK)",{"$f":"Riketorians!I5","v":7},null,{"$f":"Slappers!A19","v":"Jackson LaCombe"},"(SLP)",{"$f":"Slappers!I19","v":3},null,{"$f":"'District 5'!A30","v":"Jacob Markstrom"},"(DI5)",{"$f":"'District 5'!I30","v":11}]
[{"$f":"'Grumpy Old Men'!A7","v":"Jamie Benn"},"(GOM)",{"$f":"'Grumpy Old Men'!I7","v":7},null,{"$f":"'Damn Yankees'!A19","v":"Thomas Harley"},"(DYK)",{"$f":"'Damn Yankees'!I19","v":3},null,{"$f":"Ravens!A30","v":"Jake Oettinger"},"(RAV)",{"$f":"Ravens!I30","v":10}]
[{"$f":"Ravens!A6","v":"Brayden Point"},"(RAV)",{"$f":"Ravens!I6","v":6},null,{"$f":"'District 5'!A19","v":"Jamie Drysdale"},"(DI5)",{"$f":"'District 5'!I19","v":3},null,{"$f":"'Grumpy Old Men'!A28","v":"Sergei Bobrovsky"},"(GOM)",{"$f":"'Grumpy Old Men'!I28","v":7}]
[{"$f":"'Just Chillin'!A5","v":"Jordan Kyrou"},"(JCH)",{"$f":"'Just Chillin'!I5","v":6},null,{"$f":"Slappers!A20","v":"Rasmus Dahlin"},"(SLP)",{"$f":"Slappers!I20","v":3},null,{"$f":"Slappers!A30","v":"Jeremy Swayman"},"(SLP)",{"$f":"Slappers!I30","v":6}]
[{"$f":"Slappers!A6","v":"Sebastian Aho"},"(SLP)",{"$f":"Slappers!I6","v":6},null,{"$f":"'Shawnee Tribe'!A20","v":"John Carlson"},"(SHW)",{"$f":"'Shawnee Tribe'!I20","v":3},null,{"$f":"Highlanders!A28","v":"Stuart Skinner"},"(HGL)",{"$f":"Highlanders!I28","v":5}]
[{"$f":"Highlanders!A7","v":"Mathew Barzal"},"(HGL)",{"$f":"Highlanders!I7","v":6},null,{"$f":"'District 5'!A20","v":"Dougie Hamilton"},"(DI5)",{"$f":"'District 5'!I20","v":3},null,{"$f":"'Grumpy Old Men'!A30","v":"Pyotr Kochetkov"},"(GOM)",{"$f":"'Grumpy Old Men'!I30","v":4}]
[{"$f":"Riketorians!A6","v":"Sidney Crosby"},"(RIK)",{"$f":"Riketorians!I6","v":6},null,{"$f":"Ravens!A20","v":"Jakob Chychrun"},"(RAV)",{"$f":"Ravens!I20","v":3},null,{"$f":"'Just Chillin'!A30","v":"Joseph Woll"},"(JCH)",{"$f":"'Just Chillin'!I30","v":3}]
[{"$f":"'Just Chillin'!A6","v":"Zach Hyman"},"(JCH)",{"$f":"'Just Chillin'!I6","v":6},null,{"$f":"'Arcane Sanctuary'!A19","v":"Dmitry Orlov"},"(ARS)",{"$f":"'Arcane Sanctuary'!I19","v":3},null,{"$f":"'Damn Yankees'!A30","v":"Thatcher Demko"},"(DYK)",{"$f":"'Damn Yankees'!I30","v":3}]
[{"$f":"'Damn Yankees'!A5","v":"Auston Matthews"},"(DYK)",{"$f":"'Damn Yankees'!I5","v":6},null,{"$f":"Riketorians!A20","v":"Alexander Romanov"},"(RIK)",{"$f":"Riketorians!I20","v":3},null,{"$f":"'Arcane Sanctuary'!A28","v":"David Rittich"},"(ARS)",{"$f":"'Arcane Sanctuary'!I28","v":2}]
[{"$f":"'Shawnee Tribe'!A5","v":"Teuvo Teravainen"},"(SHW)",{"$f":"'Shawnee Tribe'!I5","v":5},null,{"$f":"'Damn Yankees'!A20","v":"Roman Josi"},"(DYK)",{"$f":"'Damn Yankees'!I20","v":3},null,{"$f":"Highlanders!A30","v":"Filip Gustavsson"},"(HGL)",{"$f":"Highlanders!I30","v":0}]
[{"$f":"Riketorians!A7","v":"Mats Zuccarello"},"(RIK)",{"$f":"Riketorians!I7","v":5},null,{"$f":"'Damn Yankees'!A21","v":"Ryan Pulock"},"(DYK)",{"$f":"'Damn Yankees'!I21","v":3},null,{"$f":"Riketorians!A30","v":"Jordan Binnington"},"(RIK)",{"$f":"Riketorians!I30","v":0}]
[{"$f":"'Just Chillin'!A7","v":"Mark Scheifele"},"(JCH)",{"$f":"'Just Chillin'!I7","v":5},null,{"$f":"'Just Chillin'!A21","v":"Mason Lohrei"},"(JCH)",{"$f":"'Just Chillin'!I21","v":3},null,{"$f":"'Shawnee Tribe'!A30","v":"Juuse Saros"},"(SHW)",{"$f":"'Shawnee Tribe'!I30","v":0}]
[{"$f":"'Damn Yankees'!A6","v":"Tom Wilson"},"(DYK)",{"$f":"'Damn Yankees'!I6","v":5},null,{"$f":"'Grumpy Old Men'!A20","v":"Charlie McAvoy"},"(GOM)",{"$f":"'Grumpy Old Men'!I20","v":2},null,{"$f":"'Arcane Sanctuary'!A30","v":"Anthony Stolarz"},"(ARS)",{"$f":"'Arcane Sanctuary'!I30","v":0}]
[{"$f":"Riketorians!A8","v":"Adrian Kempe"},"(RIK)",{"$f":"Riketorians!I8","v":5},null,{"$f":"Slappers!A21","v":"Colton Parayko"},"(SLP)",{"$f":"Slappers!I21","v":2}]
[{"$f":"Slappers!A7","v":"Jack Hughes"},"(SLP)",{"$f":"Slappers!I7","v":5},null,{"$f":"'Shawnee Tribe'!A21","v":"Evan Bouchard"},"(SHW)",{"$f":"'Shawnee Tribe'!I21","v":2}]
[{"$f":"'Grumpy Old Men'!A8","v":"Nikolaj Ehlers"},"(GOM)",{"$f":"'Grumpy Old Men'!I8","v":5},null,{"$f":"Slappers!A22","v":"Brent Burns"},"(SLP)",{"$f":"Slappers!I22","v":2}]
[{"$f":"'District 5'!A6","v":"Nikita Kucherov"},"(DI5)",{"$f":"'District 5'!I6","v":5},null,{"$f":"'Grumpy Old Men'!A21","v":"Brett Kulak"},"(GOM)",{"$f":"'Grumpy Old Men'!I21","v":2}]
[{"$f":"'District 5'!A7","v":"Kyle Connor"},"(DI5)",{"$f":"'District 5'!I7","v":5},null,{"$f":"Highlanders!A20","v":"Josh Morrissey"},"(HGL)",{"$f":"Highlanders!I20","v":2}]
[{"$f":"Riketorians!A9","v":"Connor McDavid"},"(RIK)",{"$f":"Riketorians!I9","v":5},null,{"$f":"Highlanders!A21","v":"Thomas Chabot"},"(HGL)",{"$f":"Highlanders!I21","v":2}]
[{"$f":"'Arcane Sanctuary'!A5","v":"John Tavares"},"(ARS)",{"$f":"'Arcane Sanctuary'!I5","v":4},null,{"$f":"'Arcane Sanctuary'!A20","v":"Victor Hedman"},"(ARS)",{"$f":"'Arcane Sanctuary'!I20","v":2}]
[{"$f":"Highlanders!A8","v":"Leon Draisaitl"},"(HGL)",{"$f":"Highlanders!I8","v":4},null,{"$f":"Riketorians!A21","v":"Marcus Pettersson"},"(RIK)",{"$f":"Riketorians!I21","v":2}]
[{"$f":"'Damn Yankees'!A7","v":"Mark Stone"},"(DYK)",{"$f":"'Damn Yankees'!I7","v":4},null,{"$f":"'Arcane Sanctuary'!A21","v":"Gustav Forsling"},"(ARS)",{"$f":"'Arcane Sanctuary'!I21","v":2}]
[{"$f":"Ravens!A7","v":"Cole Caufield"},"(RAV)",{"$f":"Ravens!I7","v":4},null,{"$f":"'Just Chillin'!A22","v":"Matt Grzelcyk"},"(JCH)",{"$f":"'Just Chillin'!I22","v":2}]
[{"$f":"Ravens!A8","v":"Filip Forsberg"},"(RAV)",{"$f":"Ravens!I8","v":4},null,{"$f":"Highlanders!A22","v":"Shea Theodore"},"(HGL)",{"$f":"Highlanders!I22","v":2}]
[{"$f":"'Grumpy Old Men'!A9","v":"Andrei Svechnikov"},"(GOM)",{"$f":"'Grumpy Old Men'!I9","v":4},null,{"$f":"Highlanders!A23","v":"Jake Sanderson"},"(HGL)",{"$f":"Highlanders!I23","v":2}]
[{"$f":"'District 5'!A8","v":"Sam Reinhart"},"(DI5)",{"$f":"'District 5'!I8","v":4},null,{"$f":"'Damn Yankees'!A22","v":"MacKenzie Weegar"},"(DYK)",{"$f":"'Damn Yankees'!I22","v":2}]
[{"$f":"'Shawnee Tribe'!A6","v":"Seth Jarvis"},"(SHW)",{"$f":"'Shawnee Tribe'!I6","v":4},null,{"$f":"Highlanders!A24","v":"Simon Edvinsson"},"(HGL)",{"$f":"Highlanders!I24","v":2}]
[{"$f":"'Shawnee Tribe'!A7","v":"Lucas Raymond"},"(SHW)",{"$f":"'Shawnee Tribe'!I7","v":4},null,{"$f":"'District 5'!A21","v":"Miro Heiskanen"},"(DI5)",{"$f":"'District 5'!I21","v":1}]
[{"$f":"Slappers!A8","v":"Rickard Rakell"},"(SLP)",{"$f":"Slappers!I8","v":4},null,{"$f":"Ravens!A21","v":"Mattias Ekholm"},"(RAV)",{"$f":"Ravens!I21","v":1}]
[{"$f":"'Damn Yankees'!A8","v":"J.T. Miller"},"(DYK)",{"$f":"'Damn Yankees'!I8","v":4},null,{"$f":"Riketorians!A22","v":"Dylan DeMelo"},"(RIK)",{"$f":"Riketorians!I22","v":1}]
[{"$f":"'Grumpy Old Men'!A10","v":"Roope Hintz"},"(GOM)",{"$f":"'Grumpy Old Men'!I10","v":4},null,{"$f":"Riketorians!A23","v":"Chris Tanev"},"(RIK)",{"$f":"Riketorians!I23","v":1}]
[{"$f":"Riketorians!A10","v":"Brock Nelson"},"(RIK)",{"$f":"Riketorians!I10","v":4},null,{"$f":"Ravens!A22","v":"Damon Severson"},"(RAV)",{"$f":"Ravens!I22","v":1}]
[{"$f":"'District 5'!A9","v":"Jason Robertson"},"(DI5)",{"$f":"'District 5'!I9","v":4},null,{"$f":"'Shawnee Tribe'!A22","v":"Ryker Evans"},"(SHW)",{"$f":"'Shawnee Tribe'!I22","v":1}]
[{"$f":"'Damn Yankees'!A9","v":"Brandon Hagel"},"(DYK)",{"$f":"'Damn Yankees'!I9","v":4},null,{"$f":"Slappers!A23","v":"Brandon Montour"},"(SLP)",{"$f":"Slappers!I23","v":1}]
[{"$f":"'Shawnee Tribe'!A8","v":"Mika Zibanejad"},"(SHW)",{"$f":"'Shawnee Tribe'!I8","v":4},null,{"$f":"'Arcane Sanctuary'!A22","v":"Adam Larsson"},"(ARS)",{"$f":"'Arcane Sanctuary'!I22","v":1}]
[{"$f":"Riketorians!A11","v":"Connor Bedard"},"(RIK)",{"$f":"Riketorians!I11","v":4},null,{"$f":"'Damn Yankees'!A23","v":"Mikhail Sergachev"},"(DYK)",{"$f":"'Damn Yankees'!I23","v":1}]
[{"$f":"'District 5'!A10","v":"Brock Boeser"},"(DI5)",{"$f":"'District 5'!I10","v":4},null,{"$f":"'Damn Yankees'!A24","v":"Travis Sanheim"},"(DYK)",{"$f":"'Damn Yankees'!I24","v":1}]
[{"$f":"'District 5'!A11","v":"JJ Peterka"},"(DI5)",{"$f":"'District 5'!I11","v":4},null,{"$f":"'Arcane Sanctuary'!A23","v":"Noah Dobson"},"(ARS)",{"$f":"'Arcane Sanctuary'!I23","v":1}]
[{"$f":"'Damn Yankees'!A10","v":"Kirill Marchenko"},"(DYK)",{"$f":"'Damn Yankees'!I10","v":4},null,{"$f":"'Just Chillin'!A23","v":"Brandt Clarke"},"(JCH)",{"$f":"'Just Chillin'!I23","v":1}]
[{"$f":"'Damn Yankees'!A11","v":"Bryan Rust"},"(DYK)",{"$f":"'Damn Yankees'!I11","v":4},null,{"$f":"Ravens!A23","v":"Michael Kesselring"},"(RAV)",{"$f":"Ravens!I23","v":1}]
[{"$f":"'Grumpy Old Men'!A11","v":"Jared McCann"},"(GOM)",{"$f":"'Grumpy Old Men'!I11","v":4},null,{"$f":"'Just Chillin'!A24","v":"Jake Walman"},"(JCH)",{"$f":"'Just Chillin'!I24","v":1}]
[{"$f":"'Arcane Sanctuary'!A6","v":"Alex Tuch"},"(ARS)",{"$f":"'Arcane Sanctuary'!I6","v":3},null,{"$f":"'Just Chillin'!A25","v":"Seth Jones"},"(JCH)",{"$f":"'Just Chillin'!I25","v":1}]
[{"$f":"'Just Chillin'!A8","v":"Mikko Rantanen"},"(JCH)",{"$f":"'Just Chillin'!I8","v":3},null,{"$f":"'Grumpy Old Men'!A22","v":"Alex Pietrangelo"},"(GOM)",{"$f":"'Grumpy Old Men'!I22","v":0}]
[{"$f":"'Arcane Sanctuary'!A7","v":"Nathan MacKinnon"},"(ARS)",{"$f":"'Arcane Sanctuary'!I7","v":3},null,{"$f":"'District 5'!A22","v":"Moritz Seider"},"(DI5)",{"$f":"'District 5'!I22","v":0}]
[{"$f":"'Just Chillin'!A9","v":"Jake Guentzel"},"(JCH)",{"$f":"'Just Chillin'!I9","v":3},null,{"$f":"'District 5'!A23","v":"Brock Faber"},"(DI5)",{"$f":"'District 5'!I23","v":0}]
[{"$f":"Ravens!A9","v":"Alex DeBrincat"},"(RAV)",{"$f":"Ravens!I9","v":3},null,{"$f":"'Grumpy Old Men'!A23","v":"Cale Makar"},"(GOM)",{"$f":"'Grumpy Old Men'!I23","v":0}]
[{"$f":"'Arcane Sanctuary'!A8","v":"Anthony Cirelli"},"(ARS)",{"$f":"'Arcane Sanctuary'!I8","v":3},null,{"$f":"'District 5'!A24","v":"Bowen Byram"},"(DI5)",{"$f":"'District 5'!I24","v":0}]
[{"$f":"Slappers!A9","v":"Gabriel Vilardi"},"(SLP)",{"$f":"Slappers!I9","v":3},null,{"$f":"'Grumpy Old Men'!A24","v":"Rasmus Sandin"},"(GOM)",{"$f":"'Grumpy Old Men'!I24","v":0}]
[{"$f":"Slappers!A10","v":"Jesper Bratt"},"(SLP)",{"$f":"Slappers!I10","v":3},null,{"$f":"'District 5'!A25","v":"Rasmus Andersson"},"(DI5)",{"$f":"'District 5'!I25","v":0}]
[{"$f":"Highlanders!A9","v":"Dylan Larkin"},"(HGL)",{"$f":"Highlanders!I9","v":3},null,{"$f":"'Shawnee Tribe'!A23","v":"Vince Dunn"},"(SHW)",{"$f":"'Shawnee Tribe'!I23","v":0}]
[{"$f":"Ravens!A10","v":"Artturi Lehkonen"},"(RAV)",{"$f":"Ravens!I10","v":3},null,{"$f":"'Arcane Sanctuary'!A24","v":"Darnell Nurse"},"(ARS)",{"$f":"'Arcane Sanctuary'!I24","v":0}]
[{"$f":"'Shawnee Tribe'!A9","v":"Robert Thomas"},"(SHW)",{"$f":"'Shawnee Tribe'!I9","v":3},null,{"$f":"'Shawnee Tribe'!A24","v":"Luke Hughes"},"(SHW)",{"$f":"'Shawnee Tribe'!I24","v":0}]
[{"$f":"'District 5'!A12","v":"Pavel Buchnevich"},"(DI5)",{"$f":"'District 5'!I12","v":3},null,{"$f":"'Damn Yankees'!A25","v":"Jared Spurgeon"},"(DYK)",{"$f":"'Damn Yankees'!I25","v":0}]
[{"$f":"Riketorians!A12","v":"Alexis Lafrenière"},"(RIK)",{"$f":"Riketorians!I12","v":3},null,{"$f":"'Grumpy Old Men'!A25","v":"Neal Pionk"},"(GOM)",{"$f":"'Grumpy Old Men'!I25","v":0}]
[{"$f":"'Grumpy Old Men'!A12","v":"Mitch Marner"},"(GOM)",{"$f":"'Grumpy Old Men'!I12","v":3},null,{"$f":"'Arcane Sanctuary'!A25","v":"Samuel Girard"},"(ARS)",{"$f":"'Arcane Sanctuary'!I25","v":0}]
[{"$f":"'Grumpy Old Men'!A13","v":"Matthew Tkachuk"},"(GOM)",{"$f":"'Grumpy Old Men'!I13","v":3},null,{"$f":"Ravens!A24","v":"Philip Broberg"},"(RAV)",{"$f":"Ravens!I24","v":0}]
[{"$f":"Riketorians!A13","v":"Ryan Nugent-Hopkins"},"(RIK)",{"$f":"Riketorians!I13","v":3},null,{"$f":"Slappers!A24","v":"Noah Hanifin"},"(SLP)",{"$f":"Slappers!I24","v":0}]
[{"$f":"Riketorians!A14","v":"Claude Giroux"},"(RIK)",{"$f":"Riketorians!I14","v":3},null,{"$f":"Ravens!A25","v":"Mike Matheson"},"(RAV)",{"$f":"Ravens!I25","v":0}]
[{"$f":"'Just Chillin'!A10","v":"Tage Thompson"},"(JCH)",{"$f":"'Just Chillin'!I10","v":2},null,{"$f":"'Shawnee Tribe'!A25","v":"Olen Zellweger"},"(SHW)",{"$f":"'Shawnee Tribe'!I25","v":0}]
[{"$f":"'Arcane Sanctuary'!A9","v":"Nazem Kadri"},"(ARS)",{"$f":"'Arcane Sanctuary'!I9","v":2},null,{"$f":"Highlanders!A25","v":"Owen Power"},"(HGL)",{"$f":"Highlanders!I25","v":0}]
[{"$f":"'Just Chillin'!A11","v":"Drake Batherson"},"(JCH)",{"$f":"'Just Chillin'!I11","v":2},null,{"$f":"Riketorians!A24","v":"Brady Skjei"},"(RIK)",{"$f":"Riketorians!I24","v":0}]
[{"$f":"'Arcane Sanctuary'!A10","v":"Brady Tkachuk"},"(ARS)",{"$f":"'Arcane Sanctuary'!I10","v":2},null,{"$f":"Riketorians!A25","v":"Kris Letang"},"(RIK)",{"$f":"Riketorians!I25","v":0}]
[{"$f":"Ravens!A11","v":"Jake DeBrusk"},"(RAV)",{"$f":"Ravens!I11","v":2},null,{"$f":"Slappers!A25","v":"Aaron Ekblad"},"(SLP)",{"$f":"Slappers!I25","v":0}]
[{"$f":"Ravens!A12","v":"Alex Ovechkin"},"(RAV)",{"$f":"Ravens!I12","v":2}]
[{"$f":"Slappers!A11","v":"Matvei Michkov"},"(SLP)",{"$f":"Slappers!I11","v":2}]
[{"$f":"Highlanders!A10","v":"Dylan Strome"},"(HGL)",{"$f":"Highlanders!I10","v":2}]
[{"$f":"Highlanders!A11","v":"Aleksander Barkov"},"(HGL)",{"$f":"Highlanders!I11","v":2}]
[{"$f":"Slappers!A12","v":"Jack Eichel"},"(SLP)",{"$f":"Slappers!I12","v":2}]
[{"$f":"'Shawnee Tribe'!A10","v":"Patrik Laine"},"(SHW)",{"$f":"'Shawnee Tribe'!I10","v":2}]
[{"$f":"'Damn Yankees'!A12","v":"Tim Stützle"},"(DYK)",{"$f":"'Damn Yankees'!I12","v":2}]
[{"$f":"'Shawnee Tribe'!A11","v":"Carter Verhaeghe"},"(SHW)",{"$f":"'Shawnee Tribe'!I11","v":2}]
[{"$f":"Slappers!A13","v":"Jonathan Marchessault"},"(SLP)",{"$f":"Slappers!I13","v":2}]
[{"$f":"'Damn Yankees'!A13","v":"Clayton Keller"},"(DYK)",{"$f":"'Damn Yankees'!I13","v":2}]
[{"$f":"'District 5'!A13","v":"Owen Tippett"},"(DI5)",{"$f":"'District 5'!I13","v":2}]
[{"$f":"'District 5'!A14","v":"Tomas Hertl"},"(DI5)",{"$f":"'District 5'!I14","v":2}]
[{"$f":"'Grumpy Old Men'!A14","v":"Martin Necas"},"(GOM)",{"$f":"'Grumpy Old Men'!I14","v":2}]
[{"$f":"'Just Chillin'!A12","v":"Wyatt Johnston"},"(JCH)",{"$f":"'Just Chillin'!I12","v":1}]
[{"$f":"'Just Chillin'!A13","v":"Nico Hischier"},"(JCH)",{"$f":"'Just Chillin'!I13","v":1}]
[{"$f":"'Arcane Sanctuary'!A11","v":"Paul Cotter"},"(ARS)",{"$f":"'Arcane Sanctuary'!I11","v":1}]
[{"$f":"Highlanders!A12","v":"William Nylander"},"(HGL)",{"$f":"Highlanders!I12","v":1}]
[{"$f":"Highlanders!A13","v":"Josh Norris"},"(HGL)",{"$f":"Highlanders!I13","v":1}]
[{"$f":"Ravens!A13","v":"Matt Duchene"},"(RAV)",{"$f":"Ravens!I13","v":1}]
[{"$f":"'Just Chillin'!A14","v":"Mikael Granlund"},"(JCH)",{"$f":"'Just Chillin'!I14","v":1}]
[{"$f":"'Arcane Sanctuary'!A12","v":"Brad Marchand"},"(ARS)",{"$f":"'Arcane Sanctuary'!I12","v":1}]
[{"$f":"'Arcane Sanctuary'!A13","v":"Timo Meier"},"(ARS)",{"$f":"'Arcane Sanctuary'!I13","v":1}]
[{"$f":"Highlanders!A14","v":"Connor McMichael"},"(HGL)",{"$f":"Highlanders!I14","v":1}]
[{"$f":"'Shawnee Tribe'!A12","v":"Macklin Celebrini"},"(SHW)",{"$f":"'Shawnee Tribe'!I12","v":1}]
[{"$f":"'Damn Yankees'!A14","v":"Anze Kopitar"},"(DYK)",{"$f":"'Damn Yankees'!I14","v":1}]
[{"$f":"'Shawnee Tribe'!A13","v":"Leo Carlsson"},"(SHW)",{"$f":"'Shawnee Tribe'!I13","v":1}]
[{"$f":"Highlanders!A15","v":"Kyle Palmieri"},"(HGL)",{"$f":"Highlanders!I15","v":1}]
[{"$f":"Ravens!A14","v":"Sean Monahan"},"(RAV)",{"$f":"Ravens!I14","v":1}]
[{"$f":"Slappers!A14","v":"Jason Zucker"},"(SLP)",{"$f":"Slappers!I14","v":0}]
[{"$f":"'Just Chillin'!A15","v":"Evgeni Malkin"},"(JCH)",{"$f":"'Just Chillin'!I15","v":0}]
[{"$f":"Slappers!A15","v":"Dylan Guenther"},"(SLP)",{"$f":"Slappers!I15","v":0}]
[{"$f":"'Damn Yankees'!A15","v":"Kevin Fiala"},"(DYK)",{"$f":"'Damn Yankees'!I15","v":0}]
[{"$f":"'Arcane Sanctuary'!A14","v":"Chris Kreider"},"(ARS)",{"$f":"'Arcane Sanctuary'!I14","v":0}]
[{"$f":"'Grumpy Old Men'!A15","v":"Steven Stamkos"},"(GOM)",{"$f":"'Grumpy Old Men'!I15","v":0}]
[{"$f":"'District 5'!A15","v":"Will Cuylle"},"(DI5)",{"$f":"'District 5'!I15","v":0}]
[{"$f":"Riketorians!A15","v":"Ryan OReilly"},"(RIK)",{"$f":"Riketorians!I15","v":0}]
[{"$f":"Ravens!A15","v":"Alex Laferriere"},"(RAV)",{"$f":"Ravens!I15","v":0}]
[{"$f":"'Shawnee Tribe'!A14","v":"Cole Perfetti"},"(SHW)",{"$f":"'Shawnee Tribe'!I14","v":0}]
[{"$f":"'Arcane Sanctuary'!A15","v":"Mason Marchment"},"(ARS)",{"$f":"'Arcane Sanctuary'!I15","v":0}]
[{"$f":"'Shawnee Tribe'!A15","v":"Kirill Kaprizov"},"(SHW)",{"$f":"'Shawnee Tribe'!I15","v":0}]

{"sheet":"Total Calc","index":14,"n_rows":114,"n_cols":11,"rows_kept":114,"cut":false,"hidden":false,"merged":[]}
["Forwards",null,"Points",null,"Defense",null,"Points",null,"Goalie",null,"Points"]
[{"$f":"Highlanders!A8","v":"Leon Draisaitl"},"(HGL)",{"$f":"Highlanders!R8","v":92},null,{"$f":"'Grumpy Old Men'!A23","v":"Cale Makar"},"(GOM)",{"$f":"'Grumpy Old Men'!R23","v":63},null,{"$f":"'Just Chillin'!A28","v":"Connor Hellebuyck"},"(JCH)",{"$f":"'Just Chillin'!R28","v":170}]
[{"$f":"'Just Chillin'!A8","v":"Mikko Rantanen"},"(JCH)",{"$f":"'Just Chillin'!R8","v":78},null,{"$f":"'Just Chillin'!A19","v":"Zach Werenski"},"(JCH)",{"$f":"'Just Chillin'!R19","v":60},null,{"$f":"Highlanders!A30","v":"Filip Gustavsson"},"(HGL)",{"$f":"Highlanders!R30","v":138}]
[{"$f":"'Arcane Sanctuary'!A7","v":"Nathan MacKinnon"},"(ARS)",{"$f":"'Arcane Sanctuary'!R7","v":78},null,{"$f":"Ravens!A19","v":"Quinn Hughes"},"(RAV)",{"$f":"Ravens!R19","v":50},null,{"$f":"'District 5'!A30","v":"Jacob Markstrom"},"(DI5)",{"$f":"'District 5'!R30","v":135}]
[{"$f":"'District 5'!A7","v":"Kyle Connor"},"(DI5)",{"$f":"'District 5'!R7","v":77},null,{"$f":"Highlanders!A20","v":"Josh Morrissey"},"(HGL)",{"$f":"Highlanders!R20","v":40},null,{"$f":"Ravens!A30","v":"Jake Oettinger"},"(RAV)",{"$f":"Ravens!R30","v":125}]
[{"$f":"'Grumpy Old Men'!A12","v":"Mitch Marner"},"(GOM)",{"$f":"'Grumpy Old Men'!R12","v":75},null,{"$f":"Ravens!A20","v":"Jakob Chychrun"},"(RAV)",{"$f":"Ravens!R20","v":40},null,{"$f":"Riketorians!A28","v":"Andrei Vasilevskiy"},"(RIK)",{"$f":"Riketorians!R28","v":125}]
[{"$f":"Ravens!A6","v":"Brayden Point"},"(RAV)",{"$f":"Ravens!R6","v":73},null,{"$f":"'Damn Yankees'!A23","v":"Mikhail Sergachev"},"(DYK)",{"$f":"'Damn Yankees'!R23","v":39},null,{"$f":"'Damn Yankees'!A28","v":"Darcy Kuemper"},"(DYK)",{"$f":"'Damn Yankees'!R28","v":113}]
[{"$f":"Slappers!A7","v":"Jack Hughes"},"(SLP)",{"$f":"Slappers!R7","v":70},null,{"$f":"Slappers!A20","v":"Rasmus Dahlin"},"(SLP)",{"$f":"Slappers!R20","v":37},null,{"$f":"Slappers!A28","v":"Dustin Wolf"},"(SLP)",{"$f":"Slappers!R28","v":110}]
[{"$f":"'District 5'!A6","v":"Nikita Kucherov"},"(DI5)",{"$f":"'District 5'!R6","v":69},null,{"$f":"Highlanders!A19","v":"Adam Fox"},"(HGL)",{"$f":"Highlanders!R19","v":36},null,{"$f":"Ravens!A28","v":"Logan Thompson"},"(RAV)",{"$f":"Ravens!R28","v":107}]
[{"$f":"Riketorians!A9","v":"Connor McDavid"},"(RIK)",{"$f":"Riketorians!R9","v":68},null,{"$f":"'District 5'!A20","v":"Dougie Hamilton"},"(DI5)",{"$f":"'District 5'!R20","v":36},null,{"$f":"Highlanders!A28","v":"Stuart Skinner"},"(HGL)",{"$f":"Highlanders!R28","v":102}]
[{"$f":"'Just Chillin'!A7","v":"Mark Scheifele"},"(JCH)",{"$f":"'Just Chillin'!R7","v":68},null,{"$f":"Highlanders!A22","v":"Shea Theodore"},"(HGL)",{"$f":"Highlanders!R22","v":35},null,{"$f":"'Grumpy Old Men'!A30","v":"Pyotr Kochetkov"},"(GOM)",{"$f":"'Grumpy Old Men'!R30","v":99}]
[{"$f":"'District 5'!A8","v":"Sam Reinhart"},"(DI5)",{"$f":"'District 5'!R8","v":67},null,{"$f":"'Arcane Sanctuary'!A20","v":"Victor Hedman"},"(ARS)",{"$f":"'Arcane Sanctuary'!R20","v":34},null,{"$f":"'Grumpy Old Men'!A28","v":"Sergei Bobrovsky"},"(GOM)",{"$f":"'Grumpy Old Men'!R28","v":96}]
[{"$f":"'Grumpy Old Men'!A14","v":"Martin Necas"},"(GOM)",{"$f":"'Grumpy Old Men'!R14","v":65},null,{"$f":"'Grumpy Old Men'!A25","v":"Neal Pionk"},"(GOM)",{"$f":"'Grumpy Old Men'!R25","v":33},null,{"$f":"'Damn Yankees'!A46","v":"Linus Ullmark"},"(DYK)",{"$f":"'Damn Yankees'!E46","v":94}]
[{"$f":"Ravens!A5","v":"Travis Konecny"},"(RAV)",{"$f":"Ravens!R5","v":64},null,{"$f":"'Shawnee Tribe'!A21","v":"Evan Bouchard"},"(SHW)",{"$f":"'Shawnee Tribe'!R21","v":32},null,{"$f":"'Just Chillin'!A30","v":"Joseph Woll"},"(JCH)",{"$f":"'Just Chillin'!R30","v":88}]
[{"$f":"'Arcane Sanctuary'!A5","v":"John Tavares"},"(ARS)",{"$f":"'Arcane Sanctuary'!R5","v":62},null,{"$f":"'Shawnee Tribe'!A19","v":"Lane Hutson"},"(SHW)",{"$f":"'Shawnee Tribe'!R19","v":32},null,{"$f":"'District 5'!A28","v":"Ilya Sorokin"},"(DI5)",{"$f":"'District 5'!R28","v":88}]
[{"$f":"'Shawnee Tribe'!A15","v":"Kirill Kaprizov"},"(SHW)",{"$f":"'Shawnee Tribe'!R15","v":62},null,{"$f":"Slappers!A21","v":"Colton Parayko"},"(SLP)",{"$f":"Slappers!R21","v":32},null,{"$f":"'Shawnee Tribe'!A30","v":"Juuse Saros"},"(SHW)",{"$f":"'Shawnee Tribe'!R30","v":88}]
[{"$f":"Slappers!A5","v":"David Pastrnak"},"(SLP)",{"$f":"Slappers!R5","v":61},null,{"$f":"Riketorians!A19","v":"Erik Karlsson"},"(RIK)",{"$f":"Riketorians!R19","v":32},null,{"$f":"'Shawnee Tribe'!A28","v":"Igor Shesterkin"},"(SHW)",{"$f":"'Shawnee Tribe'!R28","v":87}]
[{"$f":"Riketorians!A6","v":"Sidney Crosby"},"(RIK)",{"$f":"Riketorians!R6","v":61},null,{"$f":"'Damn Yankees'!A20","v":"Roman Josi"},"(DYK)",{"$f":"'Damn Yankees'!R20","v":31},null,{"$f":"Slappers!A30","v":"Jeremy Swayman"},"(SLP)",{"$f":"Slappers!R30","v":83}]
[{"$f":"Highlanders!A12","v":"William Nylander"},"(HGL)",{"$f":"Highlanders!R12","v":61},null,{"$f":"Slappers!A45","v":"Shayne Gostisbehere"},"(SLP)",{"$f":"Slappers!E45","v":31},null,{"$f":"Riketorians!A30","v":"Jordan Binnington"},"(RIK)",{"$f":"Riketorians!R30","v":80}]
[{"$f":"Highlanders!A5","v":"Nick Suzuki"},"(HGL)",{"$f":"Highlanders!R5","v":59},null,{"$f":"Slappers!A23","v":"Brandon Montour"},"(SLP)",{"$f":"Slappers!R23","v":28},null,{"$f":"'Arcane Sanctuary'!A30","v":"Anthony Stolarz"},"(ARS)",{"$f":"'Arcane Sanctuary'!R30","v":78}]
[{"$f":"Slappers!A12","v":"Jack Eichel"},"(SLP)",{"$f":"Slappers!R12","v":59},null,{"$f":"'Just Chillin'!A24","v":"Jake Walman"},"(JCH)",{"$f":"'Just Chillin'!R24","v":28},null,{"$f":"'Arcane Sanctuary'!A28","v":"David Rittich"},"(ARS)",{"$f":"'Arcane Sanctuary'!R28","v":65}]
[{"$f":"'Arcane Sanctuary'!A10","v":"Brady Tkachuk"},"(ARS)",{"$f":"'Arcane Sanctuary'!R10","v":58},null,{"$f":"'Shawnee Tribe'!A20","v":"John Carlson"},"(SHW)",{"$f":"'Shawnee Tribe'!R20","v":28},null,{"$f":"Slappers!A46","v":"Frederik Andersen"},"(SLP)",{"$f":"Slappers!E46","v":30}]
[{"$f":"Slappers!A6","v":"Sebastian Aho"},"(SLP)",{"$f":"Slappers!R6","v":58},null,{"$f":"Highlanders!A23","v":"Jake Sanderson"},"(HGL)",{"$f":"Highlanders!R23","v":27},null,{"$f":"'Damn Yankees'!A30","v":"Thatcher Demko"},"(DYK)",{"$f":"'Damn Yankees'!R30","v":19}]
[{"$f":"'District 5'!A5","v":"Matt Boldy"},"(DI5)",{"$f":"'District 5'!R5","v":58},null,{"$f":"'District 5'!A24","v":"Bowen Byram"},"(DI5)",{"$f":"'District 5'!R24","v":26}]
[{"$f":"Slappers!A10","v":"Jesper Bratt"},"(SLP)",{"$f":"Slappers!R10","v":57},null,{"$f":"'Just Chillin'!A20","v":"Morgan Rielly"},"(JCH)",{"$f":"'Just Chillin'!R20","v":26}]
[{"$f":"'Shawnee Tribe'!A7","v":"Lucas Raymond"},"(SHW)",{"$f":"'Shawnee Tribe'!R7","v":57},null,{"$f":"'Grumpy Old Men'!A20","v":"Charlie McAvoy"},"(GOM)",{"$f":"'Grumpy Old Men'!R20","v":25}]
[{"$f":"Slappers!A9","v":"Gabriel Vilardi"},"(SLP)",{"$f":"Slappers!R9","v":54},null,{"$f":"'Grumpy Old Men'!A19","v":"Devon Toews"},"(GOM)",{"$f":"'Grumpy Old Men'!R19","v":25}]
[{"$f":"Ravens!A7","v":"Cole Caufield"},"(RAV)",{"$f":"Ravens!R7","v":53},null,{"$f":"'Damn Yankees'!A22","v":"MacKenzie Weegar"},"(DYK)",{"$f":"'Damn Yankees'!R22","v":24}]
[{"$f":"Riketorians!A5","v":"Artemi Panarin"},"(RIK)",{"$f":"Riketorians!R5","v":53},null,{"$f":"'Just Chillin'!A23","v":"Brandt Clarke"},"(JCH)",{"$f":"'Just Chillin'!R23","v":24}]
[{"$f":"'Damn Yankees'!A14","v":"Anze Kopitar"},"(DYK)",{"$f":"'Damn Yankees'!R14","v":53},null,{"$f":"Slappers!A24","v":"Noah Hanifin"},"(SLP)",{"$f":"Slappers!R24","v":24}]
[{"$f":"'Damn Yankees'!A13","v":"Clayton Keller"},"(DYK)",{"$f":"'Damn Yankees'!R13","v":52},null,{"$f":"'District 5'!A23","v":"Brock Faber"},"(DI5)",{"$f":"'District 5'!R23","v":24}]
[{"$f":"'Damn Yankees'!A9","v":"Brandon Hagel"},"(DYK)",{"$f":"'Damn Yankees'!R9","v":52},null,{"$f":"'Damn Yankees'!A19","v":"Thomas Harley"},"(DYK)",{"$f":"'Damn Yankees'!R19","v":24}]
[{"$f":"'Damn Yankees'!A10","v":"Kirill Marchenko"},"(DYK)",{"$f":"'Damn Yankees'!R10","v":51},null,{"$f":"Ravens!A21","v":"Mattias Ekholm"},"(RAV)",{"$f":"Ravens!R21","v":24}]
[{"$f":"Highlanders!A10","v":"Dylan Strome"},"(HGL)",{"$f":"Highlanders!R10","v":51},null,{"$f":"'Shawnee Tribe'!A23","v":"Vince Dunn"},"(SHW)",{"$f":"'Shawnee Tribe'!R23","v":24}]
[{"$f":"'Just Chillin'!A9","v":"Jake Guentzel"},"(JCH)",{"$f":"'Just Chillin'!R9","v":51},null,{"$f":"'District 5'!A22","v":"Moritz Seider"},"(DI5)",{"$f":"'District 5'!R22","v":24}]
[{"$f":"Ravens!A13","v":"Matt Duchene"},"(RAV)",{"$f":"Ravens!R13","v":50},null,{"$f":"'Grumpy Old Men'!A22","v":"Alex Pietrangelo"},"(GOM)",{"$f":"'Grumpy Old Men'!R22","v":23}]
[{"$f":"'Grumpy Old Men'!A13","v":"Matthew Tkachuk"},"(GOM)",{"$f":"'Grumpy Old Men'!R13","v":49},null,{"$f":"Highlanders!A25","v":"Owen Power"},"(HGL)",{"$f":"Highlanders!R25","v":22}]
[{"$f":"'Just Chillin'!A11","v":"Drake Batherson"},"(JCH)",{"$f":"'Just Chillin'!R11","v":49},null,{"$f":"'Damn Yankees'!A24","v":"Travis Sanheim"},"(DYK)",{"$f":"'Damn Yankees'!R24","v":22}]
[{"$f":"'Damn Yankees'!A6","v":"Tom Wilson"},"(DYK)",{"$f":"'Damn Yankees'!R6","v":49},null,{"$f":"'Arcane Sanctuary'!A21","v":"Gustav Forsling"},"(ARS)",{"$f":"'Arcane Sanctuary'!R21","v":22}]
[{"$f":"Ravens!A14","v":"Sean Monahan"},"(RAV)",{"$f":"Ravens!R14","v":49},null,{"$f":"'Arcane Sanctuary'!A19","v":"Dmitry Orlov"},"(ARS)",{"$f":"'Arcane Sanctuary'!R19","v":22}]
[{"$f":"'Just Chillin'!A5","v":"Jordan Kyrou"},"(JCH)",{"$f":"'Just Chillin'!R5","v":49},null,{"$f":"'Arcane Sanctuary'!A24","v":"Darnell Nurse"},"(ARS)",{"$f":"'Arcane Sanctuary'!R24","v":22}]
[{"$f":"'Arcane Sanctuary'!A12","v":"Brad Marchand"},"(ARS)",{"$f":"'Arcane Sanctuary'!R12","v":49},null,{"$f":"'Just Chillin'!A22","v":"Matt Grzelcyk"},"(JCH)",{"$f":"'Just Chillin'!R22","v":22}]
[{"$f":"Riketorians!A11","v":"Connor Bedard"},"(RIK)",{"$f":"Riketorians!R11","v":48},null,{"$f":"Slappers!A25","v":"Aaron Ekblad"},"(SLP)",{"$f":"Slappers!R25","v":22}]
[{"$f":"Slappers!A15","v":"Dylan Guenther"},"(SLP)",{"$f":"Slappers!R15","v":48},null,{"$f":"'District 5'!A25","v":"Rasmus Andersson"},"(DI5)",{"$f":"'District 5'!R25","v":22}]
[{"$f":"Riketorians!A8","v":"Adrian Kempe"},"(RIK)",{"$f":"Riketorians!R8","v":48},null,{"$f":"'Arcane Sanctuary'!A23","v":"Noah Dobson"},"(ARS)",{"$f":"'Arcane Sanctuary'!R23","v":21}]
[{"$f":"Highlanders!A9","v":"Dylan Larkin"},"(HGL)",{"$f":"Highlanders!R9","v":48},null,{"$f":"Ravens!A25","v":"Mike Matheson"},"(RAV)",{"$f":"Ravens!R25","v":21}]
[{"$f":"Highlanders!A11","v":"Aleksander Barkov"},"(HGL)",{"$f":"Highlanders!R11","v":47},null,{"$f":"Riketorians!A25","v":"Kris Letang"},"(RIK)",{"$f":"Riketorians!R25","v":21}]
[{"$f":"'Grumpy Old Men'!A8","v":"Nikolaj Ehlers"},"(GOM)",{"$f":"'Grumpy Old Men'!R8","v":47},null,{"$f":"'Arcane Sanctuary'!A25","v":"Samuel Girard"},"(ARS)",{"$f":"'Arcane Sanctuary'!R25","v":21}]
[{"$f":"'Just Chillin'!A13","v":"Nico Hischier"},"(JCH)",{"$f":"'Just Chillin'!R13","v":46},null,{"$f":"'Shawnee Tribe'!A22","v":"Ryker Evans"},"(SHW)",{"$f":"'Shawnee Tribe'!R22","v":20}]
[{"$f":"Ravens!A9","v":"Alex DeBrincat"},"(RAV)",{"$f":"Ravens!R9","v":46},null,{"$f":"'Shawnee Tribe'!A24","v":"Luke Hughes"},"(SHW)",{"$f":"'Shawnee Tribe'!R24","v":20}]
[{"$f":"Slappers!A11","v":"Matvei Michkov"},"(SLP)",{"$f":"Slappers!R11","v":45},null,{"$f":"Ravens!A22","v":"Damon Severson"},"(RAV)",{"$f":"Ravens!R22","v":20}]
[{"$f":"Ravens!A12","v":"Alex Ovechkin"},"(RAV)",{"$f":"Ravens!R12","v":45},null,{"$f":"Ravens!A23","v":"Michael Kesselring"},"(RAV)",{"$f":"Ravens!R23","v":19}]
[{"$f":"'Damn Yankees'!A11","v":"Bryan Rust"},"(DYK)",{"$f":"'Damn Yankees'!R11","v":44},null,{"$f":"Slappers!A19","v":"Jackson LaCombe"},"(SLP)",{"$f":"Slappers!R19","v":19}]
[{"$f":"Highlanders!A14","v":"Connor McMichael"},"(HGL)",{"$f":"Highlanders!R14","v":44},null,{"$f":"Highlanders!A21","v":"Thomas Chabot"},"(HGL)",{"$f":"Highlanders!R21","v":19}]
[{"$f":"'Damn Yankees'!A12","v":"Tim Stützle"},"(DYK)",{"$f":"'Damn Yankees'!R12","v":44},null,{"$f":"'District 5'!A21","v":"Miro Heiskanen"},"(DI5)",{"$f":"'District 5'!R21","v":19}]
[{"$f":"'Arcane Sanctuary'!A8","v":"Anthony Cirelli"},"(ARS)",{"$f":"'Arcane Sanctuary'!R8","v":44},null,{"$f":"'Just Chillin'!A21","v":"Mason Lohrei"},"(JCH)",{"$f":"'Just Chillin'!R21","v":19}]
[{"$f":"Slappers!A14","v":"Jason Zucker"},"(SLP)",{"$f":"Slappers!R14","v":43},null,{"$f":"Highlanders!A24","v":"Simon Edvinsson"},"(HGL)",{"$f":"Highlanders!R24","v":19}]
[{"$f":"Slappers!A8","v":"Rickard Rakell"},"(SLP)",{"$f":"Slappers!R8","v":43},null,{"$f":"'Grumpy Old Men'!A24","v":"Rasmus Sandin"},"(GOM)",{"$f":"'Grumpy Old Men'!R24","v":18}]
[{"$f":"'Damn Yankees'!A7","v":"Mark Stone"},"(DYK)",{"$f":"'Damn Yankees'!R7","v":43},null,{"$f":"'Damn Yankees'!A25","v":"Jared Spurgeon"},"(DYK)",{"$f":"'Damn Yankees'!R25","v":18}]
[{"$f":"Ravens!A8","v":"Filip Forsberg"},"(RAV)",{"$f":"Ravens!R8","v":42},null,{"$f":"'Just Chillin'!A25","v":"Seth Jones"},"(JCH)",{"$f":"'Just Chillin'!R25","v":18}]
[{"$f":"'Grumpy Old Men'!A5","v":"Vincent Trocheck"},"(GOM)",{"$f":"'Grumpy Old Men'!R5","v":41},null,{"$f":"Riketorians!A21","v":"Marcus Pettersson"},"(RIK)",{"$f":"Riketorians!R21","v":17}]
[{"$f":"Ravens!A11","v":"Jake DeBrusk"},"(RAV)",{"$f":"Ravens!R11","v":41},null,{"$f":"Riketorians!A24","v":"Brady Skjei"},"(RIK)",{"$f":"Riketorians!R24","v":16}]
[{"$f":"'Just Chillin'!A14","v":"Mikael Granlund"},"(JCH)",{"$f":"'Just Chillin'!R14","v":41},null,{"$f":"Ravens!A24","v":"Philip Broberg"},"(RAV)",{"$f":"Ravens!R24","v":16}]
[{"$f":"'Grumpy Old Men'!A9","v":"Andrei Svechnikov"},"(GOM)",{"$f":"'Grumpy Old Men'!R9","v":41},null,{"$f":"Slappers!A22","v":"Brent Burns"},"(SLP)",{"$f":"Slappers!R22","v":15}]
[{"$f":"'Grumpy Old Men'!A6","v":"Bo Horvat"},"(GOM)",{"$f":"'Grumpy Old Men'!R6","v":41},null,{"$f":"'Damn Yankees'!A21","v":"Ryan Pulock"},"(DYK)",{"$f":"'Damn Yankees'!R21","v":15}]
[{"$f":"'Just Chillin'!A10","v":"Tage Thompson"},"(JCH)",{"$f":"'Just Chillin'!R10","v":40},null,{"$f":"'Grumpy Old Men'!A21","v":"Brett Kulak"},"(GOM)",{"$f":"'Grumpy Old Men'!R21","v":14}]
[{"$f":"'Just Chillin'!A6","v":"Zach Hyman"},"(JCH)",{"$f":"'Just Chillin'!R6","v":40},null,{"$f":"Riketorians!A23","v":"Chris Tanev"},"(RIK)",{"$f":"Riketorians!R23","v":13}]
[{"$f":"'Grumpy Old Men'!A7","v":"Jamie Benn"},"(GOM)",{"$f":"'Grumpy Old Men'!R7","v":40},null,{"$f":"'Shawnee Tribe'!A25","v":"Olen Zellweger"},"(SHW)",{"$f":"'Shawnee Tribe'!R25","v":13}]
[{"$f":"'Shawnee Tribe'!A9","v":"Robert Thomas"},"(SHW)",{"$f":"'Shawnee Tribe'!R9","v":40},null,{"$f":"'District 5'!A19","v":"Jamie Drysdale"},"(DI5)",{"$f":"'District 5'!R19","v":11}]
[{"$f":"'Shawnee Tribe'!A12","v":"Macklin Celebrini"},"(SHW)",{"$f":"'Shawnee Tribe'!R12","v":40},null,{"$f":"Riketorians!A22","v":"Dylan DeMelo"},"(RIK)",{"$f":"Riketorians!R22","v":10}]
[{"$f":"'District 5'!A9","v":"Jason Robertson"},"(DI5)",{"$f":"'District 5'!R9","v":39},null,{"$f":"Riketorians!A20","v":"Alexander Romanov"},"(RIK)",{"$f":"Riketorians!R20","v":9}]
[{"$f":"Highlanders!A13","v":"Josh Norris"},"(HGL)",{"$f":"Highlanders!R13","v":39},null,{"$f":"'Grumpy Old Men'!A45","v":"Filip Hronek"},"(GOM)",{"$f":"'Grumpy Old Men'!E45","v":9}]
[{"$f":"Highlanders!A6","v":"Patrick Kane"},"(HGL)",{"$f":"Highlanders!R6","v":39},null,{"$f":"'Arcane Sanctuary'!A22","v":"Adam Larsson"},"(ARS)",{"$f":"'Arcane Sanctuary'!R22","v":8}]
[{"$f":"Slappers!A13","v":"Jonathan Marchessault"},"(SLP)",{"$f":"Slappers!R13","v":39},null,{"$f":"'Damn Yankees'!A45","v":"Drew Doughty"},"(DYK)",{"$f":"'Damn Yankees'!E45","v":0}]
[{"$f":"'Arcane Sanctuary'!A6","v":"Alex Tuch"},"(ARS)",{"$f":"'Arcane Sanctuary'!R6","v":39}]
[{"$f":"'Shawnee Tribe'!A11","v":"Carter Verhaeghe"},"(SHW)",{"$f":"'Shawnee Tribe'!R11","v":39}]
[{"$f":"'Damn Yankees'!A5","v":"Auston Matthews"},"(DYK)",{"$f":"'Damn Yankees'!R5","v":38}]
[{"$f":"'Just Chillin'!A15","v":"Evgeni Malkin"},"(JCH)",{"$f":"'Just Chillin'!R15","v":38}]
[{"$f":"'Grumpy Old Men'!A15","v":"Steven Stamkos"},"(GOM)",{"$f":"'Grumpy Old Men'!R15","v":38}]
[{"$f":"'District 5'!A14","v":"Tomas Hertl"},"(DI5)",{"$f":"'District 5'!R14","v":38}]
[{"$f":"Riketorians!A7","v":"Mats Zuccarello"},"(RIK)",{"$f":"Riketorians!R7","v":38}]
[{"$f":"'Grumpy Old Men'!A10","v":"Roope Hintz"},"(GOM)",{"$f":"'Grumpy Old Men'!R10","v":38}]
[{"$f":"Ravens!A44","v":"Ivan Barbashev"},"(RAV)",{"$f":"Ravens!E44","v":38}]
[{"$f":"'Grumpy Old Men'!A11","v":"Jared McCann"},"(GOM)",{"$f":"'Grumpy Old Men'!R11","v":37}]
[{"$f":"'District 5'!A11","v":"JJ Peterka"},"(DI5)",{"$f":"'District 5'!R11","v":37}]
[{"$f":"Riketorians!A15","v":"Ryan OReilly"},"(RIK)",{"$f":"Riketorians!R15","v":37}]
[{"$f":"'Arcane Sanctuary'!A13","v":"Timo Meier"},"(ARS)",{"$f":"'Arcane Sanctuary'!R13","v":36}]
[{"$f":"Riketorians!A13","v":"Ryan Nugent-Hopkins"},"(RIK)",{"$f":"Riketorians!R13","v":36}]
[{"$f":"'Just Chillin'!A12","v":"Wyatt Johnston"},"(JCH)",{"$f":"'Just Chillin'!R12","v":36}]
[{"$f":"Ravens!A15","v":"Alex Laferriere"},"(RAV)",{"$f":"Ravens!R15","v":36}]
[{"$f":"Highlanders!A44","v":"Elias Pettersson"},"(HGL)",{"$f":"Highlanders!E44","v":36}]
[{"$f":"'Shawnee Tribe'!A6","v":"Seth Jarvis"},"(SHW)",{"$f":"'Shawnee Tribe'!R6","v":36}]
[{"$f":"'Shawnee Tribe'!A5","v":"Teuvo Teravainen"},"(SHW)",{"$f":"'Shawnee Tribe'!R5","v":35}]
[{"$f":"'Arcane Sanctuary'!A9","v":"Nazem Kadri"},"(ARS)",{"$f":"'Arcane Sanctuary'!R9","v":35}]
[{"$f":"Riketorians!A10","v":"Brock Nelson"},"(RIK)",{"$f":"Riketorians!R10","v":34}]
[{"$f":"'Arcane Sanctuary'!A15","v":"Mason Marchment"},"(ARS)",{"$f":"'Arcane Sanctuary'!R15","v":34}]
[{"$f":"'District 5'!A10","v":"Brock Boeser"},"(DI5)",{"$f":"'District 5'!R10","v":34}]
[{"$f":"'Damn Yankees'!A8","v":"J.T. Miller"},"(DYK)",{"$f":"'Damn Yankees'!R8","v":33}]
[{"$f":"'Arcane Sanctuary'!A14","v":"Chris Kreider"},"(ARS)",{"$f":"'Arcane Sanctuary'!R14","v":32}]
[{"$f":"'Damn Yankees'!A15","v":"Kevin Fiala"},"(DYK)",{"$f":"'Damn Yankees'!R15","v":31}]
[{"$f":"Highlanders!A15","v":"Kyle Palmieri"},"(HGL)",{"$f":"Highlanders!R15","v":31}]
[{"$f":"Riketorians!A14","v":"Claude Giroux"},"(RIK)",{"$f":"Riketorians!R14","v":31}]
[{"$f":"Ravens!A10","v":"Artturi Lehkonen"},"(RAV)",{"$f":"Ravens!R10","v":30}]
[{"$f":"Riketorians!A12","v":"Alexis Lafrenière"},"(RIK)",{"$f":"Riketorians!R12","v":30}]
[{"$f":"'District 5'!A12","v":"Pavel Buchnevich"},"(DI5)",{"$f":"'District 5'!R12","v":30}]
[{"$f":"'District 5'!A13","v":"Owen Tippett"},"(DI5)",{"$f":"'District 5'!R13","v":29}]
[{"$f":"'Shawnee Tribe'!A8","v":"Mika Zibanejad"},"(SHW)",{"$f":"'Shawnee Tribe'!R8","v":29}]
[{"$f":"'District 5'!A15","v":"Will Cuylle"},"(DI5)",{"$f":"'District 5'!R15","v":28}]
[{"$f":"'Shawnee Tribe'!A14","v":"Cole Perfetti"},"(SHW)",{"$f":"'Shawnee Tribe'!R14","v":28}]
[{"$f":"'Shawnee Tribe'!A13","v":"Leo Carlsson"},"(SHW)",{"$f":"'Shawnee Tribe'!R13","v":26}]
[{"$f":"'Shawnee Tribe'!A10","v":"Patrik Laine"},"(SHW)",{"$f":"'Shawnee Tribe'!R10","v":24}]
[{"$f":"'Arcane Sanctuary'!A11","v":"Paul Cotter"},"(ARS)",{"$f":"'Arcane Sanctuary'!R11","v":20}]
[{"$f":"'Damn Yankees'!A44","v":"Valeri Nichushkin"},"(DYK)",{"$f":"'Damn Yankees'!E44","v":19}]
[{"$f":"Highlanders!A7","v":"Mathew Barzal"},"(HGL)",{"$f":"Highlanders!R7","v":16}]