{"text_format":"1","workbook":"xlsx","n_sheets":15,"sheets":["League News","More Stats","Shawnee Tribe","Fantasy Hockey Club","Grumpy Old Men","Highlanders","Team LIRHL","District 5","Riketorians","Just Chillin","Damn Yankees","Slappers","Boxscores","Weekly Calc","Total Calc"],"not_rendered":{"charts":0,"images":0,"macros":1,"external_links":0,"defined_names":0,"comments":0,"pivot_tables":0},"unopened":[],"bounds":{"document_bytes":16777216,"sheet_cells":100000,"rows_first":2000,"rows_last":500,"rows_between":2000,"halvings":0,"cell_chars":16384,"cell_head_chars":4096},"cells_cut":0,"cells_raw":0,"read":"whole","date_system":"1900"}

{"sheet":"League News","index":0,"n_rows":43,"n_cols":20,"rows_kept":43,"cut":false,"hidden":false,"merged":[[35,0,35,5],[41,14,41,19],[42,14,42,19],[39,14,39,19],[36,14,36,19],[40,14,40,19],[42,6,42,13],[41,6,41,13],[38,0,38,5],[42,0,42,5],[40,0,40,5],[18,16,18,17],[40,6,40,13],[19,16,19,17],[37,14,37,19],[35,14,35,19],[38,14,38,19],[35,6,35,13],[43,0,43,5],[37,0,37,5],[43,6,43,13],[41,0,41,5],[36,0,36,5],[39,0,39,5]]}
[]
[null,"Team Standings",null,null,null,null,null,null,"Scoring This Week",null,null,null,"Team Fees",null,null,"Box Scores Week 13"]
["Prince of Wales Conference"]
[null,"W","L","T","Pts","CP",null,"BPF","BPA","Streak",null,"Moves","Paid","Owed",null,"Grumpy Old Men",51,18,12,81]
["Riketorians",{"$f":"Riketorians!B57","v":7},{"$f":"Riketorians!C57","v":5},{"$f":"Riketorians!D57","v":1},{"$f":"Riketorians!E57","v":15},{"$f":"Riketorians!F57","v":845},null,{"$f":"Riketorians!G57","v":769},{"$f":"Riketorians!H57","v":723},{"$f":"Riketorians!I57","v":"Lost 1"},null,20,0,100,null,"Riketorians",46,15,14,75]
["Grumpy Old Men",{"$f":"'Grumpy Old Men'!B57","v":7},{"$f":"'Grumpy Old Men'!C57","v":5},{"$f":"'Grumpy Old Men'!D57","v":1},{"$f":"'Grumpy Old Men'!E57","v":15},{"$f":"'Grumpy Old Men'!F57","v":833},null,{"$f":"'Grumpy Old Men'!G57","v":746},{"$f":"'Grumpy Old Men'!H57","v":691},{"$f":"'Just Chillin'!I57","v":"Lost 1"},null,15,0,126]
["Damn Yankees",{"$f":"'Damn Yankees'!B57","v":6},{"$f":"'Damn Yankees'!C57","v":5},{"$f":"'Damn Yankees'!D57","v":2},{"$f":"'Damn Yankees'!E57","v":14},{"$f":"'Damn Yankees'!F57","v":841},null,{"$f":"'Damn Yankees'!G57","v":714},{"$f":"'Damn Yankees'!H57","v":720},{"$f":"'Damn Yankees'!I57","v":"Tied 1"},null,7,0,139,null,"Fantasy Hockey Club",35,10,1,46]
["Team LIRHL",{"$f":"'Team LIRHL'!B57","v":5},{"$f":"'Team LIRHL'!C57","v":7},{"$f":"'Team LIRHL'!D57","v":1},{"$f":"'Team LIRHL'!E57","v":11},{"$f":"'Team LIRHL'!F57","v":797},null,{"$f":"'Team LIRHL'!G57","v":706},{"$f":"'Team LIRHL'!H57","v":788},{"$f":"'Team LIRHL'!I57","v":"Tied 1"},null,20,0,100,null,"Slappers",34,18,8,60]
["Fantasy Hockey Club",{"$f":"'Fantasy Hockey Club'!B57","v":4},{"$f":"'Fantasy Hockey Club'!C57","v":9},{"$f":"'Fantasy Hockey Club'!D57","v":0},{"$f":"'Fantasy Hockey Club'!E57","v":8},{"$f":"'Fantasy Hockey Club'!F57","v":798},null,{"$f":"'Fantasy Hockey Club'!G57","v":715},{"$f":"'Fantasy Hockey Club'!H57","v":766},{"$f":"'Fantasy Hockey Club'!I57","v":"Lost  7"},null,1,130,0]
[null,null,null,null,null,null,null,null,null,null,null,null,null,null,null,"Team LIRHL",35,6,15,56]
["Campbell Conference",null,null,null,null,null,null,null,null,null,null,null,null,null,null,"Damn Yankees",29,15,12,56]
[null,"W","L","T","Pts","CP",null,"BPF","BPA","Streak",null,"Moves","Paid","Owed"]
["Shawnee Tribe",{"$f":"'Shawnee Tribe'!B57","v":8},{"$f":"'Shawnee Tribe'!C57","v":4},{"$f":"'Shawnee Tribe'!D57","v":1},{"$f":"'Shawnee Tribe'!E57","v":17},{"$f":"'Shawnee Tribe'!F57","v":857},null,{"$f":"'Shawnee Tribe'!G57","v":780},{"$f":"'Shawnee Tribe'!H57","v":746},{"$f":"'Shawnee Tribe'!I57","v":"Won  8"},null,7,0,124,null,"District 5",41,15,9,65]
["District 5",{"$f":"'District 5'!B57","v":7},{"$f":"'District 5'!C57","v":5},{"$f":"'District 5'!D57","v":1},{"$f":"'District 5'!E57","v":15},{"$f":"'District 5'!F57","v":877},null,{"$f":"'District 5'!G57","v":775},{"$f":"'District 5'!H57","v":683},{"$f":"'District 5'!I57","v":"Lost 1"},null,18,0,111,null,"Shawnee Tribe",36,24,9,69]
["Just Chillin",{"$f":"'Just Chillin'!B57","v":7},{"$f":"'Just Chillin'!C57","v":5},{"$f":"'Just Chillin'!D57","v":1},{"$f":"'Just Chillin'!E57","v":15},{"$f":"'Just Chillin'!F57","v":790},null,{"$f":"'Just Chillin'!G57","v":719},{"$f":"'Just Chillin'!H57","v":663},{"$f":"'Just Chillin'!I57","v":"Lost 1"},null,10,101,20]
["Highlanders",{"$f":"Highlanders!B57","v":5},{"$f":"Highlanders!C57","v":8},{"$f":"Highlanders!D57","v":0},{"$f":"Highlanders!E57","v":10},{"$f":"Highlanders!F57","v":796},null,{"$f":"Highlanders!G57","v":721},{"$f":"Highlanders!H57","v":783},{"$f":"Highlanders!I57","v":"Won 1"},null,1,100,33,null,"Just Chillin",38,10,3,51]
["Slappers",{"$f":"Slappers!B57","v":5},{"$f":"Slappers!C57","v":8},{"$f":"Slappers!D57","v":0},{"$f":"Slappers!E57","v":10},{"$f":"Slappers!F57","v":737},null,{"$f":"Slappers!G57","v":664},{"$f":"Slappers!H57","v":746},{"$f":"Slappers!I57","v":"Won 1"},null,6,0,117,null,"Highlanders",36,14,6,56]
[]
[null,null,null,null,null,null,null,null,null,null,"Totals",null,{"$f":"SUM(M5:M17)","v":331},{"$f":"SUM(N5:N17)","v":870},null,"League Fees",100]
[null,null,null,null,null,null,null,null,null,null,null,null,null,null,null,"Total Prizes",{"$f":"M19+N19-Q19","v":1101}]
["Offensive Leaders",null,null,null,null,null,"Defensive Leaders",null,null,null,null,null,null,null,"Goaltender Leaders"]
[{"$f":"'Total Calc'!A2","v":"Nathan MacKinnon"},null,{"$f":"'Total Calc'!B2","v":"(GOM)"},null,{"$f":"'Total Calc'!C2","v":92},null,{"$f":"'Total Calc'!E2","v":"Cale Makar"},null,null,{"$f":"'Total Calc'!F2","v":"(DI5)"},null,{"$f":"'Total Calc'!G2","v":55},null,null,{"$f":"'Total Calc'!I2","v":"Scott Wedgewood"},null,{"$f":"'Total Calc'!J2","v":"(HGL)"},null,{"$f":"'Total Calc'!K2","v":120}]
[{"$f":"'Total Calc'!A3","v":"Connor McDavid"},null,{"$f":"'Total Calc'!B3","v":"(SHW)"},null,{"$f":"'Total Calc'!C3","v":83},null,{"$f":"'Total Calc'!E3","v":"Darren Raddysh"},null,null,{"$f":"'Total Calc'!F3","v":"(SHW)"},null,{"$f":"'Total Calc'!G3","v":47},null,null,{"$f":"'Total Calc'!I3","v":"Logan Thompson"},null,{"$f":"'Total Calc'!J3","v":"(FHC)"},null,{"$f":"'Total Calc'!K3","v":117}]
[{"$f":"'Total Calc'!A4","v":"Macklin Celebrini"},null,{"$f":"'Total Calc'!B4","v":"(SHW)"},null,{"$f":"'Total Calc'!C4","v":77},null,{"$f":"'Total Calc'!E4","v":"Evan Bouchard"},null,null,{"$f":"'Total Calc'!F4","v":"(SHW)"},null,{"$f":"'Total Calc'!G4","v":46},null,null,{"$f":"'Total Calc'!I4","v":"Jake Oettinger"},null,{"$f":"'Total Calc'!J4","v":"(SLP)"},null,{"$f":"'Total Calc'!K4","v":109}]
[{"$f":"'Total Calc'!A5","v":"Leon Draisaitl"},null,{"$f":"'Total Calc'!B5","v":"(FHC)"},null,{"$f":"'Total Calc'!C5","v":75},null,{"$f":"'Total Calc'!E5","v":"Jakob Chychrun"},null,null,{"$f":"'Total Calc'!F5","v":"(FHC)"},null,{"$f":"'Total Calc'!G5","v":45},null,null,{"$f":"'Total Calc'!I5","v":"Igor Shesterkin"},null,{"$f":"'Total Calc'!J5","v":"(GOM)"},null,{"$f":"'Total Calc'!K5","v":106}]
[{"$f":"'Total Calc'!A6","v":"Nikita Kucherov"},null,{"$f":"'Total Calc'!B6","v":"(LIR)"},null,{"$f":"'Total Calc'!C6","v":73},null,{"$f":"'Total Calc'!E6","v":"Lane Hutson"},null,null,{"$f":"'Total Calc'!F6","v":"(SHW)"},null,{"$f":"'Total Calc'!G6","v":43},null,null,{"$f":"'Total Calc'!I6","v":"Andrei Vasilevskiy"},null,{"$f":"'Total Calc'!J6","v":"(DYK)"},null,{"$f":"'Total Calc'!K6","v":105}]
[]
["This Weeks Offensive Leaders",null,null,null,null,null,"This Weeks Defensive Leaders",null,null,null,null,null,null,null,"This Weeks Goaltending Leader"]
[{"$f":"'Weekly Calc'!A2","v":"Nikita Kucherov"},null,{"$f":"'Weekly Calc'!B2","v":"(LIR)"},null,{"$f":"'Weekly Calc'!C2","v":14},null,{"$f":"'Weekly Calc'!E2","v":"Darren Raddysh"},null,null,{"$f":"'Weekly Calc'!F2","v":"(SHW)"},null,{"$f":"'Weekly Calc'!G2","v":14},null,null,{"$f":"'Weekly Calc'!I2","v":"Jeremy Swayman"},null,{"$f":"'Weekly Calc'!J2","v":"(LIR)"},null,{"$f":"'Weekly Calc'!K2","v":15}]
[{"$f":"'Weekly Calc'!A3","v":"Brock Nelson"},null,{"$f":"'Weekly Calc'!B3","v":"(RIK)"},null,{"$f":"'Weekly Calc'!C3","v":13},null,{"$f":"'Weekly Calc'!E3","v":"Matthew Schaefer"},null,null,{"$f":"'Weekly Calc'!F3","v":"(GOM)"},null,{"$f":"'Weekly Calc'!G3","v":8},null,null,{"$f":"'Weekly Calc'!I3","v":"Dustin Wolf"},null,{"$f":"'Weekly Calc'!J3","v":"(RIK)"},null,{"$f":"'Weekly Calc'!K3","v":14}]
[{"$f":"'Weekly Calc'!A4","v":"Sebastian Aho"},null,{"$f":"'Weekly Calc'!B4","v":"(FHC)"},null,{"$f":"'Weekly Calc'!C4","v":12},null,{"$f":"'Weekly Calc'!E4","v":"Kris Letang"},null,null,{"$f":"'Weekly Calc'!F4","v":"(RIK)"},null,{"$f":"'Weekly Calc'!G4","v":6},null,null,{"$f":"'Weekly Calc'!I4","v":"Mackenzie Blackwood"},null,{"$f":"'Weekly Calc'!J4","v":"(DYK)"},null,{"$f":"'Weekly Calc'!K4","v":12}]
[{"$f":"'Weekly Calc'!A5","v":"Nathan MacKinnon"},null,{"$f":"'Weekly Calc'!B5","v":"(GOM)"},null,{"$f":"'Weekly Calc'!C5","v":12},null,{"$f":"'Weekly Calc'!E5","v":"Mikhail Sergachev"},null,null,{"$f":"'Weekly Calc'!F5","v":"(DI5)"},null,{"$f":"'Weekly Calc'!G5","v":5},null,null,{"$f":"'Weekly Calc'!I5","v":"Igor Shesterkin"},null,{"$f":"'Weekly Calc'!J5","v":"(GOM)"},null,{"$f":"'Weekly Calc'!K5","v":12}]
[{"$f":"'Weekly Calc'!A6","v":"Steven Stamkos"},null,{"$f":"'Weekly Calc'!B6","v":"(DI5)"},null,{"$f":"'Weekly Calc'!C6","v":10},null,{"$f":"'Weekly Calc'!E6","v":"Lane Hutson"},null,null,{"$f":"'Weekly Calc'!F6","v":"(SHW)"},null,{"$f":"'Weekly Calc'!G6","v":5},null,null,{"$f":"'Weekly Calc'!I6","v":"Andrei Vasilevskiy"},null,{"$f":"'Weekly Calc'!J6","v":"(DYK)"},null,{"$f":"'Weekly Calc'!K6","v":10}]
[]
["Transactions"]
["Fantasy Hockey Club: Release Schmid sign Brandon Bussi",null,null,null,null,null,"Damn Yankees: Release Tuch activate Hagel"]
["Slappers: Release Kyrou sign Justin Sourdif",null,null,null,null,null,"Slappers: Release Mercer sign Juraj Slafkovský"]
["Highlanders: Release Rittich activate Sorokin",null,null,null,null,null,"Slappers: Release Orlov sign Pavel Mintyukov"]
["Damn Yankees: IR Blackwood sign Dan Vladar",null,null,null,null,null,"Slappers: Release Provorov sign Denton Mateychuk"]
["Just Chillin: IR Protas activate Roslovic",null,null,null,null,null,"Slappers: Release Knight sign Jet Greaves"]
["Shawnee Tribe: IR Miller activate Petterson",null,null,null,null,null,"Slappers: IR Cooley sign Dmitri Voronkov"]
["Slappers: Release Gritsyuk sign Igor Chernyshov"]
["Highlanders: Release Durzi activate Fox"]

{"sheet":"More Stats","index":1,"n_rows":59,"n_cols":11,"rows_kept":59,"cut":false,"hidden":false,"merged":[]}
[null,"Team Offense",null,null,null,"Team Defense",null,null,null,"Team Goalie"]
["Team LIRHL",null,{"$f":"'Team LIRHL'!R34","v":504},null,"Shawnee Tribe",null,{"$f":"'Shawnee Tribe'!R35","v":226},null,"Damn Yankees",null,{"$f":"'Damn Yankees'!R38","v":243}]
["Riketorians",null,{"$f":"Riketorians!R34","v":503},null,"District 5",null,{"$f":"'District 5'!R35","v":199},null,"Slappers",null,{"$f":"Slappers!R38","v":195}]
["District 5",null,{"$f":"'District 5'!R34","v":499},null,"Just Chillin",null,{"$f":"'Just Chillin'!R35","v":179},null,"District 5",null,{"$f":"'District 5'!R38","v":179}]
["Shawnee Tribe",null,{"$f":"'Shawnee Tribe'!R34","v":487},null,"Fantasy Hockey Club",null,{"$f":"'Fantasy Hockey Club'!R35","v":176},null,"Riketorians",null,{"$f":"Riketorians!R38","v":176}]
["Grumpy Old Men",null,{"$f":"'Grumpy Old Men'!R34","v":485},null,"Grumpy Old Men",null,{"$f":"'Grumpy Old Men'!R35","v":173},null,"Grumpy Old Men",null,{"$f":"'Grumpy Old Men'!R38","v":175}]
["Just Chillin",null,{"$f":"'Just Chillin'!R34","v":475},null,"Riketorians",null,{"$f":"Riketorians!R35","v":166},null,"Fantasy Hockey Club",null,{"$f":"'Fantasy Hockey Club'!R38","v":172}]
["Damn Yankees",null,{"$f":"'Damn Yankees'!R34","v":474},null,"Slappers",null,{"$f":"Slappers!R35","v":156},null,"Team LIRHL",null,{"$f":"'Team LIRHL'!R38","v":171}]
["Highlanders",null,{"$f":"Highlanders!R34","v":474},null,"Highlanders",null,{"$f":"Highlanders!R35","v":154},null,"Highlanders",null,{"$f":"Highlanders!R38","v":168}]
["Fantasy Hockey Club",null,{"$f":"'Fantasy Hockey Club'!R34","v":450},null,"Damn Yankees",null,{"$f":"'Damn Yankees'!R35","v":124},null,"Shawnee Tribe",null,{"$f":"'Shawnee Tribe'!R38","v":144}]
["Slappers",null,{"$f":"Slappers!R34","v":386},null,"Team LIRHL",null,{"$f":"'Team LIRHL'!R35","v":122},null,"Just Chillin",null,{"$f":"'Just Chillin'!R38","v":136}]
[]
[null,"Offensive Goals",null,null,null,"Defensive Goals",null,null,null,"Team Goals"]
["District 5",null,{"$f":"'District 5'!K34","v":183},null,"Shawnee Tribe",null,{"$f":"'Shawnee Tribe'!K35","v":49},null,"District 5",null,{"$f":"'District 5'!K36","v":227}]
["Riketorians",null,{"$f":"Riketorians!K34","v":171},null,"Just Chillin",null,{"$f":"'Just Chillin'!K35","v":45},null,"Just Chillin",null,{"$f":"'Just Chillin'!K36","v":204}]
["Grumpy Old Men",null,{"$f":"'Grumpy Old Men'!K34","v":163},null,"District 5",null,{"$f":"'District 5'!K35","v":44},null,"Riketorians",null,{"$f":"Riketorians!K36","v":203}]
["Highlanders",null,{"$f":"Highlanders!K34","v":159},null,"Grumpy Old Men",null,{"$f":"'Grumpy Old Men'!K35","v":40},null,"Grumpy Old Men",null,{"$f":"'Grumpy Old Men'!K36","v":203}]
["Just Chillin",null,{"$f":"'Just Chillin'!K34","v":159},null,"Slappers",null,{"$f":"Slappers!K35","v":37},null,"Shawnee Tribe",null,{"$f":"'Shawnee Tribe'!K36","v":192}]
["Damn Yankees",null,{"$f":"'Damn Yankees'!K34","v":159},null,"Fantasy Hockey Club",null,{"$f":"'Fantasy Hockey Club'!K35","v":36},null,"Fantasy Hockey Club",null,{"$f":"'Fantasy Hockey Club'!K36","v":186}]
["Team LIRHL",null,{"$f":"'Team LIRHL'!K34","v":158},null,"Riketorians",null,{"$f":"Riketorians!K35","v":32},null,"Highlanders",null,{"$f":"Highlanders!K36","v":184}]
["Fantasy Hockey Club",null,{"$f":"'Fantasy Hockey Club'!K34","v":150},null,"Team LIRHL",null,{"$f":"'Team LIRHL'!K35","v":25},null,"Team LIRHL",null,{"$f":"'Team LIRHL'!K36","v":183}]
["Shawnee Tribe",null,{"$f":"'Shawnee Tribe'!K34","v":143},null,"Highlanders",null,{"$f":"Highlanders!K35","v":25},null,"Damn Yankees",null,{"$f":"'Damn Yankees'!K36","v":173}]
["Slappers",null,{"$f":"Slappers!K34","v":133},null,"Damn Yankees",null,{"$f":"'Damn Yankees'!K35","v":14},null,"Slappers",null,{"$f":"Slappers!K36","v":170}]
[]
[null,"Offensive Assists",null,null,null,"Defensive Assists",null,null,null,"Team Assists"]
["Shawnee Tribe",null,{"$f":"'Shawnee Tribe'!L34","v":259},null,"District 5",null,{"$f":"'District 5'!L35","v":131},null,"Shawnee Tribe",null,{"$f":"'Shawnee Tribe'!L36","v":389}]
["Team LIRHL",null,{"$f":"'Team LIRHL'!L34","v":244},null,"Shawnee Tribe",null,{"$f":"'Shawnee Tribe'!L35","v":130},null,"Just Chillin",null,{"$f":"'Just Chillin'!L36","v":349}]
["Riketorians",null,{"$f":"Riketorians!L34","v":232},null,"Just Chillin",null,{"$f":"'Just Chillin'!L35","v":123},null,"Riketorians",null,{"$f":"Riketorians!L36","v":339}]
["Just Chillin",null,{"$f":"'Just Chillin'!L34","v":226},null,"Fantasy Hockey Club",null,{"$f":"'Fantasy Hockey Club'!L35","v":114},null,"District 5",null,{"$f":"'District 5'!L36","v":332}]
["Damn Yankees",null,{"$f":"'Damn Yankees'!L34","v":220},null,"Highlanders",null,{"$f":"Highlanders!L35","v":110},null,"Damn Yankees",null,{"$f":"'Damn Yankees'!L36","v":324}]
["Grumpy Old Men",null,{"$f":"'Grumpy Old Men'!L34","v":212},null,"Grumpy Old Men",null,{"$f":"'Grumpy Old Men'!L35","v":109},null,"Grumpy Old Men",null,{"$f":"'Grumpy Old Men'!L36","v":321}]
["Highlanders",null,{"$f":"Highlanders!L34","v":210},null,"Riketorians",null,{"$f":"Riketorians!L35","v":107},null,"Highlanders",null,{"$f":"Highlanders!L36","v":320}]
["Fantasy Hockey Club",null,{"$f":"'Fantasy Hockey Club'!L34","v":206},null,"Damn Yankees",null,{"$f":"'Damn Yankees'!L35","v":104},null,"Team LIRHL",null,{"$f":"'Team LIRHL'!L36","v":320}]
["District 5",null,{"$f":"'District 5'!L34","v":201},null,"Slappers",null,{"$f":"Slappers!L35","v":96},null,"Fantasy Hockey Club",null,{"$f":"'Fantasy Hockey Club'!L36","v":320}]
["Slappers",null,{"$f":"Slappers!L34","v":171},null,"Team LIRHL",null,{"$f":"'Team LIRHL'!L35","v":76},null,"Slappers",null,{"$f":"Slappers!L36","v":267}]
[]
[null,"Offensive PP Goals",null,null,null,"Defensive PP Goals",null,null,null,"Team PP Goals"]
["Fantasy Hockey Club",null,{"$f":"'Fantasy Hockey Club'!M34","v":53},null,"Shawnee Tribe",null,{"$f":"'Shawnee Tribe'!M35","v":20},null,"Fantasy Hockey Club",null,{"$f":"'Fantasy Hockey Club'!M36","v":63}]
["Grumpy Old Men",null,{"$f":"'Grumpy Old Men'!M34","v":48},null,"Fantasy Hockey Club",null,{"$f":"'Fantasy Hockey Club'!M35","v":10},null,"Grumpy Old Men",null,{"$f":"'Grumpy Old Men'!M36","v":58}]
["District 5",null,{"$f":"'District 5'!M34","v":47},null,"Grumpy Old Men",null,{"$f":"'Grumpy Old Men'!M35","v":10},null,"District 5",null,{"$f":"'District 5'!M36","v":57}]
["Just Chillin",null,{"$f":"'Just Chillin'!M34","v":46},null,"District 5",null,{"$f":"'District 5'!M35","v":10},null,"Shawnee Tribe",null,{"$f":"'Shawnee Tribe'!M36","v":53}]
["Riketorians",null,{"$f":"Riketorians!M34","v":43},null,"Riketorians",null,{"$f":"Riketorians!M35","v":8},null,"Riketorians",null,{"$f":"Riketorians!M36","v":51}]
["Highlanders",null,{"$f":"Highlanders!M34","v":41},null,"Slappers",null,{"$f":"Slappers!M35","v":7},null,"Just Chillin",null,{"$f":"'Just Chillin'!M36","v":49}]
["Team LIRHL",null,{"$f":"'Team LIRHL'!M34","v":39},null,"Damn Yankees",null,{"$f":"'Damn Yankees'!M35","v":6},null,"Highlanders",null,{"$f":"Highlanders!M36","v":44}]
["Damn Yankees",null,{"$f":"'Damn Yankees'!M34","v":35},null,"Team LIRHL",null,{"$f":"'Team LIRHL'!M35","v":5},null,"Team LIRHL",null,{"$f":"'Team LIRHL'!M36","v":44}]
["Shawnee Tribe",null,{"$f":"'Shawnee Tribe'!M34","v":33},null,"Highlanders",null,{"$f":"Highlanders!M35","v":3},null,"Damn Yankees",null,{"$f":"'Damn Yankees'!M36","v":41}]
["Slappers",null,{"$f":"Slappers!M34","v":31},null,"Just Chillin",null,{"$f":"'Just Chillin'!M35","v":3},null,"Slappers",null,{"$f":"Slappers!M36","v":38}]
[]
[null,"Boxscore Points For",null,null,null,"Boxscore Points Against",null,null,null,"Boxscore Points Differential"]
["Shawnee Tribe",null,{"$f":"'Shawnee Tribe'!G57","v":780},null,"Just Chillin",null,{"$f":"'Just Chillin'!H57","v":663},null,"District 5",null,{"$f":"'District 5'!G57-'District 5'!H57","v":92}]
["District 5",null,{"$f":"'District 5'!G57","v":775},null,"District 5",null,{"$f":"'District 5'!H57","v":683},null,"Just Chillin",null,{"$f":"'Just Chillin'!G57-'Just Chillin'!H57","v":56}]
["Riketorians",null,{"$f":"Riketorians!G57","v":769},null,"Grumpy Old Men",null,{"$f":"'Grumpy Old Men'!H57","v":691},null,"Grumpy Old Men",null,{"$f":"'Grumpy Old Men'!G57-'Grumpy Old Men'!H57","v":55}]
["Grumpy Old Men",null,{"$f":"'Grumpy Old Men'!G57","v":746},null,"Damn Yankees",null,{"$f":"'Damn Yankees'!H57","v":720},null,"Riketorians",null,{"$f":"Riketorians!G57-Riketorians!H57","v":46}]
["Highlanders",null,{"$f":"Highlanders!G57","v":721},null,"Riketorians",null,{"$f":"Riketorians!H57","v":723},null,"Shawnee Tribe",null,{"$f":"'Shawnee Tribe'!G57-'Shawnee Tribe'!H57","v":34}]
["Just Chillin",null,{"$f":"'Just Chillin'!G57","v":719},null,"Slappers",null,{"$f":"Slappers!H57","v":746},null,"Damn Yankees",null,{"$f":"'Damn Yankees'!G57-'Damn Yankees'!H57","v":-6}]
["Fantasy Hockey Club",null,{"$f":"'Fantasy Hockey Club'!G57","v":715},null,"Shawnee Tribe",null,{"$f":"'Shawnee Tribe'!H57","v":746},null,"Fantasy Hockey Club",null,{"$f":"'Fantasy Hockey Club'!G57-'Fantasy Hockey Club'!H57","v":-51}]
["Damn Yankees",null,{"$f":"'Damn Yankees'!G57","v":714},null,"Fantasy Hockey Club",null,{"$f":"'Fantasy Hockey Club'!H57","v":766},null,"Highlanders",null,{"$f":"Highlanders!G57-Highlanders!H57","v":-62}]
["Team LIRHL",null,{"$f":"'Team LIRHL'!G57","v":706},null,"Highlanders",null,{"$f":"Highlanders!H57","v":783},null,"Team LIRHL",null,{"$f":"'Team LIRHL'!G57-'Team LIRHL'!H57","v":-82}]
["Slappers",null,{"$f":"Slappers!G57","v":664},null,"Team LIRHL",null,{"$f":"'Team LIRHL'!H57","v":788},null,"Slappers",null,{"$f":"Slappers!G57-Slappers!H57","v":-82}]

{"sheet":"Shawnee Tribe","index":2,"n_rows":78,"n_cols":18,"rows_kept":78,"cut":false,"hidden":false,"merged":[[59,3,59,4],[59,7,59,8],[59,11,59,12],[59,15,59,16],[60,3,60,4],[60,7,60,8],[60,11,60,12],[60,15,60,16],[61,3,61,4],[61,7,61,8],[61,11,61,12],[61,15,61,16],[63,3,63,4],[63,7,63,8],[63,11,63,12],[63,15,63,16],[64,3,64,4],[64,7,64,8],[64,11,64,12],[64,15,64,16],[65,3,65,4],[65,7,65,8],[65,11,65,12],[65,15,65,16],[67,3,67,4],[67,7,67,8],[67,11,67,12],[67,15,67,16],[68,3,68,4],[68,7,68,8],[68,11,68,12],[68,15,68,16],[69,3,69,4],[69,7,69,8],[69,11,69,12],[69,15,69,16],[71,3,71,4],[71,7,71,8],[71,11,71,12],[71,15,71,16],[72,3,72,4],[72,7,72,8],[72,11,72,12],[72,15,72,16],[73,3,73,4],[73,7,73,8],[73,11,73,12],[73,15,73,16],[77,3,77,4],[77,7,77,8],[77,11,77,12],[77,15,77,16],[75,3,75,4],[75,7,75,8],[75,11,75,12],[75,15,75,16],[76,3,76,4],[76,7,76,8],[76,11,76,12],[76,15,76,16]]}
["Team: Shawnee Tribe",null,"General Manager: John Kaziun"]
[]
[null,null,null,"Scoring This Week",null,null,null,null,null,null,null,null,null,"Players Overall Scoring"]
["Forwards","Gls","Ast","PP","SH","GW","OT","PSG","PTS",null,"Gls","Ast","PP","SH","GW","OT","PSG","PTS"]
["Artemi Panarin",2,4,1,0,1,0,0,{"$f":"(B5+C5+D5+(2*E5)+(2*F5)+G5+(4*H5))","v":9},null,16,28,1,0,3,0,1,{"$f":"(K5+L5+M5+(2*N5)+(2*O5)+P5+(4*Q5))","v":55}]
["Macklin Celebrini",2,4,0,0,0,0,0,6,null,22,41,4,0,4,2,0,77]
["Ivan Demidov",1,4,0,0,0,0,0,5,null,10,25,2,0,2,0,0,41]
["Connor McDavid",1,3,0,0,0,0,0,4,null,25,47,7,1,1,0,0,83]
["Gabriel Landeskog",1,2,0,0,0,0,0,3,null,7,15,1,0,1,0,0,25]
["Robert Thomas",1,0,0,1,0,0,0,3,null,10,20,3,2,0,0,0,37]
["Matvei Michkov",0,3,0,0,0,0,0,3,null,9,14,1,0,0,0,0,24]
["Mathew Barzal",0,3,0,0,0,0,0,3,null,10,22,1,0,1,1,0,36]
["Rickard Rakell",1,1,0,0,0,0,0,2,null,5,9,2,0,0,0,0,16]
["Cutter Gauthier",1,1,0,0,0,0,0,2,null,19,19,4,0,3,1,0,49]
["J.T. Miller",0,0,0,0,0,0,0,0,null,10,12,3,0,3,3,0,34]
[]
[]
["Defense","Gls","Ast","PP","SH","GW","OT","PSG","PTS",null,"Gls","Ast","PP","SH","GW","OT","PSG","PTS"]
["Darren Raddysh",4,3,2,0,2,1,0,{"$f":"(B19+C19+D19+(2*E19)+(2*F19)+G19+(4*H19))","v":14},null,12,22,6,0,3,1,0,{"$f":"(K19+L19+M19+(2*N19)+(2*O19)+P19+(4*Q19))","v":47}]
["Lane Hutson",1,4,0,0,0,0,0,5,null,6,34,1,0,1,0,0,43]
["Evan Bouchard",1,0,1,0,0,0,0,2,null,8,30,5,0,1,1,0,46]
["Travis Sanheim",1,1,0,0,0,0,0,2,null,4,14,1,0,1,1,0,22]
["Vince Dunn",0,1,0,0,0,0,0,1,null,5,15,1,0,1,1,0,24]
["Axel Sandin-Pellikka",0,0,0,0,0,0,0,0,null,4,11,0,0,0,0,0,15]
["John Klingberg",0,0,0,0,0,0,0,0,null,9,7,4,0,2,1,0,25]
[]
["Goalie","W","OT","SO","Gls","Ast","GAA","SP","PTS",null,"W","OT","SO","Gls","Ast","GAA","SP","PTS"]
["Joey Daccord",1,1,0,0,1,2.3199999999999998,0.89600000000000002,{"$f":"((3*B28)+C28+(3*D28)+(10*E28)+(3*F28)+G29+H29)","v":9},null,11,5,2,0,3,2.77,0.90300000000000002,{"$f":"((3*K28)+L28+(3*M28)+(10*N28)+(3*O28)+P29+Q29)","v":94}]
[null,5,129.07999999999993,43,48,null,2,0,{"$f":"((3*B28)+C28+(3*D28)+(10*E28)+(3*F28)+G29+H29)","v":9},null,null,null,null,null,null,17,24,{"$f":"((2*K28)+L28+(3*M28)+(10*N28)+(3*O28)+P29+Q29)","v":83}]
["Karel Vejmelka",1,0,0,0,0,3,0.88500000000000001,{"$f":"((3*B30)+C30+(3*D30)+(10*E30)+(3*F30)+G31+H31)","v":3},null,17,2,1,0,1,2.72,0.89500000000000002,{"$f":"((3*K30)+L30+(3*M30)+(10*N30)+(3*O30)+P31+Q31)","v":87}]
[null,6,120,46,52,null,0,0,{"$f":"((3*B30)+C30+(3*D30)+(10*E30)+(3*F30)+G31+H31)","v":3},null,null,null,null,null,null,17,11,{"$f":"((2*K30)+L30+(3*M30)+(10*N30)+(3*O30)+P31+Q31)","v":70}]
[null,null,null,"All Playes Scoring This Week",null,null,null,null,null,null,null,null,null,"Cumulative Points"]
[null,"Gls","Ast","PP","SH","GW","OT","PSG",null,null,"Gls","Ast","PP","SH","GW","OT","PSG","PTS"]
["Forwards",{"$f":"SUM(B5:B15)","v":10},{"$f":"SUM(C5:C15)","v":25},1,1,1,0,0,null,null,143,259,33,4,17,6,1,{"$f":"(K34+L34+M34+(2*N34)+(2*O34)+P34+(4*Q34))","v":487}]
["Defense",{"$f":"SUM(B19:B25)","v":7},{"$f":"SUM(C19:C25)","v":9},3,0,2,1,0,null,null,49,130,20,0,11,5,0,{"$f":"(K35+L35+M35+(2*N35)+(2*O35)+P35+(4*Q35))","v":226}]
["Total Scorers",{"$f":"SUM(B34:B35)","v":17},{"$f":"SUM(C34:C35)","v":34},4,1,3,1,0,null,null,{"$f":"SUM(K34:K35)","v":192},389,53,4,28,11,1,{"$f":"(K36+L36+M36+(2*N36)+(2*O36)+P36+(4*Q36))","v":713}]
[null,"W","OT","SO","Gls","Ast","GAA","SP",null,null,"W","OT","SO","Gls","Ast","GAA","SP","PTS"]
["Goalie Totals",{"$f":"SUM(B28,B30)","v":2},{"$f":"SUM(C28,C30)","v":1},{"$f":"SUM(D28,D30)","v":0},{"$f":"SUM(E28,E30)","v":0},{"$f":"SUM(F28,F30)","v":1},{"$f":"IF(C39=0,0,B39/(C39/60))","v":2.6497510839890808},{"$f":"IF(E39=0,0,D39/E39)","v":0.89},null,null,25,5,1,0,3,{"$f":"IF(L39=0,0,K39/(L39/60))","v":3.0121216980836074},{"$f":"IF(N39=0,0,M39/N39)","v":0.88694267515923564},{"$f":"((3*K38)+L38+(3*M38)+(10*N38)+(3*O38)+P39+Q39)","v":144}]
[null,{"$f":"SUM(B29,B31)","v":11},{"$f":"SUM(C29,C31)","v":249.07999999999993},{"$f":"SUM(D29,D31)","v":89},{"$f":"SUM(E29,E31)","v":100},null,null,null,null,null,144,2868.41,1114,1256,null,26,26]
[null,null,null,null,null,null,null,null,null,null,"GA","Time","Saves","Shots"]
[]
[null,"Injured Reserve",null,null,null,null,null,null,null,null,null,null,"This Weeks Totals"]
["Player","P","GP","IR Weeks","Pts",null,null,null,null,null,null,"Forwards",null,{"$f":"SUM(I5:I12)","v":36}]
["Will Smith","F",0,2,39,null,null,null,null,null,null,"Defense",null,{"$f":"SUM(I19:I23)","v":24}]
["Shea Theodore","D",0,2,25,null,null,null,null,null,null,"Goalie",null,{"$f":"I28","v":9}]
[null,"G"]
["Elias Pettersson","F",4,3,29,null,null,null,null,null,null,"Total Points",null,{"$f":"SUM(N43:N45)","v":69}]
[]
[]
[]
["Warning, Elias Pettersson must be returned to lineup by start of Week 14"]
[]
[]
[]
[]
["Team Record","W","L","T","Pts","CP","BPF","BFA","Streak"]
["Shawnee Tribe      ",8,4,1,{"$f":"2*B57+D57","v":17},{"$f":"R36+R38","v":857},{"$f":"SUM(B61,B65,B69,B73,B77,F61,F65,F69,F73,F77,J61,J65,J69,J73,J77,N61,N65,N69,N73,N77,R61,R65)","v":780},{"$f":"SUM(B62,B66,B70,B74,B78,F62,F66,F70,F74,F78,J62,J66,J70,J74,J78,N62,N66,N70,N74,N78,R62,R66)","v":746},"Won  8"]
[]
[]
["Game 1","Score",null,"Game 6        ",null,"Score",null,"Game 11   ",null,"Score",null,"Game 16",null,"Score",null,"Game 21",null,"Score"]
["Shawnee Tribe",33,null,"Shawnee Tribe",null,58,null,"Shawnee Tribe",null,77,null,"Shawnee Tribe",null,0,null,"Shawnee Tribe",null,0]
["Highlanders",69,null,"Riketorians",null,55,null,"Fantasy Hockey Club",null,56,null,"Riketorians",null,0,null,"District 5",null,0]
[]
["Game 2","Score",null,"Game 7       ",null,"Score",null,"Game 12",null,"Score",null,"Game 17",null,"Score",null,"Game 22",null,"Score"]
["Shawnee Tribe",33,null,"Shawnee Tribe",null,75,null,"Shawnee Tribe",null,54,null,"Shawnee Tribe",null,0,null,"Shawnee Tribe",null,0]
["District 5",62,null,"Fantasy Hockey Club",null,46,null,"Highlanders",null,42,null,"Slappers",null,0,null,"Highlanders",null,0]
[]
["Game 3","Score",null,"Game 8       ",null,"Score",null,"Game 13",null,"Score",null,"Game 18",null,"Score"]
["Shawnee Tribe",66,null,"Shawnee Tribe",null,59,null,"Shawnee Tribe",null,69,null,"Shawnee Tribe",null,0]
["Slappers",73,null,"Slappers",null,56,null,"District 5",null,65,null,"Just Chillin",null,0]
[]
["Game 4","Score",null,"Game 9    ",null,"Score",null,"Game 14",null,"Score",null,"Game 19",null,"Score"]
["Shawnee Tribe",48,null,"Shawnee Tribe",null,68,null,"Shawnee Tribe",null,0,null,"Shawnee Tribe",null,0]
["Just Chillin",66,null,"Damn Yankees",null,46,null,"Just Chillin",null,0,null,"Team LIRHL",null,0]
[]
["Game 5","Score",null,"Game 10   ",null,"Score",null,"Game 15",null,"Score",null,"Game 20",null,"Score"]
["Shawnee Tribe",52,null,"Shawnee Tribe",null,88,null,"Shawnee Tribe",null,0,null,"Shawnee Tribe",null,0]
["Grumpy Old Men",52,null,"Team LIRHL",null,58,null,"Grumpy Old Men",null,0,null,"Damn Yankees",null,0]

{"sheet":"Fantasy Hockey Club","index":3,"n_rows":78,"n_cols":18,"rows_kept":78,"cut":false,"hidden":false,"merged":[[59,3,59,4],[59,7,59,8],[59,11,59,12],[59,15,59,16],[60,3,60,4],[60,7,60,8],[60,11,60,12],[60,15,60,16],[61,3,61,4],[61,7,61,8],[61,11,61,12],[61,15,61,16],[63,3,63,4],[63,7,63,8],[63,11,63,12],[63,15,63,16],[64,3,64,4],[64,7,64,8],[64,11,64,12],[64,15,64,16],[65,3,65,4],[65,7,65,8],[65,11,65,12],[65,15,65,16],[67,3,67,4],[67,7,67,8],[67,11,67,12],[67,15,67,16],[68,3,68,4],[68,7,68,8],[68,11,68,12],[68,15,68,16],[69,3,69,4],[69,7,69,8],[69,11,69,12],[69,15,69,16],[71,3,71,4],[71,7,71,8],[71,11,71,12],[71,15,71,16],[72,3,72,4],[72,7,72,8],[72,11,72,12],[72,15,72,16],[73,3,73,4],[73,7,73,8],[73,11,73,12],[73,15,73,16],[77,3,77,4],[77,7,77,8],[77,11,77,12],[77,15,77,16],[75,3,75,4],[75,7,75,8],[75,11,75,12],[75,15,75,16],[76,3,76,4],[76,7,76,8],[76,11,76,12],[76,15,76,16]]}
["Team: Fantasy Hockey Club",null,null,"General Manager: Barrett Pagan"]
[]
[null,null,null,"Scoring This Week",null,null,null,null,null,null,null,null,null,"Players Overall Scoring"]
["Forwards","Gls","Ast","PP","SH","GW","OT","PSG","PTS",null,"Gls","Ast","PP","SH","GW","OT","PSG","PTS"]
["Sebastian Aho",4,5,1,1,0,0,0,{"$f":"(B5+C5+D5+(2*E5)+(2*F5)+G5+(4*H5))","v":12},null,17,25,4,1,2,1,0,{"$f":"(K5+L5+M5+(2*N5)+(2*O5)+P5+(4*Q5))","v":53}]
["Cole Caufield",2,2,0,0,0,0,0,4,null,20,20,4,0,5,3,0,57]
["Elias Lindholm",2,1,1,0,0,0,0,4,null,7,19,5,0,1,0,0,33]
["Pavel Dorofeyev",1,3,0,0,0,0,0,4,null,16,13,10,0,1,0,0,41]
["Marcus Johansson",1,3,0,0,0,0,0,4,null,12,20,3,0,4,1,0,44]
["Artturi Lehkonen",0,3,0,0,0,0,0,3,null,14,19,1,0,0,0,0,34]
["Anthony Cirelli",1,1,0,0,0,0,0,2,null,11,13,2,0,2,1,0,31]
["Kiefer Sherwood",1,0,1,0,0,0,0,2,null,17,4,6,1,2,1,0,34]
["Leon Draisaitl",0,1,0,0,0,0,0,1,null,20,37,11,1,2,1,0,75]
["Dylan Cozens",0,1,0,0,0,0,0,1,null,11,19,6,0,0,0,0,36]
["Pavel Zacha",0,0,0,0,0,0,0,0,null,10,16,4,0,1,1,0,33]
[]
[]
["Defense","Gls","Ast","PP","SH","GW","OT","PSG","PTS",null,"Gls","Ast","PP","SH","GW","OT","PSG","PTS"]
["KAndre Miller",0,3,0,0,0,0,0,{"$f":"(B19+C19+D19+(2*E19)+(2*F19)+G19+(4*H19))","v":3},null,2,14,1,0,0,0,0,{"$f":"(K19+L19+M19+(2*N19)+(2*O19)+P19+(4*Q19))","v":17}]
["Oliver Ekman-Larsson",1,1,0,0,0,0,0,2,null,7,18,0,0,0,0,0,25]
["Vladislav Gavrikov",1,0,1,0,0,0,0,2,null,7,8,1,0,1,1,0,19]
["Jakob Chychrun",0,2,0,0,0,0,0,2,null,15,16,4,0,4,2,0,45]
["Brandt Clarke",0,1,0,0,0,0,0,1,null,5,14,1,0,2,0,0,24]
["Shayne Gostisbehere",0,0,0,0,0,0,0,0,null,4,25,2,0,1,0,0,33]
["Rasmus Dahlin",0,0,0,0,0,0,0,0,null,4,24,2,0,0,0,0,30]
[]
["Goalie","W","OT","SO","Gls","Ast","GAA","SP","PTS",null,"W","OT","SO","Gls","Ast","GAA","SP","PTS"]
["Logan Thompson",0,1,0,0,0,3.31,0.89200000000000002,{"$f":"((3*B28)+C28+(3*D28)+(10*E28)+(3*F28)+G29+H29)","v":1},null,15,4,2,0,1,2.37,0.91500000000000004,{"$f":"((3*K28)+L28+(3*M28)+(10*N28)+(3*O28)+P29+Q29)","v":117}]
[null,10,181.5,83,93,null,0,0,{"$f":"((3*B28)+C28+(3*D28)+(10*E28)+(3*F28)+G29+H29)","v":1},null,null,null,null,null,null,26,33,{"$f":"((2*K28)+L28+(3*M28)+(10*N28)+(3*O28)+P29+Q29)","v":102}]
["Akira Schmid",0,0,0,0,0,2.73,0.88200000000000001,{"$f":"((3*B30)+C30+(3*D30)+(10*E30)+(3*F30)+G31+H31)","v":1},null,11,4,2,0,0,2.5,0.89500000000000002,{"$f":"((3*K30)+L30+(3*M30)+(10*N30)+(3*O30)+P31+Q31)","v":75}]
[null,4,87.939999999999827,30,34,null,1,0,{"$f":"((3*B30)+C30+(3*D30)+(10*E30)+(3*F30)+G31+H31)","v":1},null,null,null,null,null,null,20,12,{"$f":"((2*K30)+L30+(3*M30)+(10*N30)+(3*O30)+P31+Q31)","v":64}]
[null,null,null,"All Playes Scoring This Week",null,null,null,null,null,null,null,null,null,"Cumulative Points"]
[null,"Gls","Ast","PP","SH","GW","OT","PSG",null,null,"Gls","Ast","PP","SH","GW","OT","PSG","PTS"]
["Forwards",{"$f":"SUM(B5:B15)","v":12},{"$f":"SUM(C5:C15)","v":20},3,1,0,0,0,null,null,150,206,53,3,15,5,0,{"$f":"(K34+L34+M34+(2*N34)+(2*O34)+P34+(4*Q34))","v":450}]
["Defense",{"$f":"SUM(B19:B25)","v":2},{"$f":"SUM(C19:C25)","v":7},1,0,0,0,0,null,null,36,114,10,0,7,2,0,{"$f":"(K35+L35+M35+(2*N35)+(2*O35)+P35+(4*Q35))","v":176}]
["Total Scorers",{"$f":"SUM(B34:B35)","v":14},{"$f":"SUM(C34:C35)","v":27},4,1,0,0,0,null,null,{"$f":"SUM(K34:K35)","v":186},320,63,3,22,7,0,{"$f":"(K36+L36+M36+(2*N36)+(2*O36)+P36+(4*Q36))","v":626}]
[null,"W","OT","SO","Gls","Ast","GAA","SP",null,null,"W","OT","SO","Gls","Ast","GAA","SP","PTS"]
["Goalie Totals",{"$f":"SUM(B28,B30)","v":0},{"$f":"SUM(C28,C30)","v":1},{"$f":"SUM(D28,D30)","v":0},{"$f":"SUM(E28,E30)","v":0},{"$f":"SUM(F28,F30)","v":0},{"$f":"IF(C39=0,0,B39/(C39/60))","v":3.1175771971496453},{"$f":"IF(E39=0,0,D39/E39)","v":0.88976377952755903},null,null,21,6,3,0,1,{"$f":"IF(L39=0,0,K39/(L39/60))","v":2.5704646471858767},{"$f":"IF(N39=0,0,M39/N39)","v":0.90558615263571995},{"$f":"((3*K38)+L38+(3*M38)+(10*N38)+(3*O38)+P39+Q39)","v":172}]
[null,{"$f":"SUM(B29,B31)","v":14},{"$f":"SUM(C29,C31)","v":269.43999999999983},{"$f":"SUM(D29,D31)","v":113},{"$f":"SUM(E29,E31)","v":127},null,null,null,null,null,120,2801.05,1151,1271,null,43,48]
[null,null,null,null,null,null,null,null,null,null,"GA","Time","Saves","Shots"]
[]
[null,"Injured Reserve",null,null,null,null,null,null,null,null,null,null,"This Weeks Totals"]
["Player","P","GP","IR Weeks","Pts",null,null,null,null,null,null,"Forwards",null,{"$f":"SUM(I5:I12)","v":35}]
["Bo Horvat","F",3,3,47,null,null,null,null,null,null,"Defense",null,{"$f":"SUM(I19:I23)","v":10}]
[null,"D",null,null,null,null,null,null,null,null,null,"Goalie",null,{"$f":"I28","v":1}]
["Adin Hill","G",0,10,9]
["Evgeni Malkin","F",0,3,33,null,null,null,null,null,null,"Total Points",null,{"$f":"SUM(N43:N45)","v":46}]
[]
[]
[]
[]
[]
[]
[]
[]
["Team Record","W","L","T","Pts","CP","BPF","BFA","Streak"]
["Fantasy Hockey Club",4,9,0,{"$f":"2*B57+D57","v":8},{"$f":"R36+R38","v":798},{"$f":"SUM(B61,B65,B69,B73,B77,F61,F65,F69,F73,F77,J61,J65,J69,J73,J77,N61,N65,N69,N73,N77,R61,R65)","v":715},{"$f":"SUM(B62,B66,B70,B74,B78,F62,F66,F70,F74,F78,J62,J66,J70,J74,J78,N62,N66,N70,N74,N78,R62,R66)","v":766},"Lost  7"]
[]
[]
["Game 1","Score",null,"Game 6        ",null,"Score",null,"Game 11   ",null,"Score",null,"Game 16",null,"Score",null,"Game 21",null,"Score"]
["Fantasy Hockey Club",52,null,"Fantasy Hockey Club",null,60,null,"Fantasy Hockey Club",null,56,null,"Fantasy Hockey Club",null,0,null,"Fantasy Hockey Club",null,0]
["Grumpy Old Men",59,null,"Just Chillin",null,44,null,"Shawnee Tribe",null,77,null,"District 5",null,0,null,"Slappers",null,0]
[]
["Game 2","Score",null,"Game 7       ",null,"Score",null,"Game 12",null,"Score",null,"Game 17",null,"Score",null,"Game 22",null,"Score"]
["Fantasy Hockey Club",70,null,"Fantasy Hockey Club",null,46,null,"Fantasy Hockey Club",null,46,null,"Fantasy Hockey Club",null,0,null,"Fantasy Hockey Club",null,0]
["Riketorians",39,null,"Shawnee Tribe",null,75,null,"Damn Yankees",null,50,null,"Riketorians",null,0,null,"Grumpy Old Men",null,0]
[]
["Game 3","Score",null,"Game 8       ",null,"Score",null,"Game 13",null,"Score",null,"Game 18",null,"Score"]
["Fantasy Hockey Club",63,null,"Fantasy Hockey Club",null,62,null,"Fantasy Hockey Club",null,46,null,"Fantasy Hockey Club",null,0]
["Damn Yankees",49,null,"Team LIRHL",null,67,null,"Slappers",null,60,null,"Team LIRHL",null,0]
[]
["Game 4","Score",null,"Game 9    ",null,"Score",null,"Game 14",null,"Score",null,"Game 19",null,"Score"]
["Fantasy Hockey Club",55,null,"Fantasy Hockey Club",null,57,null,"Fantasy Hockey Club",null,0,null,"Fantasy Hockey Club",null,0]
["Highlanders",52,null,"Riketorians",null,79,null,"Grumpy Old Men",null,0,null,"Just Chillin",null,0]
[]
["Game 5","Score",null,"Game 10   ",null,"Score",null,"Game 15",null,"Score",null,"Game 20",null,"Score"]
["Fantasy Hockey Club",44,null,"Fantasy Hockey Club",null,58,null,"Fantasy Hockey Club",null,0,null,"Fantasy Hockey Club",null,0]
["Team LIRHL",54,null,"District 5",null,61,null,"Damn Yankees",null,0,null,"Highlanders",null,0]

{"sheet":"Grumpy Old Men","index":4,"n_rows":78,"n_cols":18,"rows_kept":78,"cut":false,"hidden":false,"merged":[[59,3,59,4],[59,7,59,8],[59,11,59,12],[59,15,59,16],[60,3,60,4],[60,7,60,8],[60,11,60,12],[60,15,60,16],[61,3,61,4],[61,7,61,8],[61,11,61,12],[61,15,61,16],[63,3,63,4],[63,7,63,8],[63,11,63,12],[63,15,63,16],[64,3,64,4],[64,7,64,8],[64,11,64,12],[64,15,64,16],[65,3,65,4],[65,7,65,8],[65,11,65,12],[65,15,65,16],[67,3,67,4],[67,7,67,8],[67,11,67,12],[67,15,67,16],[68,3,68,4],[68,7,68,8],[68,11,68,12],[68,15,68,16],[69,3,69,4],[69,7,69,8],[69,11,69,12],[69,15,69,16],[71,3,71,4],[71,7,71,8],[71,11,71,12],[71,15,71,16],[72,3,72,4],[72,7,72,8],[72,11,72,12],[72,15,72,16],[73,3,73,4],[73,7,73,8],[73,11,73,12],[73,15,73,16],[77,3,77,4],[77,7,77,8],[77,11,77,12],[77,15,77,16],[75,3,75,4],[75,7,75,8],[75,11,75,12],[75,15,75,16],[76,3,76,4],[76,7,76,8],[76,11,76,12],[76,15,76,16]]}
["Team: Grumpy Old Men",null,null,"General Manager: Tom Romano"]
[]
[null,null,null,"Scoring This Week",null,null,null,null,null,null,null,null,null,"Players Overall Scoring"]
["Forwards","Gls","Ast","PP","SH","GW","OT","PSG","PTS",null,"Gls","Ast","PP","SH","GW","OT","PSG","PTS"]
["Nathan MacKinnon",4,6,0,0,1,0,0,{"$f":"(B5+C5+D5+(2*E5)+(2*F5)+G5+(4*H5))","v":12},null,35,39,7,0,5,1,0,{"$f":"(K5+L5+M5+(2*N5)+(2*O5)+P5+(4*Q5))","v":92}]
["Mika Zibanejad",3,3,1,1,0,0,0,9,null,15,20,8,2,2,0,0,51]
["Nikolaj Ehlers",2,4,2,0,0,0,0,8,null,10,20,4,0,3,1,0,41]
["Joel Eriksson Ek",2,3,1,0,0,0,0,6,null,11,21,3,0,2,0,0,39]
["Clayton Keller",1,3,1,0,0,0,0,5,null,13,23,1,0,3,2,0,45]
["Mark Stone",3,0,1,0,0,0,0,4,null,11,21,5,0,1,1,0,40]
["Matt Coronato",0,4,0,0,0,0,0,4,null,11,13,5,0,2,0,0,33]
["Jason Robertson",1,2,0,0,0,0,0,3,null,24,24,9,0,3,0,0,63]
["Sam Bennett",0,3,0,0,0,0,0,3,null,13,17,1,0,4,1,0,40]
["Emil Heineman",1,1,0,0,0,0,0,2,null,13,7,2,0,0,0,0,22]
["Chris Kreider",0,0,0,0,0,0,0,0,null,13,9,6,0,1,0,0,30]
[]
[]
["Defense","Gls","Ast","PP","SH","GW","OT","PSG","PTS",null,"Gls","Ast","PP","SH","GW","OT","PSG","PTS"]
["Matthew Schaefer",3,1,1,0,1,1,0,{"$f":"(B19+C19+D19+(2*E19)+(2*F19)+G19+(4*H19))","v":8},null,12,16,6,0,3,2,0,{"$f":"(K19+L19+M19+(2*N19)+(2*O19)+P19+(4*Q19))","v":42}]
["Thomas Chabot",2,1,1,0,0,0,0,4,null,4,11,2,0,0,0,0,17]
["MacKenzie Weegar",0,3,0,0,0,0,0,3,null,3,12,0,0,0,0,0,15]
["Josh Morrissey",0,2,0,0,0,0,0,2,null,6,26,1,0,0,0,0,33]
["Miro Heiskanen",0,1,0,0,0,0,0,1,null,7,28,1,1,2,0,0,42]
["Darnell Nurse",0,1,0,0,0,0,0,1,null,6,9,0,0,0,0,0,15]
["Artem Zub",0,0,0,0,0,0,0,0,null,3,9,0,0,0,0,0,12]
[]
["Goalie","W","OT","SO","Gls","Ast","GAA","SP","PTS",null,"W","OT","SO","Gls","Ast","GAA","SP","PTS"]
["Igor Shesterkin",1,1,0,0,0,1.92,0.94399999999999995,{"$f":"((3*B28)+C28+(3*D28)+(10*E28)+(3*F28)+G29+H29)","v":12},null,17,4,1,0,0,2.4700000000000002,0.91200000000000003,{"$f":"((3*K28)+L28+(3*M28)+(10*N28)+(3*O28)+P29+Q29)","v":106}]
[null,4,124.77999999999997,68,72,null,3,5,{"$f":"((3*B28)+C28+(3*D28)+(10*E28)+(3*F28)+G29+H29)","v":12},null,null,null,null,null,null,20,28,{"$f":"((2*K28)+L28+(3*M28)+(10*N28)+(3*O28)+P29+Q29)","v":89}]
["Joseph Woll",1,1,1,0,0,3.21,0.89300000000000002,{"$f":"((3*B30)+C30+(3*D30)+(10*E30)+(3*F30)+G31+H31)","v":7},null,8,2,1,0,0,2.82,0.91200000000000003,{"$f":"((3*K30)+L30+(3*M30)+(10*N30)+(3*O30)+P31+Q31)","v":51}]
[null,8,149.57999999999993,67,75,null,0,0,{"$f":"((3*B30)+C30+(3*D30)+(10*E30)+(3*F30)+G31+H31)","v":7},null,null,null,null,null,null,8,14,{"$f":"((2*K30)+L30+(3*M30)+(10*N30)+(3*O30)+P31+Q31)","v":43}]
[null,null,null,"All Playes Scoring This Week",null,null,null,null,null,null,null,null,null,"Cumulative Points"]
[null,"Gls","Ast","PP","SH","GW","OT","PSG",null,null,"Gls","Ast","PP","SH","GW","OT","PSG","PTS"]
["Forwards",{"$f":"SUM(B5:B15)","v":17},{"$f":"SUM(C5:C15)","v":29},6,1,1,0,0,null,null,163,212,48,2,26,6,0,{"$f":"(K34+L34+M34+(2*N34)+(2*O34)+P34+(4*Q34))","v":485}]
["Defense",{"$f":"SUM(B19:B25)","v":5},{"$f":"SUM(C19:C25)","v":9},2,0,1,1,0,null,null,40,109,10,1,5,2,0,{"$f":"(K35+L35+M35+(2*N35)+(2*O35)+P35+(4*Q35))","v":173}]
["Total Scorers",{"$f":"SUM(B34:B35)","v":22},{"$f":"SUM(C34:C35)","v":38},8,1,2,1,0,null,null,{"$f":"SUM(K34:K35)","v":203},321,58,3,31,8,0,{"$f":"(K36+L36+M36+(2*N36)+(2*O36)+P36+(4*Q36))","v":658}]
[null,"W","OT","SO","Gls","Ast","GAA","SP",null,null,"W","OT","SO","Gls","Ast","GAA","SP","PTS"]
["Goalie Totals",{"$f":"SUM(B28,B30)","v":2},{"$f":"SUM(C28,C30)","v":2},{"$f":"SUM(D28,D30)","v":1},{"$f":"SUM(E28,E30)","v":0},{"$f":"SUM(F28,F30)","v":0},{"$f":"IF(C39=0,0,B39/(C39/60))","v":2.6242892549934402},{"$f":"IF(E39=0,0,D39/E39)","v":0.91836734693877553},null,null,30,6,2,0,0,{"$f":"IF(L39=0,0,K39/(L39/60))","v":2.7231137898482318},{"$f":"IF(N39=0,0,M39/N39)","v":0.90642545227698068},{"$f":"((3*K38)+L38+(3*M38)+(10*N38)+(3*O38)+P39+Q39)","v":175}]
[null,{"$f":"SUM(B29,B31)","v":12},{"$f":"SUM(C29,C31)","v":274.3599999999999},{"$f":"SUM(D29,D31)","v":135},{"$f":"SUM(E29,E31)","v":147},null,null,null,null,null,150,3305.04,1453,1603,null,30,43]
[null,null,null,null,null,null,null,null,null,null,"GA","Time","Saves","Shots"]
[]
[null,"Injured Reserve",null,null,null,null,null,null,null,null,null,null,"This Weeks Totals"]
["Player","P","GP","IR Weeks","Pts",null,null,null,null,null,null,"Forwards",null,{"$f":"SUM(I5:I12)","v":51}]
["Aleksander Barkov","F",0,12,0,null,null,null,null,null,null,"Defense",null,{"$f":"SUM(I19:I23)","v":18}]
[null,"D",null,null,null,null,null,null,null,null,null,"Goalie",null,{"$f":"I28","v":12}]
["Anthony Stolarz","G",0,6,24]
[null,"Flex",null,null,null,null,null,null,null,null,null,"Total Points",null,{"$f":"SUM(N43:N45)","v":81}]
[]
[]
[]
[]
[]
[]
[]
[]
["Team Record","W","L","T","Pts","CP","BPF","BFA","Streak"]
["Grumpy Old Men      ",7,5,1,{"$f":"2*B57+D57","v":15},{"$f":"R36+R38","v":833},{"$f":"SUM(B61,B65,B69,B73,B77,F61,F65,F69,F73,F77,J61,J65,J69,J73,J77,N61,N65,N69,N73,N77,R61,R65)","v":746},{"$f":"SUM(B62,B66,B70,B74,B78,F62,F66,F70,F74,F78,J62,J66,J70,J74,J78,N62,N66,N70,N74,N78,R62,R66)","v":691},"Won 1"]
[]
[]
["Game 1","Score",null,"Game 6        ",null,"Score",null,"Game 11   ",null,"Score",null,"Game 16",null,"Score",null,"Game 21",null,"Score"]
["Grumpy Old Men",59,null,"Grumpy Old Men",null,84,null,"Grumpy Old Men",null,51,null,"Grumpy Old Men",null,0,null,"Grumpy Old Men",null,0]
["Fantasy Hockey Club",52,null,"Highlanders",null,47,null,"Just Chillin",null,47,null,"Slappers",null,0,null,"Riketorians",null,0]
[]
["Game 2","Score",null,"Game 7       ",null,"Score",null,"Game 12",null,"Score",null,"Game 17",null,"Score",null,"Game 22",null,"Score"]
["Grumpy Old Men",53,null,"Grumpy Old Men",null,44,null,"Grumpy Old Men",null,38,null,"Grumpy Old Men",null,0,null,"Grumpy Old Men",null,0]
["Team LIRHL",44,null,"Just Chillin",null,54,null,"District 5",null,60,null,"Team LIRHL",null,0,null,"Fantasy Hockey Club",null,0]
[]
["Game 3","Score",null,"Game 8       ",null,"Score",null,"Game 13",null,"Score",null,"Game 18",null,"Score"]
["Grumpy Old Men",45,null,"Grumpy Old Men",null,55,null,"Grumpy Old Men",null,81,null,"Grumpy Old Men",null,0]
["Riketorians",62,null,"Damn Yankees",null,56,null,"Riketorians",null,75,null,"Damn Yankees",null,0]
[]
["Game 4","Score",null,"Game 9    ",null,"Score",null,"Game 14",null,"Score",null,"Game 19",null,"Score"]
["Grumpy Old Men",49,null,"Grumpy Old Men",null,69,null,"Grumpy Old Men",null,0,null,"Grumpy Old Men",null,0]
["Damn Yankees",61,null,"Team LIRHL",null,35,null,"Fantasy Hockey Club",null,0,null,"Highlanders",null,0]
[]
["Game 5","Score",null,"Game 10   ",null,"Score",null,"Game 15",null,"Score",null,"Game 20",null,"Score"]
["Grumpy Old Men",52,null,"Grumpy Old Men",null,66,null,"Grumpy Old Men",null,0,null,"Grumpy Old Men",null,0]
["Shawnee Tribe",52,null,"Slappers",null,46,null,"Shawnee Tribe",null,0,null,"District 5",null,0]

{"sheet":"Highlanders","index":5,"n_rows":78,"n_cols":18,"rows_kept":78,"cut":false,"hidden":false,"merged":[[59,3,59,4],[59,7,59,8],[59,11,59,12],[59,15,59,16],[60,3,60,4],[60,7,60,8],[60,11,60,12],[60,15,60,16],[61,3,61,4],[61,7,61,8],[61,11,61,12],[61,15,61,16],[63,3,63,4],[63,7,63,8],[63,11,63,12],[63,15,63,16],[64,3,64,4],[64,7,64,8],[64,11,64,12],[64,15,64,16],[65,3,65,4],[65,7,65,8],[65,11,65,12],[65,15,65,16],[67,3,67,4],[67,7,67,8],[67,11,67,12],[67,15,67,16],[68,3,68,4],[68,7,68,8],[68,11,68,12],[68,15,68,16],[69,3,69,4],[69,7,69,8],[69,11,69,12],[69,15,69,16],[71,3,71,4],[71,7,71,8],[71,11,71,12],[71,15,71,16],[72,3,72,4],[72,7,72,8],[72,11,72,12],[72,15,72,16],[73,3,73,4],[73,7,73,8],[73,11,73,12],[73,15,73,16],[77,3,77,4],[77,7,77,8],[77,11,77,12],[77,15,77,16],[75,3,75,4],[75,7,75,8],[75,11,75,12],[75,15,75,16],[76,3,76,4],[76,7,76,8],[76,11,76,12],[76,15,76,16]]}
["Team: Highlanders",null,"General Manager: Anthony J. Porfido"]
[]
[null,null,null,"Scoring This Week",null,null,null,null,null,null,null,null,null,"Players Overall Scoring"]
["Forwards","Gls","Ast","PP","SH","GW","OT","PSG","PTS",null,"Gls","Ast","PP","SH","GW","OT","PSG","PTS"]
["Brayden Point",4,2,1,0,0,0,0,{"$f":"(B5+C5+D5+(2*E5)+(2*F5)+G5+(4*H5))","v":7},null,10,16,2,0,0,0,0,{"$f":"(K5+L5+M5+(2*N5)+(2*O5)+P5+(4*Q5))","v":28}]
["Nick Suzuki",3,0,1,0,1,1,0,7,null,14,31,8,0,1,1,0,56]
["Kirill Marchenko",3,1,0,0,1,0,0,6,null,14,17,3,1,3,0,0,42]
["Jackson Blake",1,0,1,0,1,1,0,5,null,12,12,2,0,2,1,0,31]
["Kirill Kaprizov",1,2,1,0,0,0,0,4,null,24,25,9,0,2,2,0,64]
["JJ Peterka",1,1,1,0,0,0,0,3,null,15,14,2,0,2,0,0,35]
["Trevor Zegras",0,2,0,0,0,0,0,2,null,15,24,5,0,2,0,0,48]
["Adam Fantilli",0,2,0,0,0,0,0,2,null,12,13,3,0,2,2,0,34]
["Mitch Marner",0,1,0,0,0,0,0,1,null,9,31,2,0,0,0,0,42]
["Morgan Geekie",0,1,0,0,0,0,0,1,null,25,16,7,0,4,1,0,57]
["Leo Carlsson",0,1,0,0,0,0,0,1,null,17,25,3,2,3,1,0,56]
[]
[]
["Defense","Gls","Ast","PP","SH","GW","OT","PSG","PTS",null,"Gls","Ast","PP","SH","GW","OT","PSG","PTS"]
["Aaron Ekblad",1,1,0,0,1,0,0,{"$f":"(B19+C19+D19+(2*E19)+(2*F19)+G19+(4*H19))","v":4},null,2,13,1,0,2,0,0,{"$f":"(K19+L19+M19+(2*N19)+(2*O19)+P19+(4*Q19))","v":20}]
["Luke Hughes",1,1,0,0,1,0,0,4,null,4,17,0,0,1,0,0,23]
["Sean Durzi",0,3,0,0,0,0,0,3,null,1,10,0,0,0,0,0,11]
["Charlie McAvoy",0,2,0,0,0,0,0,2,null,1,20,0,0,0,0,0,21]
["Jackson LaCombe",0,1,0,0,0,0,0,1,null,6,17,1,1,0,0,0,26]
["Drew Doughty",0,0,0,0,0,0,0,0,null,3,10,0,0,0,0,0,13]
["Thomas Harley",0,0,0,0,0,0,0,0,null,2,12,0,0,1,0,0,16]
[]
["Goalie","W","OT","SO","Gls","Ast","GAA","SP","PTS",null,"W","OT","SO","Gls","Ast","GAA","SP","PTS"]
["David Rittich",2,0,0,0,0,3.33,0.85199999999999998,{"$f":"((3*B28)+C28+(3*D28)+(10*E28)+(3*F28)+G29+H29)","v":6},null,11,2,2,0,0,2.48,0.90700000000000003,{"$f":"((3*K28)+L28+(3*M28)+(10*N28)+(3*O28)+P29+Q29)","v":93}]
[null,13,233.99999999999989,75,88,null,0,0,{"$f":"((3*B28)+C28+(3*D28)+(10*E28)+(3*F28)+G29+H29)","v":6},null,null,null,null,null,null,23,29,{"$f":"((2*K28)+L28+(3*M28)+(10*N28)+(3*O28)+P29+Q29)","v":82}]
["Scott Wedgewood",1,0,0,0,0,3,0.89300000000000002,{"$f":"((3*B30)+C30+(3*D30)+(10*E30)+(3*F30)+G31+H31)","v":3},null,18,4,2,0,1,2.17,0.91800000000000004,{"$f":"((3*K30)+L30+(3*M30)+(10*N30)+(3*O30)+P31+Q31)","v":120}]
[null,3,60,25,28,null,0,0,{"$f":"((3*B30)+C30+(3*D30)+(10*E30)+(3*F30)+G31+H31)","v":3},null,null,null,null,null,null,26,27,{"$f":"((2*K30)+L30+(3*M30)+(10*N30)+(3*O30)+P31+Q31)","v":102}]
[null,null,null,"All Playes Scoring This Week",null,null,null,null,null,null,null,null,null,"Cumulative Points"]
[null,"Gls","Ast","PP","SH","GW","OT","PSG",null,null,"Gls","Ast","PP","SH","GW","OT","PSG","PTS"]
["Forwards",{"$f":"SUM(B5:B15)","v":13},{"$f":"SUM(C5:C15)","v":13},5,0,3,2,0,null,null,159,210,41,6,22,8,0,{"$f":"(K34+L34+M34+(2*N34)+(2*O34)+P34+(4*Q34))","v":474}]
["Defense",{"$f":"SUM(B19:B25)","v":2},{"$f":"SUM(C19:C25)","v":8},0,0,2,0,0,null,null,25,110,3,1,7,0,0,{"$f":"(K35+L35+M35+(2*N35)+(2*O35)+P35+(4*Q35))","v":154}]
["Total Scorers",{"$f":"SUM(B34:B35)","v":15},{"$f":"SUM(C34:C35)","v":21},5,0,5,2,0,null,null,{"$f":"SUM(K34:K35)","v":184},320,44,7,29,8,0,{"$f":"(K36+L36+M36+(2*N36)+(2*O36)+P36+(4*Q36))","v":628}]
[null,"W","OT","SO","Gls","Ast","GAA","SP",null,null,"W","OT","SO","Gls","Ast","GAA","SP","PTS"]
["Goalie Totals",{"$f":"SUM(B28,B30)","v":3},{"$f":"SUM(C28,C30)","v":0},{"$f":"SUM(D28,D30)","v":0},{"$f":"SUM(E28,E30)","v":0},{"$f":"SUM(F28,F30)","v":0},{"$f":"IF(C39=0,0,B39/(C39/60))","v":3.265306122448981},{"$f":"IF(E39=0,0,D39/E39)","v":0.86206896551724133},null,null,28,4,4,0,0,{"$f":"IF(L39=0,0,K39/(L39/60))","v":2.660647424206557},{"$f":"IF(N39=0,0,M39/N39)","v":0.90362318840579714},{"$f":"((3*K38)+L38+(3*M38)+(10*N38)+(3*O38)+P39+Q39)","v":168}]
[null,{"$f":"SUM(B29,B31)","v":16},{"$f":"SUM(C29,C31)","v":293.99999999999989},{"$f":"SUM(D29,D31)","v":100},{"$f":"SUM(E29,E31)","v":116},null,null,null,null,null,133,2999.27,1247,1380,null,30,38]
[null,null,null,null,null,null,null,null,null,null,"GA","Time","Saves","Shots"]
[]
[null,"Injured Reserve",null,null,null,null,null,null,null,null,null,null,"This Weeks Totals"]
["Player","P","GP","IR Weeks","Pts",null,null,null,null,null,null,"Forwards",null,{"$f":"SUM(I5:I12)","v":36}]
["Matthew Tkachuk","F",0,13,0,null,null,null,null,null,null,"Defense",null,{"$f":"SUM(I19:I23)","v":14}]
["Adam Fox","D",2,4,32,null,null,null,null,null,null,"Goalie",null,{"$f":"I28","v":6}]
["Ilya Sorokin","G",0,1,82]
["Seth Jarvis","Flex",0,2,44,null,null,null,null,null,null,"Total Points",null,{"$f":"SUM(N43:N45)","v":56}]
[]
["Warning, Adam Fox must be returned to lineup by start of Week 15"]
[]
[]
[]
[]
[]
[]
["Team Record","W","L","T","Pts","CP","BPF","BFA","Streak"]
["Highlanders      ",5,8,0,{"$f":"2*B57+D57","v":10},{"$f":"R36+R38","v":796},{"$f":"SUM(B61,B65,B69,B73,B77,F61,F65,F69,F73,F77,J61,J65,J69,J73,J77,N61,N65,N69,N73,N77,R61,R65)","v":721},{"$f":"SUM(B62,B66,B70,B74,B78,F62,F66,F70,F74,F78,J62,J66,J70,J74,J78,N62,N66,N70,N74,N78,R62,R66)","v":783},"Won 1"]
[]
[]
["Game 1","Score",null,"Game 6        ",null,"Score",null,"Game 11   ",null,"Score",null,"Game 16",null,"Score",null,"Game 21",null,"Score"]
["Highlanders",69,null,"Highlanders",null,47,null,"Highlanders",null,64,null,"Highlanders",null,0,null,"Highlanders",null,0]
["Shawnee Tribe",33,null,"Grumpy Old Men",null,84,null,"Team LIRHL",null,79,null,"Damn Yankees",null,0,null,"Just Chillin",null,0]
[]
["Game 2","Score",null,"Game 7       ",null,"Score",null,"Game 12",null,"Score",null,"Game 17",null,"Score",null,"Game 22",null,"Score"]
["Highlanders",49,null,"Highlanders",null,58,null,"Highlanders",null,42,null,"Highlanders",null,0,null,"Highlanders",null,0]
["Just Chillin",67,null,"Damn Yankees",null,75,null,"Shawnee Tribe",null,54,null,"District 5",null,0,null,"Shawnee Tribe",null,0]
[]
["Game 3","Score",null,"Game 8       ",null,"Score",null,"Game 13",null,"Score",null,"Game 18",null,"Score"]
["Highlanders",45,null,"Highlanders",null,65,null,"Highlanders",null,56,null,"Highlanders",null,0]
["District 5",48,null,"District 5",null,61,null,"Just Chillin",null,51,null,"Riketorians",null,0]
[]
["Game 4","Score",null,"Game 9    ",null,"Score",null,"Game 14",null,"Score",null,"Game 19",null,"Score"]
["Highlanders",52,null,"Highlanders",null,66,null,"Highlanders",null,0,null,"Highlanders",null,0]
["Fantasy Hockey Club",55,null,"Slappers",null,50,null,"Team LIRHL",null,0,null,"Grumpy Old Men",null,0]
[]
["Game 5","Score",null,"Game 10   ",null,"Score",null,"Game 15",null,"Score",null,"Game 20",null,"Score"]
["Highlanders",59,null,"Highlanders",null,49,null,"Highlanders",null,0,null,"Highlanders",null,0]
["Slappers",50,null,"Riketorians",null,76,null,"Slappers",null,0,null,"Fantasy Hockey Club",null,0]

{"sheet":"Team LIRHL","index":6,"n_rows":78,"n_cols":18,"rows_kept":78,"cut":false,"hidden":false,"merged":[[76,3,76,4],[65,3,65,4],[69,3,69,4],[73,3,73,4],[77,3,77,4],[77,7,77,8],[76,15,76,16],[65,15,65,16],[61,15,61,16],[77,15,77,16],[75,15,75,16],[71,15,71,16],[67,15,67,16],[63,15,63,16],[72,7,72,8],[72,11,72,12],[68,11,68,12],[64,11,64,12],[69,7,69,8],[61,7,61,8],[77,11,77,12],[76,7,76,8],[76,11,76,12],[65,7,65,8],[71,7,71,8],[67,7,67,8],[68,7,68,8],[75,11,75,12],[69,11,69,12],[73,11,73,12],[73,7,73,8],[75,7,75,8],[65,11,65,12],[59,3,59,4],[63,3,63,4],[67,3,67,4],[71,3,71,4],[75,3,75,4],[60,3,60,4],[61,3,61,4],[64,3,64,4],[68,3,68,4],[72,3,72,4],[59,7,59,8],[59,11,59,12],[63,11,63,12],[67,11,67,12],[71,11,71,12],[63,7,63,8],[61,11,61,12],[60,7,60,8],[64,7,64,8],[60,11,60,12],[59,15,59,16],[69,15,69,16],[73,15,73,16],[60,15,60,16],[64,15,64,16],[68,15,68,16],[72,15,72,16]]}
["Team: Team LIRHL",null,null,"General Manager: Vacant"]
[]
[null,null,null,"Scoring This Week",null,null,null,null,null,null,null,null,null,"Players Overall Scoring"]
["Forwards","Gls","Ast","PP","SH","GW","OT","PSG","PTS",null,"Gls","Ast","PP","SH","GW","OT","PSG","PTS"]
["Nikita Kucherov",5,7,2,0,0,0,0,{"$f":"(B5+C5+D5+(2*E5)+(2*F5)+G5+(4*H5))","v":14},null,20,39,5,0,4,1,0,{"$f":"(K5+L5+M5+(2*N5)+(2*O5)+P5+(4*Q5))","v":73}]
["Kevin Fiala",1,3,1,0,0,0,0,5,null,14,14,4,0,2,0,0,36]
["Nico Hischier",2,0,2,0,0,0,0,4,null,12,20,4,0,1,0,0,38]
["Dylan Larkin",1,1,1,0,0,0,0,3,null,21,17,6,0,5,2,0,56]
["Tim Stützle",0,3,0,0,0,0,0,3,null,19,24,6,1,3,1,0,58]
["Mikko Rantanen",1,1,0,0,0,0,0,2,null,16,40,4,0,1,0,0,62]
["Adrian Kempe",1,1,0,0,0,0,0,2,null,14,19,1,0,5,3,0,47]
["Filip Forsberg",0,2,0,0,0,0,0,2,null,16,15,1,0,1,0,0,34]
["Brady Tkachuk",0,2,0,0,0,0,0,2,null,6,13,1,0,2,1,0,25]
["Nazem Kadri",0,1,0,0,0,0,0,1,null,8,24,2,0,1,0,0,36]
["Roope Hintz",0,0,0,0,0,0,0,0,null,12,19,5,0,1,1,0,39]
[]
[]
["Defense","Gls","Ast","PP","SH","GW","OT","PSG","PTS",null,"Gls","Ast","PP","SH","GW","OT","PSG","PTS"]
["Alexander Nikishin",1,2,1,0,0,0,0,{"$f":"(B19+C19+D19+(2*E19)+(2*F19)+G19+(4*H19))","v":4},null,5,11,1,0,0,0,0,{"$f":"(K19+L19+M19+(2*N19)+(2*O19)+P19+(4*Q19))","v":17}]
["Zeev Buium",0,1,0,0,0,0,0,1,null,4,14,3,0,1,0,0,23]
["Brent Burns",0,1,0,0,0,0,0,1,null,5,15,0,0,3,0,0,26]
["Jacob Trouba",0,0,0,0,0,0,0,0,null,6,11,0,0,1,1,0,20]
["Elias Pettersson D",0,0,0,0,0,0,0,0,null,1,5,0,0,0,0,0,6]
["Gustav Forsling",0,0,0,0,0,0,0,0,null,1,13,0,0,0,0,0,14]
["Jake Walman",0,0,0,0,0,0,0,0,null,3,7,1,1,1,1,0,16]
[]
["Goalie","W","OT","SO","Gls","Ast","GAA","SP","PTS",null,"W","OT","SO","Gls","Ast","GAA","SP","PTS"]
["Jeremy Swayman",2,1,0,0,0,1.94,0.94399999999999995,{"$f":"((3*B28)+C28+(3*D28)+(10*E28)+(3*F28)+G29+H29)","v":15},null,16,2,0,0,0,2.8,0.90600000000000003,{"$f":"((3*K28)+L28+(3*M28)+(10*N28)+(3*O28)+P29+Q29)","v":92}]
[null,6,185.32999999999993,84,89,null,3,5,{"$f":"((3*B28)+C28+(3*D28)+(10*E28)+(3*F28)+G29+H29)","v":15},null,null,null,null,null,null,17,25,{"$f":"((2*K28)+L28+(3*M28)+(10*N28)+(3*O28)+P29+Q29)","v":76}]
["Linus Ullmark",0,0,0,0,0,0,0,{"$f":"((3*B30)+C30+(3*D30)+(10*E30)+(3*F30)+G31+H31)","v":0},null,14,5,1,0,0,2.95,0.88100000000000001,{"$f":"((3*K30)+L30+(3*M30)+(10*N30)+(3*O30)+P31+Q31)","v":79}]
[null,0,0,0,0,null,0,0,{"$f":"((3*B30)+C30+(3*D30)+(10*E30)+(3*F30)+G31+H31)","v":0},null,null,null,null,null,null,16,13,{"$f":"((2*K30)+L30+(3*M30)+(10*N30)+(3*O30)+P31+Q31)","v":65}]
[null,null,null,"All Playes Scoring This Week",null,null,null,null,null,null,null,null,null,"Cumulative Points"]
[null,"Gls","Ast","PP","SH","GW","OT","PSG",null,null,"Gls","Ast","PP","SH","GW","OT","PSG","PTS"]
["Forwards",{"$f":"SUM(B5:B15)","v":11},{"$f":"SUM(C5:C15)","v":21},6,0,0,0,0,null,null,158,244,39,1,26,9,0,{"$f":"(K34+L34+M34+(2*N34)+(2*O34)+P34+(4*Q34))","v":504}]
["Defense",{"$f":"SUM(B19:B25)","v":1},{"$f":"SUM(C19:C25)","v":4},1,0,0,0,0,null,null,25,76,5,1,6,2,0,{"$f":"(K35+L35+M35+(2*N35)+(2*O35)+P35+(4*Q35))","v":122}]
["Total Scorers",{"$f":"SUM(B34:B35)","v":12},{"$f":"SUM(C34:C35)","v":25},7,0,0,0,0,null,null,{"$f":"SUM(K34:K35)","v":183},320,44,2,32,11,0,{"$f":"(K36+L36+M36+(2*N36)+(2*O36)+P36+(4*Q36))","v":626}]
[null,"W","OT","SO","Gls","Ast","GAA","SP",null,null,"W","OT","SO","Gls","Ast","GAA","SP","PTS"]
["Goalie Totals",{"$f":"SUM(B28,B30)","v":2},{"$f":"SUM(C28,C30)","v":1},{"$f":"SUM(D28,D30)","v":0},{"$f":"SUM(E28,E30)","v":0},{"$f":"SUM(F28,F30)","v":0},{"$f":"IF(C39=0,0,B39/(C39/60))","v":1.9424809798737395},{"$f":"IF(E39=0,0,D39/E39)","v":0.9438202247191011},null,null,30,7,1,0,0,{"$f":"IF(L39=0,0,K39/(L39/60))","v":2.8762502219328874},{"$f":"IF(N39=0,0,M39/N39)","v":0.89449541284403666},{"$f":"((3*K38)+L38+(3*M38)+(10*N38)+(3*O38)+P39+Q39)","v":171}]
[null,{"$f":"SUM(B29,B31)","v":6},{"$f":"SUM(C29,C31)","v":185.32999999999993},{"$f":"SUM(D29,D31)","v":84},{"$f":"SUM(E29,E31)","v":89},null,null,null,null,null,162,3379.4,1365,1526,null,33,38]
[null,null,null,null,null,null,null,null,null,null,"GA","Time","Saves","Shots"]
[]
[null,"Injured Reserve",null,null,null,null,null,null,null,null,null,null,"This Weeks Totals"]
["Player","P","GP","IR Weeks","Pts",null,null,null,null,null,null,"Forwards",null,{"$f":"SUM(I5:I12)","v":35}]
[null,"F",null,null,null,null,null,null,null,null,null,"Defense",null,{"$f":"SUM(I19:I23)","v":6}]
[null,"D",null,null,null,null,null,null,null,null,null,"Goalie",null,{"$f":"I28","v":15}]
[null,"G"]
[null,"Flex",null,null,null,null,null,null,null,null,null,"Total Points",null,{"$f":"SUM(N43:N45)","v":56}]
[]
[]
[]
[]
[]
[]
[]
[]
["Team Record","W","L","T","Pts","CP","BPF","BFA","Streak"]
["Team LIRHL",5,7,1,{"$f":"2*B57+D57","v":11},{"$f":"R36+R38","v":797},{"$f":"SUM(B61,B65,B69,B73,B77,F61,F65,F69,F73,F77,J61,J65,J69,J73,J77,N61,N65,N69,N73,N77,R61,R65)","v":706},{"$f":"SUM(B62,B66,B70,B74,B78,F62,F66,F70,F74,F78,J62,J66,J70,J74,J78,N62,N66,N70,N74,N78,R62,R66)","v":788},"Tied 1"]
[]
[]
["Game 1","Score",null,"Game 6        ",null,"Score",null,"Game 11   ",null,"Score",null,"Game 16",null,"Score",null,"Game 21",null,"Score"]
["Team LIRHL",47,null,"Team LIRHL",null,55,null,"Team LIRHL",null,79,null,"Team LIRHL",null,0,null,"Team LIRHL",null,0]
["Damn Yankees",41,null,"Slappers",null,63,null,"Highlanders",null,64,null,"Just Chillin",null,0,null,"Damn Yankees",null,0]
[]
["Game 2","Score",null,"Game 7       ",null,"Score",null,"Game 12",null,"Score",null,"Game 17",null,"Score",null,"Game 22",null,"Score"]
["Team LIRHL",44,null,"Team LIRHL",null,49,null,"Team LIRHL",null,37,null,"Team LIRHL",null,0,null,"Team LIRHL",null,0]
["Grumpy Old Men",53,null,"District 5",null,80,null,"Riketorians",null,40,null,"Grumpy Old Men",null,0,null,"District 5",null,0]
[]
["Game 3","Score",null,"Game 8       ",null,"Score",null,"Game 13",null,"Score",null,"Game 18",null,"Score"]
["Team LIRHL",66,null,"Team LIRHL",null,67,null,"Team LIRHL",null,56,null,"Team LIRHL",null,0]
["Just Chillin",56,null,"Fantasy Hockey Club",null,62,null,"Damn Yankees",null,56,null,"Fantasy Hockey Club",null,0]
[]
["Game 4","Score",null,"Game 9    ",null,"Score",null,"Game 14",null,"Score",null,"Game 19",null,"Score"]
["Team LIRHL",59,null,"Team LIRHL",null,35,null,"Team LIRHL",null,0,null,"Team LIRHL",null,0]
["Riketorians",72,null,"Grumpy Old Men",null,69,null,"Highlanders",null,0,null,"Shawnee Tribe",null,0]
[]
["Game 5","Score",null,"Game 10   ",null,"Score",null,"Game 15",null,"Score",null,"Game 20",null,"Score"]
["Team LIRHL",54,null,"Team LIRHL",null,58,null,"Team LIRHL",null,0,null,"Team LIRHL",null,0]
["Fantasy Hockey Club",44,null,"Shawnee Tribe",null,88,null,"Riketorians",null,0,null,"Slappers",null,0]

{"sheet":"District 5","index":7,"n_rows":78,"n_cols":18,"rows_kept":78,"cut":false,"hidden":false,"merged":[[59,3,59,4],[59,7,59,8],[59,11,59,12],[59,15,59,16],[60,3,60,4],[60,7,60,8],[60,11,60,12],[60,15,60,16],[61,3,61,4],[61,7,61,8],[61,11,61,12],[61,15,61,16],[63,3,63,4],[63,7,63,8],[63,11,63,12],[63,15,63,16],[64,3,64,4],[64,7,64,8],[64,11,64,12],[64,15,64,16],[65,3,65,4],[65,7,65,8],[65,11,65,12],[65,15,65,16],[67,3,67,4],[67,7,67,8],[67,11,67,12],[67,15,67,16],[68,3,68,4],[68,7,68,8],[68,11,68,12],[68,15,68,16],[69,3,69,4],[69,7,69,8],[69,11,69,12],[69,15,69,16],[71,3,71,4],[71,7,71,8],[71,11,71,12],[71,15,71,16],[72,3,72,4],[72,7,72,8],[72,11,72,12],[72,15,72,16],[73,3,73,4],[73,7,73,8],[73,11,73,12],[73,15,73,16],[77,3,77,4],[77,7,77,8],[77,11,77,12],[77,15,77,16],[75,3,75,4],[75,7,75,8],[75,11,75,12],[75,15,75,16],[76,3,76,4],[76,7,76,8],[76,11,76,12],[76,15,76,16]]}
["Team: District 5",null,null,"General Manager: Sean Wachter"]
[]
[null,null,null,"Scoring This Week",null,null,null,null,null,null,null,null,null,"Players Overall Scoring"]
["Forwards","Gls","Ast","PP","SH","GW","OT","PSG","PTS",null,"Gls","Ast","PP","SH","GW","OT","PSG","PTS"]
["Steven Stamkos",3,3,2,0,1,0,0,{"$f":"(B5+C5+D5+(2*E5)+(2*F5)+G5+(4*H5))","v":10},null,18,10,4,0,7,3,0,{"$f":"(K5+L5+M5+(2*N5)+(2*O5)+P5+(4*Q5))","v":49}]
["Sam Reinhart",4,1,2,0,0,0,0,7,null,23,21,8,3,5,0,0,68]
["Brad Marchand",2,2,1,0,0,0,0,5,null,23,23,5,0,2,0,0,55]
["Owen Tippett",2,1,0,1,0,0,0,5,null,13,12,1,1,0,0,0,28]
["Matthew Knies",2,1,1,0,0,0,0,4,null,11,25,4,0,1,0,0,42]
["Mason McTavish",1,2,1,0,0,0,0,4,null,10,16,4,0,2,0,0,34]
["Matt Boldy",2,1,0,0,0,0,0,3,null,26,22,6,2,3,1,0,65]
["Tage Thompson",2,1,0,0,0,0,0,3,null,20,17,3,0,1,0,0,42]
["Josh Doan",2,1,0,0,0,0,0,3,null,12,15,4,0,1,0,0,33]
["Tomas Hertl",0,1,0,0,0,0,0,1,null,15,15,7,0,2,0,0,41]
["William Nylander",0,0,0,0,0,0,0,0,null,14,27,3,0,2,2,0,50]
[]
[]
["Defense","Gls","Ast","PP","SH","GW","OT","PSG","PTS",null,"Gls","Ast","PP","SH","GW","OT","PSG","PTS"]
["Mikhail Sergachev",2,2,1,0,0,0,0,{"$f":"(B19+C19+D19+(2*E19)+(2*F19)+G19+(4*H19))","v":5},null,6,23,3,0,0,0,0,{"$f":"(K19+L19+M19+(2*N19)+(2*O19)+P19+(4*Q19))","v":32}]
["Cale Makar",1,3,0,0,0,0,0,4,null,12,35,2,0,3,0,0,55]
["Rasmus Andersson",2,0,1,0,0,0,0,3,null,9,18,3,0,0,0,0,30]
["Moritz Seider",1,1,0,0,0,0,0,2,null,7,24,1,0,1,1,0,35]
["Jamie Drysdale",0,1,0,0,0,0,0,1,null,3,15,0,0,1,0,0,20]
["Brandon Montour",0,0,0,0,0,0,0,0,null,6,10,1,0,1,1,0,20]
["Sam Rinzel",0,0,0,0,0,0,0,0,null,1,7,0,0,0,0,0,8]
[]
["Goalie","W","OT","SO","Gls","Ast","GAA","SP","PTS",null,"W","OT","SO","Gls","Ast","GAA","SP","PTS"]
["Filip Gustavsson",2,0,0,0,0,2.0099999999999998,0.90900000000000003,{"$f":"((3*B28)+C28+(3*D28)+(10*E28)+(3*F28)+G29+H29)","v":9},null,14,4,3,0,0,2.4500000000000002,0.91200000000000003,{"$f":"((3*K28)+L28+(3*M28)+(10*N28)+(3*O28)+P29+Q29)","v":98}]
[null,4,119.61000000000013,40,44,null,2,1,{"$f":"((3*B28)+C28+(3*D28)+(10*E28)+(3*F28)+G29+H29)","v":9},null,null,null,null,null,null,22,21,{"$f":"((2*K28)+L28+(3*M28)+(10*N28)+(3*O28)+P29+Q29)","v":84}]
["Juuse Saros",2,0,0,0,0,3.04,0.88200000000000001,{"$f":"((3*B30)+C30+(3*D30)+(10*E30)+(3*F30)+G31+H31)","v":6},null,16,3,0,0,0,2.93,0.89600000000000002,{"$f":"((3*K30)+L30+(3*M30)+(10*N30)+(3*O30)+P31+Q31)","v":81}]
[null,9,177.81999999999994,67,76,null,0,0,{"$f":"((3*B30)+C30+(3*D30)+(10*E30)+(3*F30)+G31+H31)","v":6},null,null,null,null,null,null,13,17,{"$f":"((2*K30)+L30+(3*M30)+(10*N30)+(3*O30)+P31+Q31)","v":65}]
[null,null,null,"All Playes Scoring This Week",null,null,null,null,null,null,null,null,null,"Cumulative Points"]
[null,"Gls","Ast","PP","SH","GW","OT","PSG",null,null,"Gls","Ast","PP","SH","GW","OT","PSG","PTS"]
["Forwards",{"$f":"SUM(B5:B15)","v":20},{"$f":"SUM(C5:C15)","v":14},7,1,1,0,0,null,null,183,201,47,6,25,6,0,{"$f":"(K34+L34+M34+(2*N34)+(2*O34)+P34+(4*Q34))","v":499}]
["Defense",{"$f":"SUM(B19:B25)","v":6},{"$f":"SUM(C19:C25)","v":7},2,0,0,0,0,null,null,44,131,10,0,6,2,0,{"$f":"(K35+L35+M35+(2*N35)+(2*O35)+P35+(4*Q35))","v":199}]
["Total Scorers",{"$f":"SUM(B34:B35)","v":26},{"$f":"SUM(C34:C35)","v":21},9,1,1,0,0,null,null,{"$f":"SUM(K34:K35)","v":227},332,57,6,31,8,0,{"$f":"(K36+L36+M36+(2*N36)+(2*O36)+P36+(4*Q36))","v":698}]
[null,"W","OT","SO","Gls","Ast","GAA","SP",null,null,"W","OT","SO","Gls","Ast","GAA","SP","PTS"]
["Goalie Totals",{"$f":"SUM(B28,B30)","v":4},{"$f":"SUM(C28,C30)","v":0},{"$f":"SUM(D28,D30)","v":0},{"$f":"SUM(E28,E30)","v":0},{"$f":"SUM(F28,F30)","v":0},{"$f":"IF(C39=0,0,B39/(C39/60))","v":2.6224657902699788},{"$f":"IF(E39=0,0,D39/E39)","v":0.89166666666666672},null,null,30,7,3,0,0,{"$f":"IF(L39=0,0,K39/(L39/60))","v":2.7135854341736696},{"$f":"IF(N39=0,0,M39/N39)","v":0.90342679127725856},{"$f":"((3*K38)+L38+(3*M38)+(10*N38)+(3*O38)+P39+Q39)","v":179}]
[null,{"$f":"SUM(B29,B31)","v":13},{"$f":"SUM(C29,C31)","v":297.43000000000006},{"$f":"SUM(D29,D31)","v":107},{"$f":"SUM(E29,E31)","v":120},null,null,null,null,null,155,3427.2,1450,1605,null,35,38]
[null,null,null,null,null,null,null,null,null,null,"GA","Time","Saves","Shots"]
[]
[null,"Injured Reserve",null,null,null,null,null,null,null,null,null,null,"This Weeks Totals"]
["Player","P","GP","IR Weeks","Pts",null,null,null,null,null,null,"Forwards",null,{"$f":"SUM(I5:I12)","v":41}]
["Patrik Laine","F",0,11,1,null,null,null,null,null,null,"Defense",null,{"$f":"SUM(I19:I23)","v":15}]
[null,"D",null,null,null,null,null,null,null,null,null,"Goalie",null,{"$f":"I28","v":9}]
[null,"G"]
[null,"Flex",null,null,null,null,null,null,null,null,null,"Total Points",null,{"$f":"SUM(N43:N45)","v":65}]
[]
[]
[]
[]
[]
[]
[]
[]
["Team Record","W","L","T","Pts","CP","BPF","BFA","Streak"]
["District 5",7,5,1,{"$f":"2*B57+D57","v":15},{"$f":"R36+R38","v":877},{"$f":"SUM(B61,B65,B69,B73,B77,F61,F65,F69,F73,F77,J61,J65,J69,J73,J77,N61,N65,N69,N73,N77,R61,R65)","v":775},{"$f":"SUM(B62,B66,B70,B74,B78,F62,F66,F70,F74,F78,J62,J66,J70,J74,J78,N62,N66,N70,N74,N78,R62,R66)","v":683},"Lost 1"]
[]
[]
["Game 1","Score",null,"Game 6        ",null,"Score",null,"Game 11   ",null,"Score",null,"Game 16",null,"Score",null,"Game 21",null,"Score"]
["District 5",42,null,"District 5",null,72,null,"District 5",null,80,null,"District 5",null,0,null,"District 5",null,0]
["Riketorians",42,null,"Damn Yankees",null,50,null,"Riketorians",null,50,null,"Fantasy Hockey Club",null,0,null,"Shawnee Tribe",null,0]
[]
["Game 2","Score",null,"Game 7       ",null,"Score",null,"Game 12",null,"Score",null,"Game 17",null,"Score",null,"Game 22",null,"Score"]
["District 5",62,null,"District 5",null,80,null,"District 5",null,60,null,"District 5",null,0,null,"District 5",null,0]
["Shawnee Tribe",33,null,"Team LIRHL",null,49,null,"Grumpy Old Men",null,38,null,"Highlanders",null,0,null,"Team LIRHL",null,0]
[]
["Game 3","Score",null,"Game 8       ",null,"Score",null,"Game 13",null,"Score",null,"Game 18",null,"Score"]
["District 5",48,null,"District 5",null,61,null,"District 5",null,65,null,"District 5",null,0]
["Highlanders",45,null,"Highlanders",null,65,null,"Shawnee Tribe",null,69,null,"Slappers",null,0]
[]
["Game 4","Score",null,"Game 9    ",null,"Score",null,"Game 14",null,"Score",null,"Game 19",null,"Score"]
["District 5",51,null,"District 5",null,51,null,"District 5",null,0,null,"District 5",null,0]
["Slappers",61,null,"Just Chillin",null,62,null,"Slappers",null,0,null,"Damn Yankees",null,0]
[]
["Game 5","Score",null,"Game 10   ",null,"Score",null,"Game 15",null,"Score",null,"Game 20",null,"Score"]
["District 5",42,null,"District 5",null,61,null,"District 5",null,0,null,"District 5",null,0]
["Just Chillin",61,null,"Fantasy Hockey Club",null,58,null,"Just Chillin",null,0,null,"Grumpy Old Men",null,0]

{"sheet":"Riketorians","index":8,"n_rows":78,"n_cols":18,"rows_kept":78,"cut":false,"hidden":false,"merged":[[59,3,59,4],[59,7,59,8],[59,11,59,12],[59,15,59,16],[60,3,60,4],[60,7,60,8],[60,11,60,12],[60,15,60,16],[61,3,61,4],[61,7,61,8],[61,11,61,12],[61,15,61,16],[63,3,63,4],[63,7,63,8],[63,11,63,12],[63,15,63,16],[64,3,64,4],[64,7,64,8],[64,11,64,12],[64,15,64,16],[65,3,65,4],[65,7,65,8],[65,11,65,12],[65,15,65,16],[67,3,67,4],[67,7,67,8],[67,11,67,12],[67,15,67,16],[68,3,68,4],[68,7,68,8],[68,11,68,12],[68,15,68,16],[69,3,69,4],[69,7,69,8],[69,11,69,12],[69,15,69,16],[71,3,71,4],[71,7,71,8],[71,11,71,12],[71,15,71,16],[72,3,72,4],[72,7,72,8],[72,11,72,12],[72,15,72,16],[73,3,73,4],[73,7,73,8],[73,11,73,12],[73,15,73,16],[77,3,77,4],[77,7,77,8],[77,11,77,12],[77,15,77,16],[75,3,75,4],[75,7,75,8],[75,11,75,12],[75,15,75,16],[76,3,76,4],[76,7,76,8],[76,11,76,12],[76,15,76,16]]}
["Team: Riketorians",null,null,"General Manager: Jonathan Riker"]
[]
[null,null,null,"Scoring This Week",null,null,null,null,null,null,null,null,null,"Players Overall Scoring"]
["Forwards","Gls","Ast","PP","SH","GW","OT","PSG","PTS",null,"Gls","Ast","PP","SH","GW","OT","PSG","PTS"]
["Brock Nelson",4,2,3,0,2,0,0,{"$f":"(B5+C5+D5+(2*E5)+(2*F5)+G5+(4*H5))","v":13},null,18,14,6,0,5,0,0,{"$f":"(K5+L5+M5+(2*N5)+(2*O5)+P5+(4*Q5))","v":48}]
["Tom Wilson",5,3,1,0,0,0,0,9,null,22,20,7,0,2,0,0,53]
["David Pastrnak",2,3,1,0,0,0,0,6,null,17,29,8,0,2,0,0,58]
["Andrei Svechnikov",2,2,0,0,0,0,0,4,null,12,19,4,0,1,0,0,37]
["Drake Batherson",1,0,1,0,1,0,0,4,null,16,22,6,0,3,0,0,50]
["Vincent Trocheck",1,3,0,0,0,0,0,4,null,9,15,0,0,1,0,0,26]
["Travis Konecny",2,1,0,0,0,0,0,3,null,13,23,1,0,1,0,0,39]
["Kyle Connor",1,2,0,0,0,0,0,3,null,19,29,2,2,1,1,1,61]
["Alex Ovechkin",0,1,0,0,0,0,0,1,null,15,19,2,0,3,0,0,42]
["Carter Verhaeghe",0,0,0,0,0,0,0,0,null,11,17,2,0,2,0,0,34]
["Connor Bedard",0,0,0,0,0,0,0,0,null,19,25,5,0,3,0,0,55]
[]
[]
["Defense","Gls","Ast","PP","SH","GW","OT","PSG","PTS",null,"Gls","Ast","PP","SH","GW","OT","PSG","PTS"]
["Kris Letang",1,2,0,0,1,1,0,{"$f":"(B19+C19+D19+(2*E19)+(2*F19)+G19+(4*H19))","v":6},null,3,18,1,0,2,2,0,{"$f":"(K19+L19+M19+(2*N19)+(2*O19)+P19+(4*Q19))","v":28}]
["Erik Karlsson",0,4,0,0,0,0,0,4,null,3,27,2,0,0,0,0,32]
["Jake Sanderson",1,2,0,0,0,0,0,3,null,8,21,2,0,1,0,0,33]
["Justin Faulk",1,0,0,0,0,0,0,1,null,11,10,2,0,3,0,0,29]
["Devon Toews",0,1,0,0,0,0,0,1,null,1,12,0,0,0,0,0,13]
["Mike Matheson",0,1,0,0,0,0,0,1,null,4,14,0,0,1,1,0,21]
["Neal Pionk",0,1,0,0,0,0,0,1,null,2,5,1,0,1,0,0,10]
[]
["Goalie","W","OT","SO","Gls","Ast","GAA","SP","PTS",null,"W","OT","SO","Gls","Ast","GAA","SP","PTS"]
["Dustin Wolf",2,0,0,0,0,1.98,0.94299999999999995,{"$f":"((3*B28)+C28+(3*D28)+(10*E28)+(3*F28)+G29+H29)","v":14},null,14,2,2,0,0,2.86,0.90100000000000002,{"$f":"((3*K28)+L28+(3*M28)+(10*N28)+(3*O28)+P29+Q29)","v":85}]
[null,6,181.5,83,88,null,3,5,{"$f":"((3*B28)+C28+(3*D28)+(10*E28)+(3*F28)+G29+H29)","v":14},null,null,null,null,null,null,16,19,{"$f":"((2*K28)+L28+(3*M28)+(10*N28)+(3*O28)+P29+Q29)","v":71}]
["Sergei Bobrovsky",1,0,0,0,0,3.56,0.84799999999999998,{"$f":"((3*B30)+C30+(3*D30)+(10*E30)+(3*F30)+G31+H31)","v":3},null,17,1,3,0,1,2.84,0.88500000000000001,{"$f":"((3*K30)+L30+(3*M30)+(10*N30)+(3*O30)+P31+Q31)","v":91}]
[null,7,118.04999999999995,39,46,null,0,0,{"$f":"((3*B30)+C30+(3*D30)+(10*E30)+(3*F30)+G31+H31)","v":3},null,null,null,null,null,null,14,13,{"$f":"((2*K30)+L30+(3*M30)+(10*N30)+(3*O30)+P31+Q31)","v":74}]
[null,null,null,"All Playes Scoring This Week",null,null,null,null,null,null,null,null,null,"Cumulative Points"]
[null,"Gls","Ast","PP","SH","GW","OT","PSG",null,null,"Gls","Ast","PP","SH","GW","OT","PSG","PTS"]
["Forwards",{"$f":"SUM(B5:B15)","v":18},{"$f":"SUM(C5:C15)","v":17},6,0,3,0,0,null,null,171,232,43,2,24,1,1,{"$f":"(K34+L34+M34+(2*N34)+(2*O34)+P34+(4*Q34))","v":503}]
["Defense",{"$f":"SUM(B19:B25)","v":3},{"$f":"SUM(C19:C25)","v":11},0,0,1,1,0,null,null,32,107,8,0,8,3,0,{"$f":"(K35+L35+M35+(2*N35)+(2*O35)+P35+(4*Q35))","v":166}]
["Total Scorers",{"$f":"SUM(B34:B35)","v":21},{"$f":"SUM(C34:C35)","v":28},6,0,4,1,0,null,null,{"$f":"SUM(K34:K35)","v":203},339,51,2,32,4,1,{"$f":"(K36+L36+M36+(2*N36)+(2*O36)+P36+(4*Q36))","v":669}]
[null,"W","OT","SO","Gls","Ast","GAA","SP",null,null,"W","OT","SO","Gls","Ast","GAA","SP","PTS"]
["Goalie Totals",{"$f":"SUM(B28,B30)","v":3},{"$f":"SUM(C28,C30)","v":0},{"$f":"SUM(D28,D30)","v":0},{"$f":"SUM(E28,E30)","v":0},{"$f":"SUM(F28,F30)","v":0},{"$f":"IF(C39=0,0,B39/(C39/60))","v":2.6039058587881829},{"$f":"IF(E39=0,0,D39/E39)","v":0.91044776119402981},null,null,31,3,5,0,1,{"$f":"IF(L39=0,0,K39/(L39/60))","v":2.8530921707276264},{"$f":"IF(N39=0,0,M39/N39)","v":0.89421813403416561},{"$f":"((3*K38)+L38+(3*M38)+(10*N38)+(3*O38)+P39+Q39)","v":176}]
[null,{"$f":"SUM(B29,B31)","v":13},{"$f":"SUM(C29,C31)","v":299.54999999999995},{"$f":"SUM(D29,D31)","v":122},{"$f":"SUM(E29,E31)","v":134},null,null,null,null,null,162,3406.8300000000004,1361,1522,null,30,32]
[null,null,null,null,null,null,null,null,null,null,"GA","Time","Saves","Shots"]
[]
[null,"Injured Reserve",null,null,null,null,null,null,null,null,null,null,"This Weeks Totals"]
["Player","P","GP","IR Weeks","Pts",null,null,null,null,null,null,"Forwards",null,{"$f":"SUM(I5:I12)","v":46}]
[null,"F",null,null,null,null,null,null,null,null,null,"Defense",null,{"$f":"SUM(I19:I23)","v":15}]
[null,"D",null,null,null,null,null,null,null,null,null,"Goalie",null,{"$f":"I28","v":14}]
[null,"G"]
[null,"Flex",null,null,null,null,null,null,null,null,null,"Total Points",null,{"$f":"SUM(N43:N45)","v":75}]
[]
[]
[]
[]
[]
[]
[]
[]
["Team Record","W","L","T","Pts","CP","BPF","BFA","Streak"]
["Riketorians",7,5,1,{"$f":"2*B57+D57","v":15},{"$f":"R36+R38","v":845},{"$f":"SUM(B61,B65,B69,B73,B77,F61,F65,F69,F73,F77,J61,J65,J69,J73,J77,N61,N65,N69,N73,N77,R61,R65)","v":769},{"$f":"SUM(B62,B66,B70,B74,B78,F62,F66,F70,F74,F78,J62,J66,J70,J74,J78,N62,N66,N70,N74,N78,R62,R66)","v":723},"Lost 1"]
[]
[]
["Game 1","Score",null,"Game 6        ",null,"Score",null,"Game 11   ",null,"Score",null,"Game 16",null,"Score",null,"Game 21",null,"Score"]
["Riketorians",42,null,"Riketorians",null,55,null,"Riketorians",null,50,null,"Riketorians",null,0,null,"Riketorians",null,0]
["District 5",42,null,"Shawnee Tribe",null,58,null,"District 5",null,80,null,"Shawnee Tribe",null,0,null,"Grumpy Old Men",null,0]
[]
["Game 2","Score",null,"Game 7       ",null,"Score",null,"Game 12",null,"Score",null,"Game 17",null,"Score",null,"Game 22",null,"Score"]
["Riketorians",39,null,"Riketorians",null,73,null,"Riketorians",null,40,null,"Riketorians",null,0,null,"Riketorians",null,0]
["Fantasy Hockey Club",70,null,"Slappers",null,39,null,"Team LIRHL",null,37,null,"Fantasy Hockey Club",null,0,null,"Damn Yankees",null,0]
[]
["Game 3","Score",null,"Game 8       ",null,"Score",null,"Game 13",null,"Score",null,"Game 18",null,"Score"]
["Riketorians",62,null,"Riketorians",null,51,null,"Riketorians",null,75,null,"Riketorians",null,0]
["Grumpy Old Men",45,null,"Just Chillin",null,50,null,"Grumpy Old Men",null,81,null,"Highlanders",null,0]
[]
["Game 4","Score",null,"Game 9    ",null,"Score",null,"Game 14",null,"Score",null,"Game 19",null,"Score"]
["Riketorians",72,null,"Riketorians",null,79,null,"Riketorians",null,0,null,"Riketorians",null,0]
["Team LIRHL",59,null,"Fantasy Hockey Club",null,57,null,"Damn Yankees",null,0,null,"Slappers",null,0]
[]
["Game 5","Score",null,"Game 10   ",null,"Score",null,"Game 15",null,"Score",null,"Game 20",null,"Score"]
["Riketorians",55,null,"Riketorians",null,76,null,"Riketorians",null,0,null,"Riketorians",null,0]
["Damn Yankees",56,null,"Highlanders",null,49,null,"Team LIRHL",null,0,null,"Just Chillin",null,0]

{"sheet":"Just Chillin","index":9,"n_rows":78,"n_cols":18,"rows_kept":78,"cut":false,"hidden":false,"merged":[[59,3,59,4],[59,7,59,8],[59,11,59,12],[59,15,59,16],[60,3,60,4],[60,7,60,8],[60,11,60,12],[60,15,60,16],[61,3,61,4],[61,7,61,8],[61,11,61,12],[61,15,61,16],[63,3,63,4],[63,7,63,8],[63,11,63,12],[63,15,63,16],[64,3,64,4],[64,7,64,8],[64,11,64,12],[64,15,64,16],[65,3,65,4],[65,7,65,8],[65,11,65,12],[65,15,65,16],[67,3,67,4],[67,7,67,8],[67,11,67,12],[67,15,67,16],[68,3,68,4],[68,7,68,8],[68,11,68,12],[68,15,68,16],[69,3,69,4],[69,7,69,8],[69,11,69,12],[69,15,69,16],[71,3,71,4],[71,7,71,8],[71,11,71,12],[71,15,71,16],[72,3,72,4],[72,7,72,8],[72,11,72,12],[72,15,72,16],[73,3,73,4],[73,7,73,8],[73,11,73,12],[73,15,73,16],[77,3,77,4],[77,7,77,8],[77,11,77,12],[77,15,77,16],[75,3,75,4],[75,7,75,8],[75,11,75,12],[75,15,75,16],[76,3,76,4],[76,7,76,8],[76,11,76,12],[76,15,76,16]]}
["Team: Just Chillin",null,"General Manager: Mike Willoughby"]
[]
[null,null,null,"Scoring This Week",null,null,null,null,null,null,null,null,null,"Players Overall Scoring"]
["Forwards","Gls","Ast","PP","SH","GW","OT","PSG","PTS",null,"Gls","Ast","PP","SH","GW","OT","PSG","PTS"]
["Sidney Crosby",3,4,1,0,0,0,0,{"$f":"(B5+C5+D5+(2*E5)+(2*F5)+G5+(4*H5))","v":8},null,23,22,9,0,2,0,0,{"$f":"(K5+L5+M5+(2*N5)+(2*O5)+P5+(4*Q5))","v":58}]
["Bryan Rust",3,3,0,0,1,0,0,8,null,16,20,3,0,4,0,0,47]
["Anthony Mantha",3,2,1,0,0,0,0,6,null,14,14,4,0,0,0,0,32]
["Aliaksei Protas",2,2,0,0,1,0,0,6,null,16,15,0,0,3,0,0,37]
["Mark Scheifele",2,1,1,0,0,0,0,4,null,20,28,5,0,2,0,0,57]
["John Tavares",0,4,0,0,0,0,0,4,null,15,22,2,0,1,1,0,42]
["Ryan Nugent-Hopkins",0,1,0,0,0,0,0,1,null,11,22,6,0,1,0,0,41]
["Wyatt Johnston",0,1,0,0,0,0,0,1,null,20,26,14,0,3,0,0,66]
["Anze Kopitar",0,1,0,0,0,0,0,1,null,6,15,3,0,1,0,0,26]
["Patrick Kane",0,1,0,0,0,0,0,1,null,6,18,1,0,2,0,0,29]
["Jack Eichel",0,0,0,0,0,0,0,0,null,12,29,0,0,3,1,0,48]
[]
[]
["Defense","Gls","Ast","PP","SH","GW","OT","PSG","PTS",null,"Gls","Ast","PP","SH","GW","OT","PSG","PTS"]
["Roman Josi",2,0,1,0,0,0,0,{"$f":"(B19+C19+D19+(2*E19)+(2*F19)+G19+(4*H19))","v":3},null,5,13,2,0,0,0,0,{"$f":"(K19+L19+M19+(2*N19)+(2*O19)+P19+(4*Q19))","v":20}]
["Brock Faber",2,1,0,0,0,0,0,3,null,9,14,0,1,1,0,0,27]
["Zach Werenski",0,2,0,0,0,0,0,2,null,14,28,1,0,0,0,0,43]
["Noah Hanifin",0,1,0,0,0,0,0,1,null,2,12,0,0,0,0,0,14]
["Morgan Rielly",0,1,0,0,0,0,0,1,null,5,21,0,0,2,0,0,30]
["Cam Fowler",0,1,0,0,0,0,0,1,null,1,14,0,0,0,0,0,15]
["John Carlson",0,0,0,0,0,0,0,0,null,8,21,0,0,0,0,0,29]
[]
["Goalie","W","OT","SO","Gls","Ast","GAA","SP","PTS",null,"W","OT","SO","Gls","Ast","GAA","SP","PTS"]
["Jesper Wallstedt",0,2,0,0,0,3.27,0.90900000000000003,{"$f":"((3*B28)+C28+(3*D28)+(10*E28)+(3*F28)+G29+H29)","v":3},null,11,4,4,0,0,2.2999999999999998,0.92800000000000005,{"$f":"((3*K28)+L28+(3*M28)+(10*N28)+(3*O28)+P29+Q29)","v":101}]
[null,7,128.62999999999988,60,66,null,0,1,{"$f":"((3*B28)+C28+(3*D28)+(10*E28)+(3*F28)+G29+H29)","v":3},null,null,null,null,null,null,21,31,{"$f":"((2*K28)+L28+(3*M28)+(10*N28)+(3*O28)+P29+Q29)","v":90}]
["Connor Hellebuyck",0,0,0,0,0,2.77,0.879,{"$f":"((3*B30)+C30+(3*D30)+(10*E30)+(3*F30)+G31+H31)","v":1},null,9,3,0,0,0,2.58,0.90500000000000003,{"$f":"((3*K30)+L30+(3*M30)+(10*N30)+(3*O30)+P31+Q31)","v":66}]
[null,8,173.27999999999997,58,66,null,1,0,{"$f":"((3*B30)+C30+(3*D30)+(10*E30)+(3*F30)+G31+H31)","v":1},null,null,null,null,null,null,16,20,{"$f":"((2*K30)+L30+(3*M30)+(10*N30)+(3*O30)+P31+Q31)","v":57}]
[null,null,null,"All Playes Scoring This Week",null,null,null,null,null,null,null,null,null,"Cumulative Points"]
[null,"Gls","Ast","PP","SH","GW","OT","PSG",null,null,"Gls","Ast","PP","SH","GW","OT","PSG","PTS"]
["Forwards",{"$f":"SUM(B5:B15)","v":13},{"$f":"SUM(C5:C15)","v":20},3,0,2,0,0,null,null,159,226,46,0,21,2,0,{"$f":"(K34+L34+M34+(2*N34)+(2*O34)+P34+(4*Q34))","v":475}]
["Defense",{"$f":"SUM(B19:B25)","v":4},{"$f":"SUM(C19:C25)","v":6},1,0,0,0,0,null,null,45,123,3,1,3,0,0,{"$f":"(K35+L35+M35+(2*N35)+(2*O35)+P35+(4*Q35))","v":179}]
["Total Scorers",{"$f":"SUM(B34:B35)","v":17},{"$f":"SUM(C34:C35)","v":26},4,0,2,0,0,null,null,{"$f":"SUM(K34:K35)","v":204},349,49,1,24,2,0,{"$f":"(K36+L36+M36+(2*N36)+(2*O36)+P36+(4*Q36))","v":654}]
[null,"W","OT","SO","Gls","Ast","GAA","SP",null,null,"W","OT","SO","Gls","Ast","GAA","SP","PTS"]
["Goalie Totals",{"$f":"SUM(B28,B30)","v":0},{"$f":"SUM(C28,C30)","v":2},{"$f":"SUM(D28,D30)","v":0},{"$f":"SUM(E28,E30)","v":0},{"$f":"SUM(F28,F30)","v":0},{"$f":"IF(C39=0,0,B39/(C39/60))","v":2.9810208340233864},{"$f":"IF(E39=0,0,D39/E39)","v":0.89393939393939392},null,null,19,11,1,0,1,{"$f":"IF(L39=0,0,K39/(L39/60))","v":2.9081914057929841},{"$f":"IF(N39=0,0,M39/N39)","v":0.89504373177842567},{"$f":"((3*K38)+L38+(3*M38)+(10*N38)+(3*O38)+P39+Q39)","v":136}]
[null,{"$f":"SUM(B29,B31)","v":15},{"$f":"SUM(C29,C31)","v":301.90999999999985},{"$f":"SUM(D29,D31)","v":118},{"$f":"SUM(E29,E31)","v":132},null,null,null,null,null,145,2991.5499999999997,1228,1372,null,26,36]
[null,null,null,null,null,null,null,null,null,null,"GA","Time","Saves","Shots"]
[]
[null,"Injured Reserve",null,null,null,null,null,null,null,null,null,null,"This Weeks Totals"]
["Player","P","GP","IR Weeks","Pts",null,null,null,null,null,null,"Forwards",null,{"$f":"SUM(I5:I12)","v":38}]
["Jack Roslovic","F",3,5,31,null,null,null,null,null,null,"Defense",null,{"$f":"SUM(I19:I23)","v":10}]
[null,"D",null,null,null,null,null,null,null,null,null,"Goalie",null,{"$f":"I28","v":3}]
[null,"G"]
[null,"Flex",null,null,null,null,null,null,null,null,null,"Total Points",null,{"$f":"SUM(N43:N45)","v":51}]
["Warning, Jack Roslovic must be returned to lineup by start of Week 14"]
[]
[]
[]
[]
[]
[]
[]
["Team Record","W","L","T","Pts","CP","BPF","BFA","Streak"]
["Just Chillin      ",7,5,1,{"$f":"2*B57+D57","v":15},{"$f":"R36+R38","v":790},{"$f":"SUM(B61,B65,B69,B73,B77,F61,F65,F69,F73,F77,J61,J65,J69,J73,J77,N61,N65,N69,N73,N77,R61,R65)","v":719},{"$f":"SUM(B62,B66,B70,B74,B78,F62,F66,F70,F74,F78,J62,J66,J70,J74,J78,N62,N66,N70,N74,N78,R62,R66)","v":663},"Lost 1"]
[]
[]
["Game 1","Score",null,"Game 6        ",null,"Score",null,"Game 11   ",null,"Score",null,"Game 16",null,"Score",null,"Game 21",null,"Score"]
["Just Chillin",49,null,"Just Chillin",null,44,null,"Just Chillin",null,47,null,"Just Chillin",null,0,null,"Just Chillin",null,0]
["Slappers",38,null,"Fantasy Hockey Club",null,60,null,"Grumpy Old Men",null,51,null,"Team LIRHL",null,0,null,"Highlanders",null,0]
[]
["Game 2","Score",null,"Game 7       ",null,"Score",null,"Game 12",null,"Score",null,"Game 17",null,"Score",null,"Game 22",null,"Score"]
["Just Chillin",67,null,"Just Chillin",null,54,null,"Just Chillin",null,47,null,"Just Chillin",null,0,null,"Just Chillin",null,0]
["Highlanders",49,null,"Grumpy Old Men",null,44,null,"Slappers",null,42,null,"Damn Yankees",null,0,null,"Slappers",null,0]
[]
["Game 3","Score",null,"Game 8       ",null,"Score",null,"Game 13",null,"Score",null,"Game 18",null,"Score"]
["Just Chillin",56,null,"Just Chillin",null,50,null,"Just Chillin",null,51,null,"Just Chillin",null,0]
["Team LIRHL",66,null,"Riketorians",null,51,null,"Highlanders",null,56,null,"Shawnee Tribe",null,0]
[]
["Game 4","Score",null,"Game 9    ",null,"Score",null,"Game 14",null,"Score",null,"Game 19",null,"Score"]
["Just Chillin",66,null,"Just Chillin",null,62,null,"Just Chillin",null,0,null,"Just Chillin",null,0]
["Shawnee Tribe",48,null,"District 5",null,51,null,"Shawnee Tribe",null,0,null,"Fantasy Hockey Club",null,0]
[]
["Game 5","Score",null,"Game 10   ",null,"Score",null,"Game 15",null,"Score",null,"Game 20",null,"Score"]
["Just Chillin",61,null,"Just Chillin",null,65,null,"Just Chillin",null,0,null,"Just Chillin",null,0]
["District 5",42,null,"Damn Yankees",null,65,null,"District 5",null,0,null,"Riketorians",null,0]

{"sheet":"Damn Yankees","index":10,"n_rows":78,"n_cols":18,"rows_kept":78,"cut":false,"hidden":false,"merged":[[59,3,59,4],[59,7,59,8],[59,11,59,12],[59,15,59,16],[60,3,60,4],[60,7,60,8],[60,11,60,12],[60,15,60,16],[61,3,61,4],[61,7,61,8],[61,11,61,12],[61,15,61,16],[63,3,63,4],[63,7,63,8],[63,11,63,12],[63,15,63,16],[64,3,64,4],[64,7,64,8],[64,11,64,12],[64,15,64,16],[65,3,65,4],[65,7,65,8],[65,11,65,12],[65,15,65,16],[67,3,67,4],[67,7,67,8],[67,11,67,12],[67,15,67,16],[68,3,68,4],[68,7,68,8],[68,11,68,12],[68,15,68,16],[69,3,69,4],[69,7,69,8],[69,11,69,12],[69,15,69,16],[71,3,71,4],[71,7,71,8],[71,11,71,12],[71,15,71,16],[72,3,72,4],[72,7,72,8],[72,11,72,12],[72,15,72,16],[73,3,73,4],[73,7,73,8],[73,11,73,12],[73,15,73,16],[77,3,77,4],[77,7,77,8],[77,11,77,12],[77,15,77,16],[75,3,75,4],[75,7,75,8],[75,11,75,12],[75,15,75,16],[76,3,76,4],[76,7,76,8],[76,11,76,12],[76,15,76,16]]}
["Team: Damn Yankees",null,"General Manager: Ken Chmela"]
[]
[null,null,null,"Scoring This Week",null,null,null,null,null,null,null,null,null,"Players Overall Scoring"]
["Forwards","Gls","Ast","PP","SH","GW","OT","PSG","PTS",null,"Gls","Ast","PP","SH","GW","OT","PSG","PTS"]
["Nick Schmaltz",2,2,0,0,1,0,0,{"$f":"(B5+C5+D5+(2*E5)+(2*F5)+G5+(4*H5))","v":6},null,14,22,3,0,4,0,0,{"$f":"(K5+L5+M5+(2*N5)+(2*O5)+P5+(4*Q5))","v":47}]
["Troy Terry",3,1,0,0,0,0,0,4,null,13,26,0,2,1,0,0,45]
["Martin Necas",1,3,0,0,0,0,0,4,null,19,34,3,0,0,0,0,56]
["Jake Guentzel",0,4,0,0,0,0,0,4,null,18,25,4,2,3,1,0,58]
["Alex DeBrincat",2,0,1,0,0,0,0,3,null,22,20,10,0,4,1,0,61]
["Tyler Bertuzzi",1,2,0,0,0,0,0,3,null,19,12,8,0,1,0,0,41]
["Lucas Raymond",0,3,0,0,0,0,0,3,null,11,33,4,0,3,0,0,54]
["Zach Hyman",2,0,0,0,0,0,0,2,null,12,10,4,0,1,0,0,28]
["Beckett Sennecke",2,0,0,0,0,0,0,2,null,13,18,1,1,0,0,0,34]
["Alex Tuch",1,1,0,0,0,0,0,2,null,12,20,2,1,1,1,0,39]
["Matt Duchene",1,1,0,0,0,0,0,2,null,3,4,1,0,1,0,0,10]
[]
[]
["Defense","Gls","Ast","PP","SH","GW","OT","PSG","PTS",null,"Gls","Ast","PP","SH","GW","OT","PSG","PTS"]
["Quinn Hughes",0,5,0,0,0,0,0,{"$f":"(B19+C19+D19+(2*E19)+(2*F19)+G19+(4*H19))","v":5},null,3,32,2,0,0,0,0,{"$f":"(K19+L19+M19+(2*N19)+(2*O19)+P19+(4*Q19))","v":37}]
["Filip Hronek",1,2,1,0,0,0,0,4,null,3,22,2,0,0,0,0,27]
["Artyom Levshunov",1,1,1,0,0,0,0,3,null,2,17,1,0,0,0,0,20]
["Nick Blankenburg",0,2,0,0,0,0,0,2,null,4,13,3,0,0,0,0,20]
["Logan Stanley",1,0,0,0,0,0,0,1,null,7,6,0,0,1,0,0,15]
["Sam Malinski",0,1,0,0,0,0,0,1,null,3,19,0,0,1,0,0,24]
["Colton Parayko",0,1,0,0,0,0,0,1,null,0,11,0,0,0,0,0,11]
[]
["Goalie","W","OT","SO","Gls","Ast","GAA","SP","PTS",null,"W","OT","SO","Gls","Ast","GAA","SP","PTS"]
["Mackenzie Blackwood",2,0,0,0,0,1.51,0.92100000000000004,{"$f":"((3*B28)+C28+(3*D28)+(10*E28)+(3*F28)+G29+H29)","v":12},null,13,1,2,0,0,2.0699999999999998,0.92400000000000004,{"$f":"((3*K28)+L28+(3*M28)+(10*N28)+(3*O28)+P29+Q29)","v":91}]
[null,3,119.33999999999992,35,38,null,3,3,{"$f":"((3*B28)+C28+(3*D28)+(10*E28)+(3*F28)+G29+H29)","v":12},null,null,null,null,null,null,20,25,{"$f":"((2*K28)+L28+(3*M28)+(10*N28)+(3*O28)+P29+Q29)","v":78}]
["Andrei Vasilevskiy",2,0,0,0,1,2.93,0.88,{"$f":"((3*B30)+C30+(3*D30)+(10*E30)+(3*F30)+G31+H31)","v":10},null,16,2,1,0,1,2.36,0.91200000000000003,{"$f":"((3*K30)+L30+(3*M30)+(10*N30)+(3*O30)+P31+Q31)","v":105}]
[null,6,122.78999999999996,44,50,null,1,0,{"$f":"((3*B30)+C30+(3*D30)+(10*E30)+(3*F30)+G31+H31)","v":10},null,null,null,null,null,null,22,27,{"$f":"((2*K30)+L30+(3*M30)+(10*N30)+(3*O30)+P31+Q31)","v":89}]
[null,null,null,"All Playes Scoring This Week",null,null,null,null,null,null,null,null,null,"Cumulative Points"]
[null,"Gls","Ast","PP","SH","GW","OT","PSG",null,null,"Gls","Ast","PP","SH","GW","OT","PSG","PTS"]
["Forwards",{"$f":"SUM(B5:B15)","v":15},{"$f":"SUM(C5:C15)","v":17},1,0,1,0,0,null,null,159,220,35,6,22,4,0,{"$f":"(K34+L34+M34+(2*N34)+(2*O34)+P34+(4*Q34))","v":474}]
["Defense",{"$f":"SUM(B19:B25)","v":3},{"$f":"SUM(C19:C25)","v":12},2,0,0,0,0,null,null,14,104,6,0,0,0,0,{"$f":"(K35+L35+M35+(2*N35)+(2*O35)+P35+(4*Q35))","v":124}]
["Total Scorers",{"$f":"SUM(B34:B35)","v":18},{"$f":"SUM(C34:C35)","v":29},3,0,1,0,0,null,null,{"$f":"SUM(K34:K35)","v":173},324,41,6,22,4,0,{"$f":"(K36+L36+M36+(2*N36)+(2*O36)+P36+(4*Q36))","v":598}]
[null,"W","OT","SO","Gls","Ast","GAA","SP",null,null,"W","OT","SO","Gls","Ast","GAA","SP","PTS"]
["Goalie Totals",{"$f":"SUM(B28,B30)","v":4},{"$f":"SUM(C28,C30)","v":0},{"$f":"SUM(D28,D30)","v":0},{"$f":"SUM(E28,E30)","v":0},{"$f":"SUM(F28,F30)","v":1},{"$f":"IF(C39=0,0,B39/(C39/60))","v":2.2302069136414335},{"$f":"IF(E39=0,0,D39/E39)","v":0.89772727272727271},null,null,37,5,3,0,1,{"$f":"IF(L39=0,0,K39/(L39/60))","v":2.2594235107810143},{"$f":"IF(N39=0,0,M39/N39)","v":0.91628959276018096},{"$f":"((3*K38)+L38+(3*M38)+(10*N38)+(3*O38)+P39+Q39)","v":243}]
[null,{"$f":"SUM(B29,B31)","v":9},{"$f":"SUM(C29,C31)","v":242.12999999999988},{"$f":"SUM(D29,D31)","v":79},{"$f":"SUM(E29,E31)","v":88},null,null,null,null,null,112,2974.21,1215,1326,null,52,63]
[null,null,null,null,null,null,null,null,null,null,"GA","Time","Saves","Shots"]
[]
[null,"Injured Reserve",null,null,null,null,null,null,null,null,null,null,"This Weeks Totals"]
["Player","P","GP","IR Weeks","Pts",null,null,null,null,null,null,"Forwards",null,{"$f":"SUM(I5:I12)","v":29}]
["Brandon Hagel","F",4,2,48,null,null,null,null,null,null,"Defense",null,{"$f":"SUM(I19:I23)","v":15}]
["Victor Hedman","D",0,3,12,null,null,null,null,null,null,"Goalie",null,{"$f":"I28","v":12}]
[null,"G"]
["Shane Pinto","F",3,4,24,null,null,null,null,null,null,"Total Points",null,{"$f":"SUM(N43:N45)","v":56}]
["Warning, Brandon Hagel must be returned to lineup by start of Week 15"]
[]
[]
["Warning, Shane Pinto must be returned to lineup by start of Week 15"]
[]
[]
[]
[]
["Team Record","W","L","T","Pts","CP","BPF","BFA","Streak"]
["Damn Yankees      ",6,5,2,{"$f":"2*B57+D57","v":14},{"$f":"R36+R38","v":841},{"$f":"SUM(B61,B65,B69,B73,B77,F61,F65,F69,F73,F77,J61,J65,J69,J73,J77,N61,N65,N69,N73,N77,R61,R65)","v":714},{"$f":"SUM(B62,B66,B70,B74,B78,F62,F66,F70,F74,F78,J62,J66,J70,J74,J78,N62,N66,N70,N74,N78,R62,R66)","v":720},"Tied 1"]
[]
[]
["Game 1","Score",null,"Game 6        ",null,"Score",null,"Game 11   ",null,"Score",null,"Game 16",null,"Score",null,"Game 21",null,"Score"]
["Damn Yankees",41,null,"Damn Yankees",null,50,null,"Damn Yankees",null,48,null,"Damn Yankees",null,0,null,"Damn Yankees",null,0]
["Team LIRHL",47,null,"District 5",null,72,null,"Slappers",null,23,null,"Highlanders",null,0,null,"Team LIRHL",null,0]
[]
["Game 2","Score",null,"Game 7       ",null,"Score",null,"Game 12",null,"Score",null,"Game 17",null,"Score",null,"Game 22",null,"Score"]
["Damn Yankees",61,null,"Damn Yankees",null,75,null,"Damn Yankees",null,50,null,"Damn Yankees",null,0,null,"Damn Yankees",null,0]
["Slappers",63,null,"Highlanders",null,58,null,"Fantasy Hockey Club",null,46,null,"Just Chillin",null,0,null,"Riketorians",null,0]
[]
["Game 3","Score",null,"Game 8       ",null,"Score",null,"Game 13",null,"Score",null,"Game 18",null,"Score"]
["Damn Yankees",49,null,"Damn Yankees",null,56,null,"Damn Yankees",null,56,null,"Damn Yankees",null,0]
["Fantasy Hockey Club",63,null,"Grumpy Old Men",null,55,null,"Team LIRHL",null,56,null,"Grumpy Old Men",null,0]
[]
["Game 4","Score",null,"Game 9    ",null,"Score",null,"Game 14",null,"Score",null,"Game 19",null,"Score"]
["Damn Yankees",61,null,"Damn Yankees",null,46,null,"Damn Yankees",null,0,null,"Damn Yankees",null,0]
["Grumpy Old Men",49,null,"Shawnee Tribe",null,68,null,"Riketorians",null,0,null,"District 5",null,0]
[]
["Game 5","Score",null,"Game 10   ",null,"Score",null,"Game 15",null,"Score",null,"Game 20",null,"Score"]
["Damn Yankees",56,null,"Damn Yankees",null,65,null,"Damn Yankees",null,0,null,"Damn Yankees",null,0]
["Riketorians",55,null,"Just Chillin",null,65,null,"Fantasy Hockey Club",null,0,null,"Shawnee Tribe",null,0]

{"sheet":"Slappers","index":11,"n_rows":78,"n_cols":18,"rows_kept":78,"cut":false,"hidden":false,"merged":[[59,3,59,4],[59,7,59,8],[59,11,59,12],[59,15,59,16],[60,3,60,4],[60,7,60,8],[60,11,60,12],[60,15,60,16],[61,3,61,4],[61,7,61,8],[61,11,61,12],[61,15,61,16],[63,3,63,4],[63,7,63,8],[63,11,63,12],[63,15,63,16],[64,3,64,4],[64,7,64,8],[64,11,64,12],[64,15,64,16],[65,3,65,4],[65,7,65,8],[65,11,65,12],[65,15,65,16],[67,3,67,4],[67,7,67,8],[67,11,67,12],[67,15,67,16],[68,3,68,4],[68,7,68,8],[68,11,68,12],[68,15,68,16],[69,3,69,4],[69,7,69,8],[69,11,69,12],[69,15,69,16],[71,3,71,4],[71,7,71,8],[71,11,71,12],[71,15,71,16],[72,3,72,4],[72,7,72,8],[72,11,72,12],[72,15,72,16],[73,3,73,4],[73,7,73,8],[73,11,73,12],[73,15,73,16],[77,3,77,4],[77,7,77,8],[77,11,77,12],[77,15,77,16],[75,3,75,4],[75,7,75,8],[75,11,75,12],[75,15,75,16],[76,3,76,4],[76,7,76,8],[76,11,76,12],[76,15,76,16]]}
["Team: Slappers",null,"General Manager: Vince Kovacs"]
[]
[null,null,null,"Scoring This Week",null,null,null,null,null,null,null,null,null,"Players Overall Scoring"]
["Forwards","Gls","Ast","PP","SH","GW","OT","PSG","PTS",null,"Gls","Ast","PP","SH","GW","OT","PSG","PTS"]
["Auston Matthews",5,2,1,0,1,0,0,{"$f":"(B5+C5+D5+(2*E5)+(2*F5)+G5+(4*H5))","v":10},null,20,13,4,0,3,1,0,{"$f":"(K5+L5+M5+(2*N5)+(2*O5)+P5+(4*Q5))","v":44}]
["Dylan Guenther",4,2,0,0,0,0,0,6,null,20,16,4,0,5,3,0,53]
["Dylan Strome",3,2,1,0,0,0,0,6,null,10,23,2,0,1,0,0,37]
["Timo Meier",1,1,0,0,1,0,0,4,null,12,13,5,0,2,0,0,34]
["Jack Hughes ",0,3,0,0,0,0,0,3,null,11,13,1,0,2,1,0,30]
["Jesper Bratt",1,1,0,0,0,0,0,2,null,9,24,3,1,2,1,0,43]
["Gabriel Vilardi",1,1,0,0,0,0,0,2,null,17,18,6,0,2,0,0,45]
["Arseny Gritsyuk",1,0,0,0,0,0,0,1,null,8,9,2,0,0,0,0,19]
["Dawson Mercer",0,1,0,0,0,0,0,1,null,10,15,3,2,1,0,0,34]
["Jordan Kyrou",0,1,0,0,0,0,0,1,null,8,9,1,0,0,0,0,18]
["Logan Cooley",0,0,0,0,0,0,0,0,null,14,9,3,1,1,0,0,30]
[]
[]
["Defense","Gls","Ast","PP","SH","GW","OT","PSG","PTS",null,"Gls","Ast","PP","SH","GW","OT","PSG","PTS"]
["Hampus Lindholm",1,2,0,0,1,0,0,{"$f":"(B19+C19+D19+(2*E19)+(2*F19)+G19+(4*H19))","v":5},null,3,11,1,0,2,0,0,{"$f":"(K19+L19+M19+(2*N19)+(2*O19)+P19+(4*Q19))","v":19}]
["Noah Dobson",1,3,0,0,0,0,0,4,null,7,20,0,0,1,0,0,29]
["Bowen Byram",1,1,0,0,1,0,0,4,null,9,11,1,0,4,1,0,30]
["Seth Jones",0,3,0,0,0,0,0,3,null,6,18,5,0,0,0,0,29]
["Ivan Provorov",1,1,0,0,0,0,0,2,null,5,10,0,0,0,0,0,15]
["Dougie Hamilton",1,0,0,0,0,0,0,1,null,5,4,2,0,1,0,0,13]
["Dmitry Orlov",0,1,0,0,0,0,0,1,null,1,19,0,0,0,0,0,20]
[]
["Goalie","W","OT","SO","Gls","Ast","GAA","SP","PTS",null,"W","OT","SO","Gls","Ast","GAA","SP","PTS"]
["Spencer Knight",2,1,0,0,0,2.97,0.876,{"$f":"((3*B28)+C28+(3*D28)+(10*E28)+(3*F28)+G29+H29)","v":8},null,12,6,2,0,1,2.6,0.91,{"$f":"((3*K28)+L28+(3*M28)+(10*N28)+(3*O28)+P29+Q29)","v":98}]
[null,11,221.93000000000006,78,89,null,1,0,{"$f":"((3*B28)+C28+(3*D28)+(10*E28)+(3*F28)+G29+H29)","v":8},null,null,null,null,null,null,20,27,{"$f":"((2*K28)+L28+(3*M28)+(10*N28)+(3*O28)+P29+Q29)","v":86}]
["Jake Oettinger",0,0,0,0,0,4.3,0.81,{"$f":"((3*B30)+C30+(3*D30)+(10*E30)+(3*F30)+G31+H31)","v":0},null,16,3,2,0,1,2.57,0.90700000000000003,{"$f":"((3*K30)+L30+(3*M30)+(10*N30)+(3*O30)+P31+Q31)","v":109}]
[null,4,55.809999999999945,17,21,null,0,0,{"$f":"((3*B30)+C30+(3*D30)+(10*E30)+(3*F30)+G31+H31)","v":0},null,null,null,null,null,null,21,28,{"$f":"((2*K30)+L30+(3*M30)+(10*N30)+(3*O30)+P31+Q31)","v":93}]
[null,null,null,"All Playes Scoring This Week",null,null,null,null,null,null,null,null,null,"Cumulative Points"]
[null,"Gls","Ast","PP","SH","GW","OT","PSG",null,null,"Gls","Ast","PP","SH","GW","OT","PSG","PTS"]
["Forwards",{"$f":"SUM(B5:B15)","v":16},{"$f":"SUM(C5:C15)","v":14},2,0,2,0,0,null,null,133,171,31,2,20,7,0,{"$f":"(K34+L34+M34+(2*N34)+(2*O34)+P34+(4*Q34))","v":386}]
["Defense",{"$f":"SUM(B19:B25)","v":5},{"$f":"SUM(C19:C25)","v":11},0,0,2,0,0,null,null,37,96,7,0,7,2,0,{"$f":"(K35+L35+M35+(2*N35)+(2*O35)+P35+(4*Q35))","v":156}]
["Total Scorers",{"$f":"SUM(B34:B35)","v":21},{"$f":"SUM(C34:C35)","v":25},2,0,4,0,0,null,null,{"$f":"SUM(K34:K35)","v":170},267,38,2,27,9,0,{"$f":"(K36+L36+M36+(2*N36)+(2*O36)+P36+(4*Q36))","v":542}]
[null,"W","OT","SO","Gls","Ast","GAA","SP",null,null,"W","OT","SO","Gls","Ast","GAA","SP","PTS"]
["Goalie Totals",{"$f":"SUM(B28,B30)","v":2},{"$f":"SUM(C28,C30)","v":1},{"$f":"SUM(D28,D30)","v":0},{"$f":"SUM(E28,E30)","v":0},{"$f":"SUM(F28,F30)","v":0},{"$f":"IF(C39=0,0,B39/(C39/60))","v":3.2404406999351907},{"$f":"IF(E39=0,0,D39/E39)","v":0.86363636363636365},null,null,27,9,4,0,2,{"$f":"IF(L39=0,0,K39/(L39/60))","v":2.6573339940535181},{"$f":"IF(N39=0,0,M39/N39)","v":0.90536068828590333},{"$f":"((3*K38)+L38+(3*M38)+(10*N38)+(3*O38)+P39+Q39)","v":195}]
[null,{"$f":"SUM(B29,B31)","v":15},{"$f":"SUM(C29,C31)","v":277.74},{"$f":"SUM(D29,D31)","v":95},{"$f":"SUM(E29,E31)","v":110},null,null,null,null,null,143,3228.8,1368,1511,null,38,49]
[null,null,null,null,null,null,null,null,null,null,"GA","Time","Saves","Shots"]
[]
[null,"Injured Reserve",null,null,null,null,null,null,null,null,null,null,"This Weeks Totals"]
["Player","P","GP","IR Weeks","Pts",null,null,null,null,null,null,"Forwards",null,{"$f":"SUM(I5:I12)","v":34}]
[null,"F",null,null,null,null,null,null,null,null,null,"Defense",null,{"$f":"SUM(I19:I23)","v":18}]
["Simon Nemec","D",0,1,24,null,null,null,null,null,null,"Goalie",null,{"$f":"I28","v":8}]
[null,"G"]
[null,"Flex",null,null,null,null,null,null,null,null,null,"Total Points",null,{"$f":"SUM(N43:N45)","v":60}]
[]
[]
[]
[]
[]
[]
[]
[]
["Team Record","W","L","T","Pts","CP","BPF","BFA","Streak"]
["Slappers",5,8,0,{"$f":"2*B57+D57","v":10},{"$f":"R36+R38","v":737},{"$f":"SUM(B61,B65,B69,B73,B77,F61,F65,F69,F73,F77,J61,J65,J69,J73,J77,N61,N65,N69,N73,N77,R61,R65)","v":664},{"$f":"SUM(B62,B66,B70,B74,B78,F62,F66,F70,F74,F78,J62,J66,J70,J74,J78,N62,N66,N70,N74,N78,R62,R66)","v":746},"Won 1"]
[]
[]
["Game 1","Score",null,"Game 6        ",null,"Score",null,"Game 11   ",null,"Score",null,"Game 16",null,"Score",null,"Game 21",null,"Score"]
["Slappers",38,null,"Slappers",null,63,null,"Slappers",null,23,null,"Slappers",null,0,null,"Slappers",null,0]
["Just Chillin",49,null,"Team LIRHL",null,55,null,"Damn Yankees",null,48,null,"Grumpy Old Men",null,0,null,"Fantasy Hockey Club",null,0]
[]
["Game 2","Score",null,"Game 7       ",null,"Score",null,"Game 12",null,"Score",null,"Game 17",null,"Score",null,"Game 22",null,"Score"]
["Slappers",63,null,"Slappers",null,39,null,"Slappers",null,42,null,"Slappers",null,0,null,"Slappers",null,0]
["Damn Yankees",61,null,"Riketorians",null,73,null,"Just Chillin",null,47,null,"Shawnee Tribe",null,0,null,"Just Chillin",null,0]
[]
["Game 3","Score",null,"Game 8       ",null,"Score",null,"Game 13",null,"Score",null,"Game 18",null,"Score"]
["Slappers",73,null,"Slappers",null,56,null,"Slappers",null,60,null,"Slappers",null,0]
["Shawnee Tribe",66,null,"Shawnee Tribe",null,59,null,"Fantasy Hockey Club",null,46,null,"District 5",null,0]
[]
["Game 4","Score",null,"Game 9    ",null,"Score",null,"Game 14",null,"Score",null,"Game 19",null,"Score"]
["Slappers",61,null,"Slappers",null,50,null,"Slappers",null,0,null,"Slappers",null,0]
["District 5",51,null,"Highlanders",null,66,null,"District 5",null,0,null,"Riketorians",null,0]
[]
["Game 5","Score",null,"Game 10   ",null,"Score",null,"Game 15",null,"Score",null,"Game 20",null,"Score"]
["Slappers",50,null,"Slappers",null,46,null,"Slappers",null,0,null,"Slappers",null,0]
["Highlanders",59,null,"Grumpy Old Men",null,66,null,"Highlanders",null,0,null,"Team LIRHL",null,0]

{"sheet":"Boxscores","index":12,"n_rows":186,"n_cols":11,"rows_kept":186,"cut":false,"hidden":false,"merged":[]}
["Box Scores Week 1",null,null,null,null,null,"Box Scores Week 2"]
[]
["Grumpy Old Men",34,6,19,59,null,"Grumpy Old Men",35,10,8,53]
["Fantasy Hockey Club",36,7,9,52,null,"Team LIRHL",33,8,3,44]
[]
["Team LIRHL",23,9,15,47,null,"Fantasy Hockey Club",43,16,11,70]
["Damn Yankees",23,5,13,41,null,"Riketorians",27,10,2,39]
[]
["Riketorians",22,5,15,42,null,"Damn Yankees",30,13,18,61]
["District 5",25,6,11,42,null,"Slappers",44,10,9,63]
[]
["Slappers",25,7,6,38,null,"District 5",43,13,6,62]
["Just Chillin",34,12,3,49,null,"Shawnee Tribe",24,6,3,33]
[]
["Highlanders",35,23,11,69,null,"Just Chillin",46,8,13,67]
["Shawnee Tribe",20,9,4,33,null,"Highlanders",41,4,4,49]
[]
["Box Scores Week 3",null,null,null,null,null,"Box Scores Week 4"]
[]
["Grumpy Old Men",25,19,1,45,null,"Grumpy Old Men",25,15,9,49]
["Riketorians",35,17,10,62,null,"Damn Yankees",38,6,17,61]
[]
["Fantasy Hockey Club",33,12,18,63,null,"Fantasy Hockey Club",35,14,6,55]
["Damn Yankees",38,10,1,49,null,"Highlanders",38,10,4,52]
[]
["Team LIRHL",39,15,12,66,null,"Team LIRHL",43,12,4,59]
["Just Chillin",37,7,12,56,null,"Riketorians",53,15,4,72]
[]
["District 5",29,13,6,48,null,"District 5",24,22,5,51]
["Highlanders",29,9,7,45,null,"Slappers",31,13,17,61]
[]
["Slappers",44,14,15,73,null,"Just Chillin",43,16,7,66]
["Shawnee Tribe",43,13,10,66,null,"Shawnee Tribe",28,18,2,48]
[]
["Box Scores Week 5",null,null,null,null,null,"Box Scores Week 6"]
[]
["Grumpy Old Men",31,15,6,52,null,"Grumpy Old Men",47,23,14,84]
["Shawnee Tribe",35,11,6,52,null,"Highlanders",24,14,9,47]
[]
["Fantasy Hockey Club",27,7,10,44,null,"Fantasy Hockey Club",37,13,10,60]
["Team LIRHL",34,12,8,54,null,"Just Chillin",25,13,6,44]
[]
["Damn Yankees",32,11,13,56,null,"Team LIRHL",34,12,9,55]
["Riketorians",32,11,12,55,null,"Slappers",31,17,15,63]
[]
["District 5",26,11,5,42,null,"Damn Yankees",35,9,6,50]
["Just Chillin",37,19,5,61,null,"District 5",49,15,8,72]
[]
["Slappers",20,9,21,50,null,"Riketorians",36,7,12,55]
["Highlanders",39,4,16,59,null,"Shawnee Tribe",37,14,7,58]
[]
["Box Scores Week 7",null,null,null,null,null,"Box Scores Week 8"]
[]
["Grumpy Old Men",36,8,0,44,null,"Grumpy Old Men",33,8,14,55]
["Just Chillin",28,15,11,54,null,"Damn Yankees",27,8,21,56]
[]
["Fantasy Hockey Club",26,17,3,46,null,"Fantasy Hockey Club",21,25,16,62]
["Shawnee Tribe",39,24,12,75,null,"Team LIRHL",46,7,14,67]
[]
["Team LIRHL",31,8,10,49,null,"Riketorians",34,14,3,51]
["District 5",41,23,16,80,null,"Just Chillin",28,17,5,50]
[]
["Damn Yankees",46,13,16,75,null,"District 5",35,17,9,61]
["Highlanders",34,9,15,58,null,"Highlanders",39,17,9,65]
[]
["Riketorians",45,16,12,73,null,"Slappers",40,10,6,56]
["Slappers",19,14,6,39,null,"Shawnee Tribe",37,15,7,59]
[]
["Box Scores Week 9",null,null,null,null,null,"Box Scores Week 10"]
[]
["Grumpy Old Men",45,9,15,69,null,"Grumpy Old Men",45,18,3,66]
["Team LIRHL",28,4,3,35,null,"Slappers",21,12,13,46]
[]
["Fantasy Hockey Club",34,8,15,57,null,"Fantasy Hockey Club",27,18,13,58]
["Riketorians",48,12,19,79,null,"District 5",36,13,12,61]
[]
["Damn Yankees",34,4,8,46,null,"Team LIRHL",41,9,8,58]
["Shawnee Tribe",36,15,17,68,null,"Shawnee Tribe",45,35,8,88]
[]
["District 5",26,16,9,51,null,"Damn Yankees",48,6,11,65]
["Just Chillin",40,11,11,62,null,"Just Chillin",44,11,10,65]
[]
["Slappers",19,12,19,50,null,"Riketorians",44,16,16,76]
["Highlanders",36,10,20,66,null,"Highlanders",31,9,9,49]
[]
["Box Scores Week 11",null,null,null,null,null,"Box Scores Week 12"]
[]
["Grumpy Old Men",33,10,8,51,null,"Grumpy Old Men",22,7,9,38]
["Just Chillin",20,18,9,47,null,"District 5",42,13,5,60]
[]
["Fantasy Hockey Club",35,9,12,56,null,"Fantasy Hockey Club",29,14,3,46]
["Shawnee Tribe",47,17,13,77,null,"Damn Yankees",26,12,12,50]
[]
["Team LIRHL",48,12,19,79,null,"Team LIRHL",30,3,4,37]
["Highlanders",41,17,6,64,null,"Riketorians",30,6,4,40]
[]
["Damn Yankees",30,9,9,48,null,"Slappers",21,7,14,42]
["Slappers",12,6,5,23,null,"Just Chillin",31,13,3,47]
[]
["Riketorians",25,15,10,50,null,"Highlanders",21,8,13,42]
["District 5",45,14,21,80,null,"Shawnee Tribe",27,17,10,54]
[]
["Box Scores Week 13",null,null,null,null,null,"Box Scores Week 14"]
[]
["Grumpy Old Men",51,18,12,81,null,"Grumpy Old Men",0,0,0,0]
["Riketorians",46,15,14,75,null,"Fantasy Hockey Club",0,0,0,0]
[]
["Fantasy Hockey Club",35,10,1,46,null,"Team LIRHL",0,0,0,0]
["Slappers",34,18,8,60,null,"Highlanders",0,0,0,0]
[]
["Team LIRHL",35,6,15,56,null,"Damn Yankees",0,0,0,0]
["Damn Yankees",29,15,12,56,null,"Riketorians",0,0,0,0]
[]
["District 5",41,15,9,65,null,"District 5",0,0,0,0]
["Shawnee Tribe",36,24,9,69,null,"Slappers",0,0,0,0]
[]
["Just Chillin",38,10,3,51,null,"Just Chillin",0,0,0,0]
["Highlanders",36,14,6,56,null,"Shawnee Tribe",0,0,0,0]
[]
["Box Scores Week 15",null,null,null,null,null,"Box Scores Week 16"]
[]
["Grumpy Old Men",0,0,0,0,null,"Grumpy Old Men",0,0,0,0]
["Shawnee Tribe",0,0,0,0,null,"Slappers",0,0,0,0]
[]
["Fantasy Hockey Club",0,0,0,0,null,"Fantasy Hockey Club",0,0,0,0]
["Damn Yankees",0,0,0,0,null,"District 5",0,0,0,0]
[]
["Team LIRHL",0,0,0,0,null,"Team LIRHL",0,0,0,0]
["Riketorians",0,0,0,0,null,"Just Chillin",0,0,0,0]
[]
["District 5",0,0,0,0,null,"Damn Yankees",0,0,0,0]
["Just Chillin",0,0,0,0,null,"Highlanders",0,0,0,0]
[]
["Slappers",0,0,0,0,null,"Riketorians",0,0,0,0]
["Highlanders",0,0,0,0,null,"Shawnee Tribe",0,0,0,0]
[]
["Box Scores Week 17",null,null,null,null,null,"Box Scores Week 18"]
[]
["Grumpy Old Men",0,0,0,0,null,"Grumpy Old Men",0,0,0,0]
["Team LIRHL",0,0,0,0,null,"Damn Yankees",0,0,0,0]
[]
["Fantasy Hockey Club",0,0,0,0,null,"Fantasy Hockey Club",0,0,0,0]
["Riketorians",0,0,0,0,null,"Team LIRHL",0,0,0,0]
[]
["Damn Yankees",0,0,0,0,null,"Riketorians",0,0,0,0]
["Just Chillin",0,0,0,0,null,"Highlanders",0,0,0,0]
[]
["District 5",0,0,0,0,null,"District 5",0,0,0,0]
["Highlanders",0,0,0,0,null,"Slappers",0,0,0,0]
[]
["Slappers",0,0,0,0,null,"Just Chillin",0,0,0,0]
["Shawnee Tribe",0,0,0,0,null,"Shawnee Tribe",0,0,0,0]
[]
["Box Scores Week 19",null,null,null,null,null,"Box Scores Week 20"]
[]
["Grumpy Old Men",0,0,0,0,null,"Grumpy Old Men",0,0,0,0]
["Highlanders",0,0,0,0,null,"District 5",0,0,0,0]
[]
["Fantasy Hockey Club",0,0,0,0,null,"Fantasy Hockey Club",0,0,0,0]
["Just Chillin",0,0,0,0,null,"Highlanders",0,0,0,0]
[]
["Team LIRHL",0,0,0,0,null,"Team LIRHL",0,0,0,0]
["Shawnee Tribe",0,0,0,0,null,"Slappers",0,0,0,0]
[]
["Damn Yankees",0,0,0,0,null,"Damn Yankees",0,0,0,0]
["District 5",0,0,0,0,null,"Shawnee Tribe",0,0,0,0]
[]
["Riketorians",0,0,0,0,null,"Riketorians",0,0,0,0]
["Slappers",0,0,0,0,null,"Just Chillin",0,0,0,0]
[]
["Box Scores Week 21",null,null,null,null,null,"Box Scores Week 22"]
[]
["Grumpy Old Men",0,0,0,0,null,"Grumpy Old Men",0,0,0,0]
["Riketorians",0,0,0,0,null,"Fantasy Hockey Club",0,0,0,0]
[]
["Fantasy Hockey Club",0,0,0,0,null,"Team LIRHL",0,0,0,0]
["Slappers",0,0,0,0,null,"District 5",0,0,0,0]
[]
["Team LIRHL",0,0,0,0,null,"Damn Yankees",0,0,0,0]
["Damn Yankees",0,0,0,0,null,"Riketorians",0,0,0,0]
[]
["District 5",0,0,0,0,null,"Slappers",0,0,0,0]
["Shawnee Tribe",0,0,0,0,null,"Just Chillin",0,0,0,0]
[]
["Just Chillin",0,0,0,0,null,"Highlanders",0,0,0,0]
["Highlanders",0,0,0,0,null,"Shawnee Tribe",0,0,0,0]

{"sheet":"Weekly Calc","index":13,"n_rows":111,"n_cols":11,"rows_kept":111,"cut":false,"hidden":false,"merged":[]}
["Forwards",null,"Points",null,"Defense",null,"Points",null,"Goalie",null,"Points"]
[{"$f":"'Team LIRHL'!A5","v":"Nikita Kucherov"},"(LIR)",{"$f":"'Team LIRHL'!I5","v":14},null,{"$f":"'Shawnee Tribe'!A19","v":"Darren Raddysh"},"(SHW)",{"$f":"'Shawnee Tribe'!I19","v":14},null,{"$f":"'Team LIRHL'!A28","v":"Jeremy Swayman"},"(LIR)",{"$f":"'Team LIRHL'!I28","v":15}]
[{"$f":"Riketorians!A5","v":"Brock Nelson"},"(RIK)",{"$f":"Riketorians!I5","v":13},null,{"$f":"'Grumpy Old Men'!A19","v":"Matthew Schaefer"},"(GOM)",{"$f":"'Grumpy Old Men'!I19","v":8},null,{"$f":"Riketorians!A28","v":"Dustin Wolf"},"(RIK)",{"$f":"Riketorians!I28","v":14}]
[{"$f":"'Fantasy Hockey Club'!A5","v":"Sebastian Aho"},"(FHC)",{"$f":"'Fantasy Hockey Club'!I5","v":12},null,{"$f":"Riketorians!A19","v":"Kris Letang"},"(RIK)",{"$f":"Riketorians!I19","v":6},null,{"$f":"'Damn Yankees'!A28","v":"Mackenzie Blackwood"},"(DYK)",{"$f":"'Damn Yankees'!I28","v":12}]
[{"$f":"'Grumpy Old Men'!A5","v":"Nathan MacKinnon"},"(GOM)",{"$f":"'Grumpy Old Men'!I5","v":12},null,{"$f":"'District 5'!A19","v":"Mikhail Sergachev"},"(DI5)",{"$f":"'District 5'!I19","v":5},null,{"$f":"'Grumpy Old Men'!A28","v":"Igor Shesterkin"},"(GOM)",{"$f":"'Grumpy Old Men'!I28","v":12}]
[{"$f":"'District 5'!A5","v":"Steven Stamkos"},"(DI5)",{"$f":"'District 5'!I5","v":10},null,{"$f":"'Shawnee Tribe'!A20","v":"Lane Hutson"},"(SHW)",{"$f":"'Shawnee Tribe'!I20","v":5},null,{"$f":"'Damn Yankees'!A30","v":"Andrei Vasilevskiy"},"(DYK)",{"$f":"'Damn Yankees'!I30","v":10}]
[{"$f":"Slappers!A5","v":"Auston Matthews"},"(SLP)",{"$f":"Slappers!I5","v":10},null,{"$f":"'Damn Yankees'!A19","v":"Quinn Hughes"},"(DYK)",{"$f":"'Damn Yankees'!I19","v":5},null,{"$f":"'Shawnee Tribe'!A28","v":"Joey Daccord"},"(SHW)",{"$f":"'Shawnee Tribe'!I28","v":9}]
[{"$f":"'Shawnee Tribe'!A5","v":"Artemi Panarin"},"(SHW)",{"$f":"'Shawnee Tribe'!I5","v":9},null,{"$f":"Slappers!A19","v":"Hampus Lindholm"},"(SLP)",{"$f":"Slappers!I19","v":5},null,{"$f":"'District 5'!A28","v":"Filip Gustavsson"},"(DI5)",{"$f":"'District 5'!I28","v":9}]
[{"$f":"'Grumpy Old Men'!A6","v":"Mika Zibanejad"},"(GOM)",{"$f":"'Grumpy Old Men'!I6","v":9},null,{"$f":"'District 5'!A20","v":"Cale Makar"},"(DI5)",{"$f":"'District 5'!I20","v":4},null,{"$f":"Slappers!A28","v":"Spencer Knight"},"(SLP)",{"$f":"Slappers!I28","v":8}]
[{"$f":"Riketorians!A6","v":"Tom Wilson"},"(RIK)",{"$f":"Riketorians!I6","v":9},null,{"$f":"Highlanders!A19","v":"Aaron Ekblad"},"(HGL)",{"$f":"Highlanders!I19","v":4},null,{"$f":"'Grumpy Old Men'!A30","v":"Joseph Woll"},"(GOM)",{"$f":"'Grumpy Old Men'!I30","v":7}]
[{"$f":"'Just Chillin'!A5","v":"Sidney Crosby"},"(JCH)",{"$f":"'Just Chillin'!I5","v":8},null,{"$f":"'Damn Yankees'!A20","v":"Filip Hronek"},"(DYK)",{"$f":"'Damn Yankees'!I20","v":4},null,{"$f":"Highlanders!A28","v":"David Rittich"},"(HGL)",{"$f":"Highlanders!I28","v":6}]
[{"$f":"'Just Chillin'!A6","v":"Bryan Rust"},"(JCH)",{"$f":"'Just Chillin'!I6","v":8},null,{"$f":"Highlanders!A20","v":"Luke Hughes"},"(HGL)",{"$f":"Highlanders!I20","v":4},null,{"$f":"'District 5'!A30","v":"Juuse Saros"},"(DI5)",{"$f":"'District 5'!I30","v":6}]
[{"$f":"'Grumpy Old Men'!A7","v":"Nikolaj Ehlers"},"(GOM)",{"$f":"'Grumpy Old Men'!I7","v":8},null,{"$f":"'Grumpy Old Men'!A20","v":"Thomas Chabot"},"(GOM)",{"$f":"'Grumpy Old Men'!I20","v":4},null,{"$f":"'Shawnee Tribe'!A30","v":"Karel Vejmelka"},"(SHW)",{"$f":"'Shawnee Tribe'!I30","v":3}]
[{"$f":"'District 5'!A6","v":"Sam Reinhart"},"(DI5)",{"$f":"'District 5'!I6","v":7},null,{"$f":"Slappers!A20","v":"Noah Dobson"},"(SLP)",{"$f":"Slappers!I20","v":4},null,{"$f":"Riketorians!A30","v":"Sergei Bobrovsky"},"(RIK)",{"$f":"Riketorians!I30","v":3}]
[{"$f":"Highlanders!A5","v":"Brayden Point"},"(HGL)",{"$f":"Highlanders!I5","v":7},null,{"$f":"'Team LIRHL'!A19","v":"Alexander Nikishin"},"(LIR)",{"$f":"'Team LIRHL'!I19","v":4},null,{"$f":"'Just Chillin'!A28","v":"Jesper Wallstedt"},"(JCH)",{"$f":"'Just Chillin'!I28","v":3}]
[{"$f":"Highlanders!A6","v":"Nick Suzuki"},"(HGL)",{"$f":"Highlanders!I6","v":7},null,{"$f":"Riketorians!A20","v":"Erik Karlsson"},"(RIK)",{"$f":"Riketorians!I20","v":4},null,{"$f":"Highlanders!A30","v":"Scott Wedgewood"},"(HGL)",{"$f":"Highlanders!I30","v":3}]
[{"$f":"'Damn Yankees'!A5","v":"Nick Schmaltz"},"(DYK)",{"$f":"'Damn Yankees'!I5","v":6},null,{"$f":"Slappers!A21","v":"Bowen Byram"},"(SLP)",{"$f":"Slappers!I21","v":4},null,{"$f":"'Fantasy Hockey Club'!A28","v":"Logan Thompson"},"(FHC)",{"$f":"'Fantasy Hockey Club'!I28","v":1}]
[{"$f":"'Just Chillin'!A7","v":"Anthony Mantha"},"(JCH)",{"$f":"'Just Chillin'!I7","v":6},null,{"$f":"'Just Chillin'!A19","v":"Roman Josi"},"(JCH)",{"$f":"'Just Chillin'!I19","v":3},null,{"$f":"'Just Chillin'!A30","v":"Connor Hellebuyck"},"(JCH)",{"$f":"'Just Chillin'!I30","v":1}]
[{"$f":"'Shawnee Tribe'!A6","v":"Macklin Celebrini"},"(SHW)",{"$f":"'Shawnee Tribe'!I6","v":6},null,{"$f":"'Fantasy Hockey Club'!A19","v":"KAndre Miller"},"(FHC)",{"$f":"'Fantasy Hockey Club'!I19","v":3},null,{"$f":"'Fantasy Hockey Club'!A30","v":"Akira Schmid"},"(FHC)",{"$f":"'Fantasy Hockey Club'!I30","v":1}]
[{"$f":"Riketorians!A7","v":"David Pastrnak"},"(RIK)",{"$f":"Riketorians!I7","v":6},null,{"$f":"'Just Chillin'!A20","v":"Brock Faber"},"(JCH)",{"$f":"'Just Chillin'!I20","v":3},null,{"$f":"Slappers!A30","v":"Jake Oettinger"},"(SLP)",{"$f":"Slappers!I30","v":0}]
[{"$f":"'Just Chillin'!A8","v":"Aliaksei Protas"},"(JCH)",{"$f":"'Just Chillin'!I8","v":6},null,{"$f":"'District 5'!A21","v":"Rasmus Andersson"},"(DI5)",{"$f":"'District 5'!I21","v":3},null,{"$f":"'Team LIRHL'!A30","v":"Linus Ullmark"},"(LIR)",{"$f":"'Team LIRHL'!I30","v":0}]
[{"$f":"Highlanders!A7","v":"Kirill Marchenko"},"(HGL)",{"$f":"Highlanders!I7","v":6},null,{"$f":"'Damn Yankees'!A21","v":"Artyom Levshunov"},"(DYK)",{"$f":"'Damn Yankees'!I21","v":3}]
[{"$f":"Slappers!A6","v":"Dylan Guenther"},"(SLP)",{"$f":"Slappers!I6","v":6},null,{"$f":"Highlanders!A21","v":"Sean Durzi"},"(HGL)",{"$f":"Highlanders!I21","v":3}]
[{"$f":"Slappers!A7","v":"Dylan Strome"},"(SLP)",{"$f":"Slappers!I7","v":6},null,{"$f":"Riketorians!A21","v":"Jake Sanderson"},"(RIK)",{"$f":"Riketorians!I21","v":3}]
[{"$f":"'Grumpy Old Men'!A8","v":"Joel Eriksson Ek"},"(GOM)",{"$f":"'Grumpy Old Men'!I8","v":6},null,{"$f":"'Grumpy Old Men'!A21","v":"MacKenzie Weegar"},"(GOM)",{"$f":"'Grumpy Old Men'!I21","v":3}]
[{"$f":"'Team LIRHL'!A6","v":"Kevin Fiala"},"(LIR)",{"$f":"'Team LIRHL'!I6","v":5},null,{"$f":"Slappers!A22","v":"Seth Jones"},"(SLP)",{"$f":"Slappers!I22","v":3}]
[{"$f":"'District 5'!A7","v":"Brad Marchand"},"(DI5)",{"$f":"'District 5'!I7","v":5},null,{"$f":"'Fantasy Hockey Club'!A20","v":"Oliver Ekman-Larsson"},"(FHC)",{"$f":"'Fantasy Hockey Club'!I20","v":2}]
[{"$f":"'District 5'!A8","v":"Owen Tippett"},"(DI5)",{"$f":"'District 5'!I8","v":5},null,{"$f":"'Shawnee Tribe'!A21","v":"Evan Bouchard"},"(SHW)",{"$f":"'Shawnee Tribe'!I21","v":2}]
[{"$f":"'Shawnee Tribe'!A7","v":"Ivan Demidov"},"(SHW)",{"$f":"'Shawnee Tribe'!I7","v":5},null,{"$f":"'Fantasy Hockey Club'!A21","v":"Vladislav Gavrikov"},"(FHC)",{"$f":"'Fantasy Hockey Club'!I21","v":2}]
[{"$f":"Highlanders!A8","v":"Jackson Blake"},"(HGL)",{"$f":"Highlanders!I8","v":5},null,{"$f":"'Just Chillin'!A21","v":"Zach Werenski"},"(JCH)",{"$f":"'Just Chillin'!I21","v":2}]
[{"$f":"'Grumpy Old Men'!A9","v":"Clayton Keller"},"(GOM)",{"$f":"'Grumpy Old Men'!I9","v":5},null,{"$f":"'Shawnee Tribe'!A22","v":"Travis Sanheim"},"(SHW)",{"$f":"'Shawnee Tribe'!I22","v":2}]
[{"$f":"'Team LIRHL'!A7","v":"Nico Hischier"},"(LIR)",{"$f":"'Team LIRHL'!I7","v":4},null,{"$f":"'Damn Yankees'!A22","v":"Nick Blankenburg"},"(DYK)",{"$f":"'Damn Yankees'!I22","v":2}]
[{"$f":"'Fantasy Hockey Club'!A6","v":"Cole Caufield"},"(FHC)",{"$f":"'Fantasy Hockey Club'!I6","v":4},null,{"$f":"'District 5'!A22","v":"Moritz Seider"},"(DI5)",{"$f":"'District 5'!I22","v":2}]
[{"$f":"'Damn Yankees'!A6","v":"Troy Terry"},"(DYK)",{"$f":"'Damn Yankees'!I6","v":4},null,{"$f":"Highlanders!A22","v":"Charlie McAvoy"},"(HGL)",{"$f":"Highlanders!I22","v":2}]
[{"$f":"'Damn Yankees'!A7","v":"Martin Necas"},"(DYK)",{"$f":"'Damn Yankees'!I7","v":4},null,{"$f":"'Grumpy Old Men'!A22","v":"Josh Morrissey"},"(GOM)",{"$f":"'Grumpy Old Men'!I22","v":2}]
[{"$f":"'District 5'!A9","v":"Matthew Knies"},"(DI5)",{"$f":"'District 5'!I9","v":4},null,{"$f":"'Fantasy Hockey Club'!A22","v":"Jakob Chychrun"},"(FHC)",{"$f":"'Fantasy Hockey Club'!I22","v":2}]
[{"$f":"'Fantasy Hockey Club'!A7","v":"Elias Lindholm"},"(FHC)",{"$f":"'Fantasy Hockey Club'!I7","v":4},null,{"$f":"Slappers!A23","v":"Ivan Provorov"},"(SLP)",{"$f":"Slappers!I23","v":2}]
[{"$f":"Riketorians!A8","v":"Andrei Svechnikov"},"(RIK)",{"$f":"Riketorians!I8","v":4},null,{"$f":"'Just Chillin'!A22","v":"Noah Hanifin"},"(JCH)",{"$f":"'Just Chillin'!I22","v":1}]
[{"$f":"Riketorians!A9","v":"Drake Batherson"},"(RIK)",{"$f":"Riketorians!I9","v":4},null,{"$f":"'Team LIRHL'!A20","v":"Zeev Buium"},"(LIR)",{"$f":"'Team LIRHL'!I20","v":1}]
[{"$f":"'District 5'!A10","v":"Mason McTavish"},"(DI5)",{"$f":"'District 5'!I10","v":4},null,{"$f":"'Team LIRHL'!A21","v":"Brent Burns"},"(LIR)",{"$f":"'Team LIRHL'!I21","v":1}]
[{"$f":"'Shawnee Tribe'!A8","v":"Connor McDavid"},"(SHW)",{"$f":"'Shawnee Tribe'!I8","v":4},null,{"$f":"Highlanders!A23","v":"Jackson LaCombe"},"(HGL)",{"$f":"Highlanders!I23","v":1}]
[{"$f":"'Fantasy Hockey Club'!A8","v":"Pavel Dorofeyev"},"(FHC)",{"$f":"'Fantasy Hockey Club'!I8","v":4},null,{"$f":"'Shawnee Tribe'!A23","v":"Vince Dunn"},"(SHW)",{"$f":"'Shawnee Tribe'!I23","v":1}]
[{"$f":"'Damn Yankees'!A8","v":"Jake Guentzel"},"(DYK)",{"$f":"'Damn Yankees'!I8","v":4},null,{"$f":"Riketorians!A22","v":"Justin Faulk"},"(RIK)",{"$f":"Riketorians!I22","v":1}]
[{"$f":"Riketorians!A10","v":"Vincent Trocheck"},"(RIK)",{"$f":"Riketorians!I10","v":4},null,{"$f":"'Grumpy Old Men'!A23","v":"Miro Heiskanen"},"(GOM)",{"$f":"'Grumpy Old Men'!I23","v":1}]
[{"$f":"'Just Chillin'!A9","v":"Mark Scheifele"},"(JCH)",{"$f":"'Just Chillin'!I9","v":4},null,{"$f":"'Just Chillin'!A23","v":"Morgan Rielly"},"(JCH)",{"$f":"'Just Chillin'!I23","v":1}]
[{"$f":"'Just Chillin'!A10","v":"John Tavares"},"(JCH)",{"$f":"'Just Chillin'!I10","v":4},null,{"$f":"'Fantasy Hockey Club'!A23","v":"Brandt Clarke"},"(FHC)",{"$f":"'Fantasy Hockey Club'!I23","v":1}]
[{"$f":"Slappers!A8","v":"Timo Meier"},"(SLP)",{"$f":"Slappers!I8","v":4},null,{"$f":"'Just Chillin'!A24","v":"Cam Fowler"},"(JCH)",{"$f":"'Just Chillin'!I24","v":1}]
[{"$f":"Highlanders!A9","v":"Kirill Kaprizov"},"(HGL)",{"$f":"Highlanders!I9","v":4},null,{"$f":"Riketorians!A23","v":"Devon Toews"},"(RIK)",{"$f":"Riketorians!I23","v":1}]
[{"$f":"'Fantasy Hockey Club'!A9","v":"Marcus Johansson"},"(FHC)",{"$f":"'Fantasy Hockey Club'!I9","v":4},null,{"$f":"'Damn Yankees'!A23","v":"Logan Stanley"},"(DYK)",{"$f":"'Damn Yankees'!I23","v":1}]
[{"$f":"'Grumpy Old Men'!A10","v":"Mark Stone"},"(GOM)",{"$f":"'Grumpy Old Men'!I10","v":4},null,{"$f":"'District 5'!A23","v":"Jamie Drysdale"},"(DI5)",{"$f":"'District 5'!I23","v":1}]
[{"$f":"'Grumpy Old Men'!A11","v":"Matt Coronato"},"(GOM)",{"$f":"'Grumpy Old Men'!I11","v":4},null,{"$f":"Riketorians!A24","v":"Mike Matheson"},"(RIK)",{"$f":"Riketorians!I24","v":1}]
[{"$f":"'Team LIRHL'!A8","v":"Dylan Larkin"},"(LIR)",{"$f":"'Team LIRHL'!I8","v":3},null,{"$f":"'Grumpy Old Men'!A24","v":"Darnell Nurse"},"(GOM)",{"$f":"'Grumpy Old Men'!I24","v":1}]
[{"$f":"'Shawnee Tribe'!A9","v":"Gabriel Landeskog"},"(SHW)",{"$f":"'Shawnee Tribe'!I9","v":3},null,{"$f":"Slappers!A24","v":"Dougie Hamilton"},"(SLP)",{"$f":"Slappers!I24","v":1}]
[{"$f":"Riketorians!A11","v":"Travis Konecny"},"(RIK)",{"$f":"Riketorians!I11","v":3},null,{"$f":"Slappers!A25","v":"Dmitry Orlov"},"(SLP)",{"$f":"Slappers!I25","v":1}]
[{"$f":"'District 5'!A11","v":"Matt Boldy"},"(DI5)",{"$f":"'District 5'!I11","v":3},null,{"$f":"'Damn Yankees'!A24","v":"Sam Malinski"},"(DYK)",{"$f":"'Damn Yankees'!I24","v":1}]
[{"$f":"'District 5'!A12","v":"Tage Thompson"},"(DI5)",{"$f":"'District 5'!I12","v":3},null,{"$f":"Riketorians!A25","v":"Neal Pionk"},"(RIK)",{"$f":"Riketorians!I25","v":1}]
[{"$f":"Slappers!A9","v":"Jack Hughes "},"(SLP)",{"$f":"Slappers!I9","v":3},null,{"$f":"'Damn Yankees'!A25","v":"Colton Parayko"},"(DYK)",{"$f":"'Damn Yankees'!I25","v":1}]
[{"$f":"'Team LIRHL'!A9","v":"Tim Stützle"},"(LIR)",{"$f":"'Team LIRHL'!I9","v":3},null,{"$f":"Highlanders!A24","v":"Drew Doughty"},"(HGL)",{"$f":"Highlanders!I24","v":0}]
[{"$f":"'Shawnee Tribe'!A10","v":"Robert Thomas"},"(SHW)",{"$f":"'Shawnee Tribe'!I10","v":3},null,{"$f":"'Team LIRHL'!A22","v":"Jacob Trouba"},"(LIR)",{"$f":"'Team LIRHL'!I22","v":0}]
[{"$f":"'Damn Yankees'!A9","v":"Alex DeBrincat"},"(DYK)",{"$f":"'Damn Yankees'!I9","v":3},null,{"$f":"'Shawnee Tribe'!A24","v":"Axel Sandin-Pellikka"},"(SHW)",{"$f":"'Shawnee Tribe'!I24","v":0}]
[{"$f":"'Shawnee Tribe'!A11","v":"Matvei Michkov"},"(SHW)",{"$f":"'Shawnee Tribe'!I11","v":3},null,{"$f":"'Team LIRHL'!A23","v":"Elias Pettersson D"},"(LIR)",{"$f":"'Team LIRHL'!I23","v":0}]
[{"$f":"Riketorians!A12","v":"Kyle Connor"},"(RIK)",{"$f":"Riketorians!I12","v":3},null,{"$f":"'Fantasy Hockey Club'!A24","v":"Shayne Gostisbehere"},"(FHC)",{"$f":"'Fantasy Hockey Club'!I24","v":0}]
[{"$f":"'Fantasy Hockey Club'!A10","v":"Artturi Lehkonen"},"(FHC)",{"$f":"'Fantasy Hockey Club'!I10","v":3},null,{"$f":"'Team LIRHL'!A24","v":"Gustav Forsling"},"(LIR)",{"$f":"'Team LIRHL'!I24","v":0}]
[{"$f":"'District 5'!A13","v":"Josh Doan"},"(DI5)",{"$f":"'District 5'!I13","v":3},null,{"$f":"'Shawnee Tribe'!A25","v":"John Klingberg"},"(SHW)",{"$f":"'Shawnee Tribe'!I25","v":0}]
[{"$f":"'Damn Yankees'!A10","v":"Tyler Bertuzzi"},"(DYK)",{"$f":"'Damn Yankees'!I10","v":3},null,{"$f":"'District 5'!A24","v":"Brandon Montour"},"(DI5)",{"$f":"'District 5'!I24","v":0}]
[{"$f":"Highlanders!A10","v":"JJ Peterka"},"(HGL)",{"$f":"Highlanders!I10","v":3},null,{"$f":"'District 5'!A25","v":"Sam Rinzel"},"(DI5)",{"$f":"'District 5'!I25","v":0}]
[{"$f":"'Shawnee Tribe'!A12","v":"Mathew Barzal"},"(SHW)",{"$f":"'Shawnee Tribe'!I12","v":3},null,{"$f":"'Grumpy Old Men'!A25","v":"Artem Zub"},"(GOM)",{"$f":"'Grumpy Old Men'!I25","v":0}]
[{"$f":"'Damn Yankees'!A11","v":"Lucas Raymond"},"(DYK)",{"$f":"'Damn Yankees'!I11","v":3},null,{"$f":"'Team LIRHL'!A25","v":"Jake Walman"},"(LIR)",{"$f":"'Team LIRHL'!I25","v":0}]
[{"$f":"'Grumpy Old Men'!A12","v":"Jason Robertson"},"(GOM)",{"$f":"'Grumpy Old Men'!I12","v":3},null,{"$f":"'Fantasy Hockey Club'!A25","v":"Rasmus Dahlin"},"(FHC)",{"$f":"'Fantasy Hockey Club'!I25","v":0}]
[{"$f":"'Grumpy Old Men'!A13","v":"Sam Bennett"},"(GOM)",{"$f":"'Grumpy Old Men'!I13","v":3},null,{"$f":"Highlanders!A25","v":"Thomas Harley"},"(HGL)",{"$f":"Highlanders!I25","v":0}]
[{"$f":"'Team LIRHL'!A10","v":"Mikko Rantanen"},"(LIR)",{"$f":"'Team LIRHL'!I10","v":2},null,{"$f":"'Just Chillin'!A25","v":"John Carlson"},"(JCH)",{"$f":"'Just Chillin'!I25","v":0}]
[{"$f":"'Team LIRHL'!A11","v":"Adrian Kempe"},"(LIR)",{"$f":"'Team LIRHL'!I11","v":2}]
[{"$f":"'Team LIRHL'!A12","v":"Filip Forsberg"},"(LIR)",{"$f":"'Team LIRHL'!I12","v":2}]
[{"$f":"Slappers!A10","v":"Jesper Bratt"},"(SLP)",{"$f":"Slappers!I10","v":2}]
[{"$f":"Slappers!A11","v":"Gabriel Vilardi"},"(SLP)",{"$f":"Slappers!I11","v":2}]
[{"$f":"Highlanders!A11","v":"Trevor Zegras"},"(HGL)",{"$f":"Highlanders!I11","v":2}]
[{"$f":"'Damn Yankees'!A12","v":"Zach Hyman"},"(DYK)",{"$f":"'Damn Yankees'!I12","v":2}]
[{"$f":"Highlanders!A12","v":"Adam Fantilli"},"(HGL)",{"$f":"Highlanders!I12","v":2}]
[{"$f":"'Fantasy Hockey Club'!A11","v":"Anthony Cirelli"},"(FHC)",{"$f":"'Fantasy Hockey Club'!I11","v":2}]
[{"$f":"'Fantasy Hockey Club'!A12","v":"Kiefer Sherwood"},"(FHC)",{"$f":"'Fantasy Hockey Club'!I12","v":2}]
[{"$f":"'Team LIRHL'!A13","v":"Brady Tkachuk"},"(LIR)",{"$f":"'Team LIRHL'!I13","v":2}]
[{"$f":"'Damn Yankees'!A13","v":"Beckett Sennecke"},"(DYK)",{"$f":"'Damn Yankees'!I13","v":2}]
[{"$f":"'Damn Yankees'!A14","v":"Alex Tuch"},"(DYK)",{"$f":"'Damn Yankees'!I14","v":2}]
[{"$f":"'Shawnee Tribe'!A13","v":"Rickard Rakell"},"(SHW)",{"$f":"'Shawnee Tribe'!I13","v":2}]
[{"$f":"'Grumpy Old Men'!A14","v":"Emil Heineman"},"(GOM)",{"$f":"'Grumpy Old Men'!I14","v":2}]
[{"$f":"'Shawnee Tribe'!A14","v":"Cutter Gauthier"},"(SHW)",{"$f":"'Shawnee Tribe'!I14","v":2}]
[{"$f":"'Damn Yankees'!A15","v":"Matt Duchene"},"(DYK)",{"$f":"'Damn Yankees'!I15","v":2}]
[{"$f":"'Just Chillin'!A11","v":"Ryan Nugent-Hopkins"},"(JCH)",{"$f":"'Just Chillin'!I11","v":1}]
[{"$f":"'Just Chillin'!A12","v":"Wyatt Johnston"},"(JCH)",{"$f":"'Just Chillin'!I12","v":1}]
[{"$f":"Highlanders!A13","v":"Mitch Marner"},"(HGL)",{"$f":"Highlanders!I13","v":1}]
[{"$f":"'Fantasy Hockey Club'!A13","v":"Leon Draisaitl"},"(FHC)",{"$f":"'Fantasy Hockey Club'!I13","v":1}]
[{"$f":"'Just Chillin'!A13","v":"Anze Kopitar"},"(JCH)",{"$f":"'Just Chillin'!I13","v":1}]
[{"$f":"'Team LIRHL'!A14","v":"Nazem Kadri"},"(LIR)",{"$f":"'Team LIRHL'!I14","v":1}]
[{"$f":"'District 5'!A14","v":"Tomas Hertl"},"(DI5)",{"$f":"'District 5'!I14","v":1}]
[{"$f":"Highlanders!A14","v":"Morgan Geekie"},"(HGL)",{"$f":"Highlanders!I14","v":1}]
[{"$f":"Riketorians!A13","v":"Alex Ovechkin"},"(RIK)",{"$f":"Riketorians!I13","v":1}]
[{"$f":"'Fantasy Hockey Club'!A14","v":"Dylan Cozens"},"(FHC)",{"$f":"'Fantasy Hockey Club'!I14","v":1}]
[{"$f":"'Just Chillin'!A14","v":"Patrick Kane"},"(JCH)",{"$f":"'Just Chillin'!I14","v":1}]
[{"$f":"Slappers!A12","v":"Arseny Gritsyuk"},"(SLP)",{"$f":"Slappers!I12","v":1}]
[{"$f":"Slappers!A13","v":"Dawson Mercer"},"(SLP)",{"$f":"Slappers!I13","v":1}]
[{"$f":"Highlanders!A15","v":"Leo Carlsson"},"(HGL)",{"$f":"Highlanders!I15","v":1}]
[{"$f":"Slappers!A14","v":"Jordan Kyrou"},"(SLP)",{"$f":"Slappers!I14","v":1}]
[{"$f":"'Team LIRHL'!A15","v":"Roope Hintz"},"(LIR)",{"$f":"'Team LIRHL'!I15","v":0}]
[{"$f":"'Grumpy Old Men'!A15","v":"Chris Kreider"},"(GOM)",{"$f":"'Grumpy Old Men'!I15","v":0}]
[{"$f":"'Just Chillin'!A15","v":"Jack Eichel"},"(JCH)",{"$f":"'Just Chillin'!I15","v":0}]
[{"$f":"Riketorians!A14","v":"Carter Verhaeghe"},"(RIK)",{"$f":"Riketorians!I14","v":0}]
[{"$f":"Riketorians!A15","v":"Connor Bedard"},"(RIK)",{"$f":"Riketorians!I15","v":0}]
[{"$f":"'District 5'!A15","v":"William Nylander"},"(DI5)",{"$f":"'District 5'!I15","v":0}]
[{"$f":"'Shawnee Tribe'!A15","v":"J.T. Miller"},"(SHW)",{"$f":"'Shawnee Tribe'!I15","v":0}]
[{"$f":"Slappers!A15","v":"Logan Cooley"},"(SLP)",{"$f":"Slappers!I15","v":0}]
[{"$f":"'Fantasy Hockey Club'!A15","v":"Pavel Zacha"},"(FHC)",{"$f":"'Fantasy Hockey Club'!I15","v":0}]

{"sheet":"Total Calc","index":14,"n_rows":122,"n_cols":11,"rows_kept":122,"cut":false,"hidden":false,"merged":[]}
["Forwards",null,"Points",null,"Defense",null,"Points",null,"Goalie",null,"Points"]
[{"$f":"'Grumpy Old Men'!A5","v":"Nathan MacKinnon"},"(GOM)",{"$f":"'Grumpy Old Men'!R5","v":92},null,{"$f":"'District 5'!A20","v":"Cale Makar"},"(DI5)",{"$f":"'District 5'!R20","v":55},null,{"$f":"Highlanders!A30","v":"Scott Wedgewood"},"(HGL)",{"$f":"Highlanders!R30","v":120}]
[{"$f":"'Shawnee Tribe'!A8","v":"Connor McDavid"},"(SHW)",{"$f":"'Shawnee Tribe'!R8","v":83},null,{"$f":"'Shawnee Tribe'!A19","v":"Darren Raddysh"},"(SHW)",{"$f":"'Shawnee Tribe'!R19","v":47},null,{"$f":"'Fantasy Hockey Club'!A28","v":"Logan Thompson"},"(FHC)",{"$f":"'Fantasy Hockey Club'!R28","v":117}]
[{"$f":"'Shawnee Tribe'!A6","v":"Macklin Celebrini"},"(SHW)",{"$f":"'Shawnee Tribe'!R6","v":77},null,{"$f":"'Shawnee Tribe'!A21","v":"Evan Bouchard"},"(SHW)",{"$f":"'Shawnee Tribe'!R21","v":46},null,{"$f":"Slappers!A30","v":"Jake Oettinger"},"(SLP)",{"$f":"Slappers!R30","v":109}]
[{"$f":"'Fantasy Hockey Club'!A13","v":"Leon Draisaitl"},"(FHC)",{"$f":"'Fantasy Hockey Club'!R13","v":75},null,{"$f":"'Fantasy Hockey Club'!A22","v":"Jakob Chychrun"},"(FHC)",{"$f":"'Fantasy Hockey Club'!R22","v":45},null,{"$f":"'Grumpy Old Men'!A28","v":"Igor Shesterkin"},"(GOM)",{"$f":"'Grumpy Old Men'!R28","v":106}]
[{"$f":"'Team LIRHL'!A5","v":"Nikita Kucherov"},"(LIR)",{"$f":"'Team LIRHL'!R5","v":73},null,{"$f":"'Shawnee Tribe'!A20","v":"Lane Hutson"},"(SHW)",{"$f":"'Shawnee Tribe'!R20","v":43},null,{"$f":"'Damn Yankees'!A30","v":"Andrei Vasilevskiy"},"(DYK)",{"$f":"'Damn Yankees'!R30","v":105}]
[{"$f":"'District 5'!A6","v":"Sam Reinhart"},"(DI5)",{"$f":"'District 5'!R6","v":68},null,{"$f":"'Just Chillin'!A21","v":"Zach Werenski"},"(JCH)",{"$f":"'Just Chillin'!R21","v":43},null,{"$f":"'Just Chillin'!A28","v":"Jesper Wallstedt"},"(JCH)",{"$f":"'Just Chillin'!R28","v":101}]
[{"$f":"'Just Chillin'!A12","v":"Wyatt Johnston"},"(JCH)",{"$f":"'Just Chillin'!R12","v":66},null,{"$f":"'Grumpy Old Men'!A19","v":"Matthew Schaefer"},"(GOM)",{"$f":"'Grumpy Old Men'!R19","v":42},null,{"$f":"Slappers!A28","v":"Spencer Knight"},"(SLP)",{"$f":"Slappers!R28","v":98}]
[{"$f":"'District 5'!A11","v":"Matt Boldy"},"(DI5)",{"$f":"'District 5'!R11","v":65},null,{"$f":"'Grumpy Old Men'!A23","v":"Miro Heiskanen"},"(GOM)",{"$f":"'Grumpy Old Men'!R23","v":42},null,{"$f":"'District 5'!A28","v":"Filip Gustavsson"},"(DI5)",{"$f":"'District 5'!R28","v":98}]
[{"$f":"Highlanders!A9","v":"Kirill Kaprizov"},"(HGL)",{"$f":"Highlanders!R9","v":64},null,{"$f":"'Damn Yankees'!A19","v":"Quinn Hughes"},"(DYK)",{"$f":"'Damn Yankees'!R19","v":37},null,{"$f":"'Shawnee Tribe'!A28","v":"Joey Daccord"},"(SHW)",{"$f":"'Shawnee Tribe'!R28","v":94}]
[{"$f":"'Grumpy Old Men'!A12","v":"Jason Robertson"},"(GOM)",{"$f":"'Grumpy Old Men'!R12","v":63},null,{"$f":"'District 5'!A22","v":"Moritz Seider"},"(DI5)",{"$f":"'District 5'!R22","v":35},null,{"$f":"Highlanders!A28","v":"David Rittich"},"(HGL)",{"$f":"Highlanders!R28","v":93}]
[{"$f":"'Team LIRHL'!A10","v":"Mikko Rantanen"},"(LIR)",{"$f":"'Team LIRHL'!R10","v":62},null,{"$f":"Riketorians!A21","v":"Jake Sanderson"},"(RIK)",{"$f":"Riketorians!R21","v":33},null,{"$f":"'Team LIRHL'!A28","v":"Jeremy Swayman"},"(LIR)",{"$f":"'Team LIRHL'!R28","v":92}]
[{"$f":"Riketorians!A12","v":"Kyle Connor"},"(RIK)",{"$f":"Riketorians!R12","v":61},null,{"$f":"'Fantasy Hockey Club'!A24","v":"Shayne Gostisbehere"},"(FHC)",{"$f":"'Fantasy Hockey Club'!R24","v":33},null,{"$f":"'Damn Yankees'!A28","v":"Mackenzie Blackwood"},"(DYK)",{"$f":"'Damn Yankees'!R28","v":91}]
[{"$f":"'Damn Yankees'!A9","v":"Alex DeBrincat"},"(DYK)",{"$f":"'Damn Yankees'!R9","v":61},null,{"$f":"'Grumpy Old Men'!A22","v":"Josh Morrissey"},"(GOM)",{"$f":"'Grumpy Old Men'!R22","v":33},null,{"$f":"Riketorians!A30","v":"Sergei Bobrovsky"},"(RIK)",{"$f":"Riketorians!R30","v":91}]
[{"$f":"'Damn Yankees'!A8","v":"Jake Guentzel"},"(DYK)",{"$f":"'Damn Yankees'!R8","v":58},null,{"$f":"'District 5'!A19","v":"Mikhail Sergachev"},"(DI5)",{"$f":"'District 5'!R19","v":32},null,{"$f":"'Shawnee Tribe'!A30","v":"Karel Vejmelka"},"(SHW)",{"$f":"'Shawnee Tribe'!R30","v":87}]
[{"$f":"'Just Chillin'!A5","v":"Sidney Crosby"},"(JCH)",{"$f":"'Just Chillin'!R5","v":58},null,{"$f":"Riketorians!A20","v":"Erik Karlsson"},"(RIK)",{"$f":"Riketorians!R20","v":32},null,{"$f":"Riketorians!A28","v":"Dustin Wolf"},"(RIK)",{"$f":"Riketorians!R28","v":85}]
[{"$f":"Riketorians!A7","v":"David Pastrnak"},"(RIK)",{"$f":"Riketorians!R7","v":58},null,{"$f":"Highlanders!A45","v":"Adam Fox"},"(HGL)",{"$f":"Highlanders!E45","v":32},null,{"$f":"Highlanders!A46","v":"Ilya Sorokin"},"(HGL)",{"$f":"Highlanders!E46","v":82}]
[{"$f":"'Team LIRHL'!A9","v":"Tim Stützle"},"(LIR)",{"$f":"'Team LIRHL'!R9","v":58},null,{"$f":"'District 5'!A21","v":"Rasmus Andersson"},"(DI5)",{"$f":"'District 5'!R21","v":30},null,{"$f":"'District 5'!A30","v":"Juuse Saros"},"(DI5)",{"$f":"'District 5'!R30","v":81}]
[{"$f":"'Just Chillin'!A9","v":"Mark Scheifele"},"(JCH)",{"$f":"'Just Chillin'!R9","v":57},null,{"$f":"'Just Chillin'!A23","v":"Morgan Rielly"},"(JCH)",{"$f":"'Just Chillin'!R23","v":30},null,{"$f":"'Team LIRHL'!A30","v":"Linus Ullmark"},"(LIR)",{"$f":"'Team LIRHL'!R30","v":79}]
[{"$f":"'Fantasy Hockey Club'!A6","v":"Cole Caufield"},"(FHC)",{"$f":"'Fantasy Hockey Club'!R6","v":57},null,{"$f":"Slappers!A21","v":"Bowen Byram"},"(SLP)",{"$f":"Slappers!R21","v":30},null,{"$f":"'Fantasy Hockey Club'!A30","v":"Akira Schmid"},"(FHC)",{"$f":"'Fantasy Hockey Club'!R30","v":75}]
[{"$f":"Highlanders!A14","v":"Morgan Geekie"},"(HGL)",{"$f":"Highlanders!R14","v":57},null,{"$f":"'Fantasy Hockey Club'!A25","v":"Rasmus Dahlin"},"(FHC)",{"$f":"'Fantasy Hockey Club'!R25","v":30},null,{"$f":"'Just Chillin'!A30","v":"Connor Hellebuyck"},"(JCH)",{"$f":"'Just Chillin'!R30","v":66}]
[{"$f":"Highlanders!A6","v":"Nick Suzuki"},"(HGL)",{"$f":"Highlanders!R6","v":56},null,{"$f":"'Just Chillin'!A25","v":"John Carlson"},"(JCH)",{"$f":"'Just Chillin'!R25","v":29},null,{"$f":"'Grumpy Old Men'!A30","v":"Joseph Woll"},"(GOM)",{"$f":"'Grumpy Old Men'!R30","v":51}]
[{"$f":"'Team LIRHL'!A8","v":"Dylan Larkin"},"(LIR)",{"$f":"'Team LIRHL'!R8","v":56},null,{"$f":"Slappers!A20","v":"Noah Dobson"},"(SLP)",{"$f":"Slappers!R20","v":29},null,{"$f":"'Grumpy Old Men'!A46","v":"Anthony Stolarz"},"(GOM)",{"$f":"'Grumpy Old Men'!E46","v":24}]
[{"$f":"Highlanders!A15","v":"Leo Carlsson"},"(HGL)",{"$f":"Highlanders!R15","v":56},null,{"$f":"Slappers!A22","v":"Seth Jones"},"(SLP)",{"$f":"Slappers!R22","v":29},null,{"$f":"'Fantasy Hockey Club'!A46","v":"Adin Hill"},"(FHC)",{"$f":"'Fantasy Hockey Club'!E46","v":9}]
[{"$f":"'Damn Yankees'!A7","v":"Martin Necas"},"(DYK)",{"$f":"'Damn Yankees'!R7","v":56},null,{"$f":"Riketorians!A22","v":"Justin Faulk"},"(RIK)",{"$f":"Riketorians!R22","v":29}]
[{"$f":"'Shawnee Tribe'!A5","v":"Artemi Panarin"},"(SHW)",{"$f":"'Shawnee Tribe'!R5","v":55},null,{"$f":"Riketorians!A19","v":"Kris Letang"},"(RIK)",{"$f":"Riketorians!R19","v":28}]
[{"$f":"Riketorians!A15","v":"Connor Bedard"},"(RIK)",{"$f":"Riketorians!R15","v":55},null,{"$f":"'Just Chillin'!A20","v":"Brock Faber"},"(JCH)",{"$f":"'Just Chillin'!R20","v":27}]
[{"$f":"'District 5'!A7","v":"Brad Marchand"},"(DI5)",{"$f":"'District 5'!R7","v":55},null,{"$f":"'Damn Yankees'!A20","v":"Filip Hronek"},"(DYK)",{"$f":"'Damn Yankees'!R20","v":27}]
[{"$f":"'Damn Yankees'!A11","v":"Lucas Raymond"},"(DYK)",{"$f":"'Damn Yankees'!R11","v":54},null,{"$f":"Highlanders!A23","v":"Jackson LaCombe"},"(HGL)",{"$f":"Highlanders!R23","v":26}]
[{"$f":"'Fantasy Hockey Club'!A5","v":"Sebastian Aho"},"(FHC)",{"$f":"'Fantasy Hockey Club'!R5","v":53},null,{"$f":"'Team LIRHL'!A21","v":"Brent Burns"},"(LIR)",{"$f":"'Team LIRHL'!R21","v":26}]
[{"$f":"Riketorians!A6","v":"Tom Wilson"},"(RIK)",{"$f":"Riketorians!R6","v":53},null,{"$f":"'Fantasy Hockey Club'!A20","v":"Oliver Ekman-Larsson"},"(FHC)",{"$f":"'Fantasy Hockey Club'!R20","v":25}]
[{"$f":"Slappers!A6","v":"Dylan Guenther"},"(SLP)",{"$f":"Slappers!R6","v":53},null,{"$f":"'Shawnee Tribe'!A45","v":"Shea Theodore"},"(SHW)",{"$f":"'Shawnee Tribe'!E45","v":25}]
[{"$f":"'Grumpy Old Men'!A6","v":"Mika Zibanejad"},"(GOM)",{"$f":"'Grumpy Old Men'!R6","v":51},null,{"$f":"'Shawnee Tribe'!A25","v":"John Klingberg"},"(SHW)",{"$f":"'Shawnee Tribe'!R25","v":25}]
[{"$f":"Riketorians!A9","v":"Drake Batherson"},"(RIK)",{"$f":"Riketorians!R9","v":50},null,{"$f":"'Shawnee Tribe'!A23","v":"Vince Dunn"},"(SHW)",{"$f":"'Shawnee Tribe'!R23","v":24}]
[{"$f":"'District 5'!A15","v":"William Nylander"},"(DI5)",{"$f":"'District 5'!R15","v":50},null,{"$f":"'Fantasy Hockey Club'!A23","v":"Brandt Clarke"},"(FHC)",{"$f":"'Fantasy Hockey Club'!R23","v":24}]
[{"$f":"'District 5'!A5","v":"Steven Stamkos"},"(DI5)",{"$f":"'District 5'!R5","v":49},null,{"$f":"'Damn Yankees'!A24","v":"Sam Malinski"},"(DYK)",{"$f":"'Damn Yankees'!R24","v":24}]
[{"$f":"'Shawnee Tribe'!A14","v":"Cutter Gauthier"},"(SHW)",{"$f":"'Shawnee Tribe'!R14","v":49},null,{"$f":"Slappers!A45","v":"Simon Nemec"},"(SLP)",{"$f":"Slappers!E45","v":24}]
[{"$f":"Riketorians!A5","v":"Brock Nelson"},"(RIK)",{"$f":"Riketorians!R5","v":48},null,{"$f":"'Team LIRHL'!A20","v":"Zeev Buium"},"(LIR)",{"$f":"'Team LIRHL'!R20","v":23}]
[{"$f":"Highlanders!A11","v":"Trevor Zegras"},"(HGL)",{"$f":"Highlanders!R11","v":48},null,{"$f":"Highlanders!A20","v":"Luke Hughes"},"(HGL)",{"$f":"Highlanders!R20","v":23}]
[{"$f":"'Just Chillin'!A15","v":"Jack Eichel"},"(JCH)",{"$f":"'Just Chillin'!R15","v":48},null,{"$f":"'Shawnee Tribe'!A22","v":"Travis Sanheim"},"(SHW)",{"$f":"'Shawnee Tribe'!R22","v":22}]
[{"$f":"'Damn Yankees'!A44","v":"Brandon Hagel"},"(DYK)",{"$f":"'Damn Yankees'!E44","v":48},null,{"$f":"Riketorians!A24","v":"Mike Matheson"},"(RIK)",{"$f":"Riketorians!R24","v":21}]
[{"$f":"'Fantasy Hockey Club'!A44","v":"Bo Horvat"},"(FHC)",{"$f":"'Fantasy Hockey Club'!E44","v":47},null,{"$f":"Highlanders!A22","v":"Charlie McAvoy"},"(HGL)",{"$f":"Highlanders!R22","v":21}]
[{"$f":"'Just Chillin'!A6","v":"Bryan Rust"},"(JCH)",{"$f":"'Just Chillin'!R6","v":47},null,{"$f":"'District 5'!A23","v":"Jamie Drysdale"},"(DI5)",{"$f":"'District 5'!R23","v":20}]
[{"$f":"'Damn Yankees'!A5","v":"Nick Schmaltz"},"(DYK)",{"$f":"'Damn Yankees'!R5","v":47},null,{"$f":"'Team LIRHL'!A22","v":"Jacob Trouba"},"(LIR)",{"$f":"'Team LIRHL'!R22","v":20}]
[{"$f":"'Team LIRHL'!A11","v":"Adrian Kempe"},"(LIR)",{"$f":"'Team LIRHL'!R11","v":47},null,{"$f":"'Damn Yankees'!A21","v":"Artyom Levshunov"},"(DYK)",{"$f":"'Damn Yankees'!R21","v":20}]
[{"$f":"'Damn Yankees'!A6","v":"Troy Terry"},"(DYK)",{"$f":"'Damn Yankees'!R6","v":45},null,{"$f":"'District 5'!A24","v":"Brandon Montour"},"(DI5)",{"$f":"'District 5'!R24","v":20}]
[{"$f":"'Grumpy Old Men'!A9","v":"Clayton Keller"},"(GOM)",{"$f":"'Grumpy Old Men'!R9","v":45},null,{"$f":"'Damn Yankees'!A22","v":"Nick Blankenburg"},"(DYK)",{"$f":"'Damn Yankees'!R22","v":20}]
[{"$f":"Slappers!A11","v":"Gabriel Vilardi"},"(SLP)",{"$f":"Slappers!R11","v":45},null,{"$f":"'Just Chillin'!A19","v":"Roman Josi"},"(JCH)",{"$f":"'Just Chillin'!R19","v":20}]
[{"$f":"'Fantasy Hockey Club'!A9","v":"Marcus Johansson"},"(FHC)",{"$f":"'Fantasy Hockey Club'!R9","v":44},null,{"$f":"Highlanders!A19","v":"Aaron Ekblad"},"(HGL)",{"$f":"Highlanders!R19","v":20}]
[{"$f":"Slappers!A5","v":"Auston Matthews"},"(SLP)",{"$f":"Slappers!R5","v":44},null,{"$f":"Slappers!A25","v":"Dmitry Orlov"},"(SLP)",{"$f":"Slappers!R25","v":20}]
[{"$f":"Highlanders!A47","v":"Seth Jarvis"},"(HGL)",{"$f":"Highlanders!E47","v":44},null,{"$f":"Slappers!A19","v":"Hampus Lindholm"},"(SLP)",{"$f":"Slappers!R19","v":19}]
[{"$f":"Slappers!A10","v":"Jesper Bratt"},"(SLP)",{"$f":"Slappers!R10","v":43},null,{"$f":"'Fantasy Hockey Club'!A21","v":"Vladislav Gavrikov"},"(FHC)",{"$f":"'Fantasy Hockey Club'!R21","v":19}]
[{"$f":"'District 5'!A9","v":"Matthew Knies"},"(DI5)",{"$f":"'District 5'!R9","v":42},null,{"$f":"'Grumpy Old Men'!A20","v":"Thomas Chabot"},"(GOM)",{"$f":"'Grumpy Old Men'!R20","v":17}]
[{"$f":"Highlanders!A7","v":"Kirill Marchenko"},"(HGL)",{"$f":"Highlanders!R7","v":42},null,{"$f":"'Fantasy Hockey Club'!A19","v":"KAndre Miller"},"(FHC)",{"$f":"'Fantasy Hockey Club'!R19","v":17}]
[{"$f":"'District 5'!A12","v":"Tage Thompson"},"(DI5)",{"$f":"'District 5'!R12","v":42},null,{"$f":"'Team LIRHL'!A19","v":"Alexander Nikishin"},"(LIR)",{"$f":"'Team LIRHL'!R19","v":17}]
[{"$f":"Riketorians!A13","v":"Alex Ovechkin"},"(RIK)",{"$f":"Riketorians!R13","v":42},null,{"$f":"Highlanders!A25","v":"Thomas Harley"},"(HGL)",{"$f":"Highlanders!R25","v":16}]
[{"$f":"Highlanders!A13","v":"Mitch Marner"},"(HGL)",{"$f":"Highlanders!R13","v":42},null,{"$f":"'Team LIRHL'!A25","v":"Jake Walman"},"(LIR)",{"$f":"'Team LIRHL'!R25","v":16}]
[{"$f":"'Just Chillin'!A10","v":"John Tavares"},"(JCH)",{"$f":"'Just Chillin'!R10","v":42},null,{"$f":"'Grumpy Old Men'!A24","v":"Darnell Nurse"},"(GOM)",{"$f":"'Grumpy Old Men'!R24","v":15}]
[{"$f":"'Shawnee Tribe'!A7","v":"Ivan Demidov"},"(SHW)",{"$f":"'Shawnee Tribe'!R7","v":41},null,{"$f":"'Shawnee Tribe'!A24","v":"Axel Sandin-Pellikka"},"(SHW)",{"$f":"'Shawnee Tribe'!R24","v":15}]
[{"$f":"'Damn Yankees'!A10","v":"Tyler Bertuzzi"},"(DYK)",{"$f":"'Damn Yankees'!R10","v":41},null,{"$f":"'Damn Yankees'!A23","v":"Logan Stanley"},"(DYK)",{"$f":"'Damn Yankees'!R23","v":15}]
[{"$f":"'Just Chillin'!A11","v":"Ryan Nugent-Hopkins"},"(JCH)",{"$f":"'Just Chillin'!R11","v":41},null,{"$f":"Slappers!A23","v":"Ivan Provorov"},"(SLP)",{"$f":"Slappers!R23","v":15}]
[{"$f":"'Grumpy Old Men'!A7","v":"Nikolaj Ehlers"},"(GOM)",{"$f":"'Grumpy Old Men'!R7","v":41},null,{"$f":"'Just Chillin'!A24","v":"Cam Fowler"},"(JCH)",{"$f":"'Just Chillin'!R24","v":15}]
[{"$f":"'Fantasy Hockey Club'!A8","v":"Pavel Dorofeyev"},"(FHC)",{"$f":"'Fantasy Hockey Club'!R8","v":41},null,{"$f":"'Grumpy Old Men'!A21","v":"MacKenzie Weegar"},"(GOM)",{"$f":"'Grumpy Old Men'!R21","v":15}]
[{"$f":"'District 5'!A14","v":"Tomas Hertl"},"(DI5)",{"$f":"'District 5'!R14","v":41},null,{"$f":"'Just Chillin'!A22","v":"Noah Hanifin"},"(JCH)",{"$f":"'Just Chillin'!R22","v":14}]
[{"$f":"'Grumpy Old Men'!A10","v":"Mark Stone"},"(GOM)",{"$f":"'Grumpy Old Men'!R10","v":40},null,{"$f":"'Team LIRHL'!A24","v":"Gustav Forsling"},"(LIR)",{"$f":"'Team LIRHL'!R24","v":14}]
[{"$f":"'Grumpy Old Men'!A13","v":"Sam Bennett"},"(GOM)",{"$f":"'Grumpy Old Men'!R13","v":40},null,{"$f":"Slappers!A24","v":"Dougie Hamilton"},"(SLP)",{"$f":"Slappers!R24","v":13}]
[{"$f":"'Grumpy Old Men'!A8","v":"Joel Eriksson Ek"},"(GOM)",{"$f":"'Grumpy Old Men'!R8","v":39},null,{"$f":"Riketorians!A23","v":"Devon Toews"},"(RIK)",{"$f":"Riketorians!R23","v":13}]
[{"$f":"'Shawnee Tribe'!A44","v":"Will Smith"},"(SHW)",{"$f":"'Shawnee Tribe'!E44","v":39},null,{"$f":"Highlanders!A24","v":"Drew Doughty"},"(HGL)",{"$f":"Highlanders!R24","v":13}]
[{"$f":"Riketorians!A11","v":"Travis Konecny"},"(RIK)",{"$f":"Riketorians!R11","v":39},null,{"$f":"'Damn Yankees'!A45","v":"Victor Hedman"},"(DYK)",{"$f":"'Damn Yankees'!E45","v":12}]
[{"$f":"'Team LIRHL'!A15","v":"Roope Hintz"},"(LIR)",{"$f":"'Team LIRHL'!R15","v":39},null,{"$f":"'Grumpy Old Men'!A25","v":"Artem Zub"},"(GOM)",{"$f":"'Grumpy Old Men'!R25","v":12}]
[{"$f":"'Damn Yankees'!A14","v":"Alex Tuch"},"(DYK)",{"$f":"'Damn Yankees'!R14","v":39},null,{"$f":"Highlanders!A21","v":"Sean Durzi"},"(HGL)",{"$f":"Highlanders!R21","v":11}]
[{"$f":"'Team LIRHL'!A7","v":"Nico Hischier"},"(LIR)",{"$f":"'Team LIRHL'!R7","v":38},null,{"$f":"'Damn Yankees'!A25","v":"Colton Parayko"},"(DYK)",{"$f":"'Damn Yankees'!R25","v":11}]
[{"$f":"'Just Chillin'!A8","v":"Aliaksei Protas"},"(JCH)",{"$f":"'Just Chillin'!R8","v":37},null,{"$f":"Riketorians!A25","v":"Neal Pionk"},"(RIK)",{"$f":"Riketorians!R25","v":10}]
[{"$f":"Riketorians!A8","v":"Andrei Svechnikov"},"(RIK)",{"$f":"Riketorians!R8","v":37},null,{"$f":"'District 5'!A25","v":"Sam Rinzel"},"(DI5)",{"$f":"'District 5'!R25","v":8}]
[{"$f":"'Shawnee Tribe'!A10","v":"Robert Thomas"},"(SHW)",{"$f":"'Shawnee Tribe'!R10","v":37},null,{"$f":"'Team LIRHL'!A23","v":"Elias Pettersson D"},"(LIR)",{"$f":"'Team LIRHL'!R23","v":6}]
[{"$f":"Slappers!A7","v":"Dylan Strome"},"(SLP)",{"$f":"Slappers!R7","v":37}]
[{"$f":"'Team LIRHL'!A6","v":"Kevin Fiala"},"(LIR)",{"$f":"'Team LIRHL'!R6","v":36}]
[{"$f":"'Team LIRHL'!A14","v":"Nazem Kadri"},"(LIR)",{"$f":"'Team LIRHL'!R14","v":36}]
[{"$f":"'Fantasy Hockey Club'!A14","v":"Dylan Cozens"},"(FHC)",{"$f":"'Fantasy Hockey Club'!R14","v":36}]
[{"$f":"'Shawnee Tribe'!A12","v":"Mathew Barzal"},"(SHW)",{"$f":"'Shawnee Tribe'!R12","v":36}]
[{"$f":"Highlanders!A10","v":"JJ Peterka"},"(HGL)",{"$f":"Highlanders!R10","v":35}]
[{"$f":"'District 5'!A10","v":"Mason McTavish"},"(DI5)",{"$f":"'District 5'!R10","v":34}]
[{"$f":"Highlanders!A12","v":"Adam Fantilli"},"(HGL)",{"$f":"Highlanders!R12","v":34}]
[{"$f":"Riketorians!A14","v":"Carter Verhaeghe"},"(RIK)",{"$f":"Riketorians!R14","v":34}]
[{"$f":"'Damn Yankees'!A13","v":"Beckett Sennecke"},"(DYK)",{"$f":"'Damn Yankees'!R13","v":34}]
[{"$f":"'Fantasy Hockey Club'!A10","v":"Artturi Lehkonen"},"(FHC)",{"$f":"'Fantasy Hockey Club'!R10","v":34}]
[{"$f":"'Team LIRHL'!A12","v":"Filip Forsberg"},"(LIR)",{"$f":"'Team LIRHL'!R12","v":34}]
[{"$f":"'Fantasy Hockey Club'!A12","v":"Kiefer Sherwood"},"(FHC)",{"$f":"'Fantasy Hockey Club'!R12","v":34}]
[{"$f":"'Shawnee Tribe'!A15","v":"J.T. Miller"},"(SHW)",{"$f":"'Shawnee Tribe'!R15","v":34}]
[{"$f":"Slappers!A13","v":"Dawson Mercer"},"(SLP)",{"$f":"Slappers!R13","v":34}]
[{"$f":"Slappers!A8","v":"Timo Meier"},"(SLP)",{"$f":"Slappers!R8","v":34}]
[{"$f":"'Fantasy Hockey Club'!A47","v":"Evgeni Malkin"},"(FHC)",{"$f":"'Fantasy Hockey Club'!E47","v":33}]
[{"$f":"'Fantasy Hockey Club'!A7","v":"Elias Lindholm"},"(FHC)",{"$f":"'Fantasy Hockey Club'!R7","v":33}]
[{"$f":"'Grumpy Old Men'!A11","v":"Matt Coronato"},"(GOM)",{"$f":"'Grumpy Old Men'!R11","v":33}]
[{"$f":"'District 5'!A13","v":"Josh Doan"},"(DI5)",{"$f":"'District 5'!R13","v":33}]
[{"$f":"'Fantasy Hockey Club'!A15","v":"Pavel Zacha"},"(FHC)",{"$f":"'Fantasy Hockey Club'!R15","v":33}]
[{"$f":"'Just Chillin'!A7","v":"Anthony Mantha"},"(JCH)",{"$f":"'Just Chillin'!R7","v":32}]
[{"$f":"Highlanders!A8","v":"Jackson Blake"},"(HGL)",{"$f":"Highlanders!R8","v":31}]
[{"$f":"'Fantasy Hockey Club'!A11","v":"Anthony Cirelli"},"(FHC)",{"$f":"'Fantasy Hockey Club'!R11","v":31}]
[{"$f":"'Just Chillin'!A44","v":"Jack Roslovic"},"(JCH)",{"$f":"'Just Chillin'!E44","v":31}]
[{"$f":"Slappers!A9","v":"Jack Hughes "},"(SLP)",{"$f":"Slappers!R9","v":30}]
[{"$f":"'Grumpy Old Men'!A15","v":"Chris Kreider"},"(GOM)",{"$f":"'Grumpy Old Men'!R15","v":30}]
[{"$f":"Slappers!A15","v":"Logan Cooley"},"(SLP)",{"$f":"Slappers!R15","v":30}]
[{"$f":"'Just Chillin'!A14","v":"Patrick Kane"},"(JCH)",{"$f":"'Just Chillin'!R14","v":29}]
[{"$f":"'Shawnee Tribe'!A47","v":"Elias Pettersson"},"(SHW)",{"$f":"'Shawnee Tribe'!E47","v":29}]
[{"$f":"Highlanders!A5","v":"Brayden Point"},"(HGL)",{"$f":"Highlanders!R5","v":28}]
[{"$f":"'District 5'!A8","v":"Owen Tippett"},"(DI5)",{"$f":"'District 5'!R8","v":28}]
[{"$f":"'Damn Yankees'!A12","v":"Zach Hyman"},"(DYK)",{"$f":"'Damn Yankees'!R12","v":28}]
[{"$f":"'Just Chillin'!A13","v":"Anze Kopitar"},"(JCH)",{"$f":"'Just Chillin'!R13","v":26}]
[{"$f":"Riketorians!A10","v":"Vincent Trocheck"},"(RIK)",{"$f":"Riketorians!R10","v":26}]
[{"$f":"'Team LIRHL'!A13","v":"Brady Tkachuk"},"(LIR)",{"$f":"'Team LIRHL'!R13","v":25}]
[{"$f":"'Shawnee Tribe'!A9","v":"Gabriel Landeskog"},"(SHW)",{"$f":"'Shawnee Tribe'!R9","v":25}]
[{"$f":"'Shawnee Tribe'!A11","v":"Matvei Michkov"},"(SHW)",{"$f":"'Shawnee Tribe'!R11","v":24}]
[{"$f":"'Damn Yankees'!A47","v":"Shane Pinto"},"(DYK)",{"$f":"'Damn Yankees'!E47","v":24}]
[{"$f":"'Grumpy Old Men'!A14","v":"Emil Heineman"},"(GOM)",{"$f":"'Grumpy Old Men'!R14","v":22}]
[{"$f":"Slappers!A12","v":"Arseny Gritsyuk"},"(SLP)",{"$f":"Slappers!R12","v":19}]
[{"$f":"Slappers!A14","v":"Jordan Kyrou"},"(SLP)",{"$f":"Slappers!R14","v":18}]
[{"$f":"'Shawnee Tribe'!A13","v":"Rickard Rakell"},"(SHW)",{"$f":"'Shawnee Tribe'!R13","v":16}]
[{"$f":"'Damn Yankees'!A15","v":"Matt Duchene"},"(DYK)",{"$f":"'Damn Yankees'!R15","v":10}]
[{"$f":"'District 5'!A44","v":"Patrik Laine"},"(D5)",{"$f":"'District 5'!E44","v":1}]
[{"$f":"'Grumpy Old Men'!A44","v":"Aleksander Barkov"},"(GOM)",{"$f":"'Grumpy Old Men'!E44","v":0}]
[{"$f":"Highlanders!A44","v":"Matthew Tkachuk"},"(HGL)",{"$f":"Highlanders!E44","v":0}]